From mboxrd@z Thu Jan 1 00:00:00 1970 Return-Path: Received: from mails.dpdk.org (mails.dpdk.org [217.70.189.124]) by inbox.dpdk.org (Postfix) with ESMTP id 3425B46C00 for ; Thu, 24 Jul 2025 16:27:57 +0200 (CEST) Received: from mails.dpdk.org (localhost [127.0.0.1]) by mails.dpdk.org (Postfix) with ESMTP id 0A34240262; Thu, 24 Jul 2025 16:27:57 +0200 (CEST) Received: from mail-yw1-f225.google.com (mail-yw1-f225.google.com [209.85.128.225]) by mails.dpdk.org (Postfix) with ESMTP id D197840262 for ; Thu, 24 Jul 2025 16:27:55 +0200 (CEST) Received: by mail-yw1-f225.google.com with SMTP id 00721157ae682-710e344bbf9so10818037b3.2 for ; Thu, 24 Jul 2025 07:27:55 -0700 (PDT) DKIM-Signature: v=1; a=rsa-sha256; c=relaxed/relaxed; d=iol.unh.edu; s=unh-iol; t=1753367275; x=1753972075; darn=dpdk.org; h=references:in-reply-to:cc:to:from:subject:message-id:date:from:to :cc:subject:date:message-id:reply-to; bh=Jr22998/qtfSWMrE4/hPQvXUL6wB7DcrbpvpoZr+Vbs=; b=MPoOZmiaQdXCUcyo7h4GQMJ93gqRj4V4TRHqqeuxfIFAtfLzE6sLIV3q2e3p8w6FFa hrwr5EV3rZC1dnRpZpCVvEKpp1WJ/HFf7OmQ5Y+kAptTIqBVQbQqva1IT0wOhzCV3N/b mO6HAteHdyDw9DDRJvkdd/Cr78k3nNaHx04r0= X-Google-DKIM-Signature: v=1; a=rsa-sha256; c=relaxed/relaxed; d=1e100.net; s=20230601; t=1753367275; x=1753972075; h=references:in-reply-to:cc:to:from:subject:message-id:date :x-gm-message-state:from:to:cc:subject:date:message-id:reply-to; bh=Jr22998/qtfSWMrE4/hPQvXUL6wB7DcrbpvpoZr+Vbs=; b=CfC5e19h4UGvSvsJmZgzZSEWRXyj+GRtUG+07T5zyl6v7d7E9xBAgHS8MVTXMjeH8F hRGYucHYoJmh/S/lstdjqD4HHJdBk4sJP/rAo67jphBHVyqaEQo7Sm1IKMHcpou/jBD/ kbGvsXkPV5/uiD+O8V0U9sU+6eWuVeVAW1gfZWKn2dT1MCZC1RKoMgqPSXIPv1FMNL/B 63rf8XZNxApe83o9ilFMXs1DcXIw/60eMvDLMT/8bxQ4TR6cZdlu9LDb6SUyoV65NN5z 1YnS5i9aLHN7LYzmVnK0Tjcvwjzxj89Lvw7XJia7tVFPbP0Usz/YLWiRmIkv1FRexc4h 8JCA== X-Gm-Message-State: AOJu0YwBI/DYTZaH4xDXZumFoma/hiSK3h750l2E/PGcN9OAN9tuaVP/ NApAXNavTjDJCqtnLZHyZveGQ+OL7OxLaRAihaizynO5Vq8DbSeJuGmBOFbG87vXvzuHtb7cW10 ZZNdM37qN7CeGam0rIbt1TqIL9+hnBOXLLNEl07YYyodJ X-Gm-Gg: ASbGncvTWYBqNhf/8NUJ44HmZgU3IDwRwl7u33kV+RDdlEFBNV/Lnl8h5Ans3GDb+Qs oUTpSKPgNO5qIX+cBgZO7M2z2K/YZwWy8SE9U1+gssBAEqPk0voHew7Y2jg8mwhke7P3glghP+P alXSz0BXXUmWPgTd+bP/N9YYrTpqSOZV3kD4L7CgMFcQwFhzhXPTofrRhvdsY6dkpnxAXgMDApn U6LkpmpU+2saQIBQDGODLGbKE6hIu0nQWK0Xk3LrHk7lZF0eghTl6e4X5Lb75aLZpOWmdUqQPvC Rq09+WLK2DpI7VQO2RtYUxEjDCpOdZ5j5aATv01hngt327HCeEZ1b9pvxV0k/0GmB/puYOha X-Google-Smtp-Source: AGHT+IE484rRld7UtMpsP+46+9QN6Ldz+AMOjRcmi0IPIDs7wHKFwV/9qYmTSiYq0qEvnsGusAk61XkIX8Jv X-Received: by 2002:a05:690c:6d0c:b0:718:38bd:bb3d with SMTP id 00721157ae682-719b426a1fdmr97214937b3.40.1753367275142; Thu, 24 Jul 2025 07:27:55 -0700 (PDT) Received: from postal.iol.unh.edu (postal.iol.unh.edu. [132.177.123.84]) by smtp-relay.gmail.com with ESMTPS id 00721157ae682-719cb7c53cbsm1029057b3.24.2025.07.24.07.27.55 (version=TLS1_2 cipher=ECDHE-ECDSA-AES128-GCM-SHA256 bits=128/128); Thu, 24 Jul 2025 07:27:55 -0700 (PDT) X-Relaying-Domain: iol.unh.edu Date: Thu, 24 Jul 2025 07:27:55 -0700 (PDT) Message-ID: <688242eb.0d0a0220.b7443.51eeSMTPIN_ADDED_MISSING@mx.google.com> Received: from [172.21.0.3] (unknown [172.18.0.240]) by postal.iol.unh.edu (Postfix) with ESMTP id C628B6050A61; Thu, 24 Jul 2025 10:27:54 -0400 (EDT) Subject: |SUCCESS| pw155502 [PATCH] [v4] eal: fix uncheck lcore ID and lcore From: dpdklab@iol.unh.edu To: Test Report Cc: dpdk-test-reports@iol.unh.edu In-Reply-To: <20250724112551.2502389-1-huangdengdui@huawei.com> References: <20250724112551.2502389-1-huangdengdui@huawei.com> Content-Type: text/plain X-BeenThere: test-report@dpdk.org X-Mailman-Version: 2.1.29 Precedence: list List-Id: automatic DPDK test reports List-Unsubscribe: , List-Archive: List-Post: List-Help: List-Subscribe: , Errors-To: test-report-bounces@dpdk.org Test-Label: iol-unit-arm64-testing Test-Status: SUCCESS http://dpdk.org/patch/155502 _Testing PASS_ Submitter: Dengdui Huang Date: Thursday, July 24 2025 11:25:51 DPDK git baseline: Repo:dpdk Branch: master CommitID:e3183a6edafdc41bfd71de1517f9e9ec85eb1276 155502 --> testing pass Upstream job id: Generic-Unit-Test-DPDK#358154 Test environment and result as below: +------------------------------+--------------+---------------------------+------------------------------+----------------+ | Environment | lpm_autotest | cryptodev_sw_zuc_autotest | cryptodev_sw_snow3g_autotest | dpdk_unit_test | +==============================+==============+===========================+==============================+================+ | Ubuntu 20.04 | PASS | SKIPPED | SKIPPED | PASS | +------------------------------+--------------+---------------------------+------------------------------+----------------+ | Debian 12 (arm) | SKIPPED | PASS | PASS | SKIPPED | +------------------------------+--------------+---------------------------+------------------------------+----------------+ | CentOS Stream 10 | SKIPPED | SKIPPED | SKIPPED | PASS | +------------------------------+--------------+---------------------------+------------------------------+----------------+ | CentOS Stream 9 | SKIPPED | SKIPPED | SKIPPED | PASS | +------------------------------+--------------+---------------------------+------------------------------+----------------+ | Fedora Linux 40 | SKIPPED | SKIPPED | SKIPPED | PASS | +------------------------------+--------------+---------------------------+------------------------------+----------------+ | Debian GNU/Linux 12 | SKIPPED | SKIPPED | SKIPPED | PASS | +------------------------------+--------------+---------------------------+------------------------------+----------------+ | Fedora Linux 41 | SKIPPED | SKIPPED | SKIPPED | PASS | +------------------------------+--------------+---------------------------+------------------------------+----------------+ | Red Hat Enterprise Linux 9.5 | SKIPPED | SKIPPED | SKIPPED | PASS | +------------------------------+--------------+---------------------------+------------------------------+----------------+ | Ubuntu 24.04 | SKIPPED | SKIPPED | SKIPPED | PASS | +------------------------------+--------------+---------------------------+------------------------------+----------------+ | Ubuntu 22.04 | SKIPPED | SKIPPED | SKIPPED | PASS | +------------------------------+--------------+---------------------------+------------------------------+----------------+ Ubuntu 20.04 Kernel: 5.4 Compiler: gcc gcc (Ubuntu 9.4.0-1ubuntu1~20.04.2) 9.4.0 Debian 12 (arm) Kernel: Depends on container host Compiler: gcc (Debian 12.2.0-14) 12.2.0 CentOS Stream 10 Kernel: 5.4 Compiler: gcc gcc (GCC) 14.2.1 20250110 (Red Hat 14.2.1-8) CentOS Stream 9 Kernel: 5.4 Compiler: gcc gcc (GCC) 11.5.0 20240719 (Red Hat 11.5.0-7) Fedora Linux 40 Kernel: 5.4 Compiler: clang gcc (GCC) 14.2.1 20240912 (Red Hat 14.2.1-3) Debian GNU/Linux 12 Kernel: 5.4 Compiler: gcc gcc (Debian 12.2.0-14+deb12u1) 12.2.0 Fedora Linux 41 Kernel: 5.4 Compiler: clang gcc (GCC) 14.3.1 20250523 (Red Hat 14.3.1-1) Red Hat Enterprise Linux 9.5 Kernel: 5.4 Compiler: gcc gcc (GCC) 11.5.0 20240719 (Red Hat 11.5.0-2) Ubuntu 24.04 Kernel: 5.4 Compiler: gcc gcc (Ubuntu 13.3.0-6ubuntu2~24.04) 13.3.0 Ubuntu 22.04 Kernel: 5.4 Compiler: gcc gcc (Ubuntu 11.4.0-1ubuntu1~22.04) 11.4.0 To view detailed results, visit: https://lab.dpdk.org/results/dashboard/patchsets/33746/ UNH-IOL DPDK Community Lab To manage your email subscriptions, visit: https://lab.dpdk.org/results/dashboard/preferences/subscriptions/