From mboxrd@z Thu Jan 1 00:00:00 1970 Return-Path: Received: from mails.dpdk.org (mails.dpdk.org [217.70.189.124]) by inbox.dpdk.org (Postfix) with ESMTP id 51CAA46C00 for ; Thu, 24 Jul 2025 17:45:05 +0200 (CEST) Received: from mails.dpdk.org (localhost [127.0.0.1]) by mails.dpdk.org (Postfix) with ESMTP id 3607340262; Thu, 24 Jul 2025 17:45:05 +0200 (CEST) Received: from mail-pf1-f227.google.com (mail-pf1-f227.google.com [209.85.210.227]) by mails.dpdk.org (Postfix) with ESMTP id 1F2F440262 for ; Thu, 24 Jul 2025 17:45:04 +0200 (CEST) Received: by mail-pf1-f227.google.com with SMTP id d2e1a72fcca58-748e81d37a7so854032b3a.1 for ; Thu, 24 Jul 2025 08:45:04 -0700 (PDT) DKIM-Signature: v=1; a=rsa-sha256; c=relaxed/relaxed; d=iol.unh.edu; s=unh-iol; t=1753371903; x=1753976703; darn=dpdk.org; h=references:in-reply-to:cc:to:from:subject:message-id:date:from:to :cc:subject:date:message-id:reply-to; bh=kgXnPg3UHADCU1s+JabAWaxVgvCoKQriWB/HMHaVe+k=; b=VnvEzKL4MyQTA4LJhjk0KWhA5nmJRqVbYdxDnnItTpBqW4VQbvtAGNJYPcbR3MGoAn Fgb9IYD4leWsmB9f2jrHAWc6hH4EqfFWgQPnsRfLwPL/MmaZTKPAyZUXoUg9Ca+KqRnH yaa+6wqK53kE80xJ3Vj5G4CnZnrgcaGS+LA2A= X-Google-DKIM-Signature: v=1; a=rsa-sha256; c=relaxed/relaxed; d=1e100.net; s=20230601; t=1753371903; x=1753976703; h=references:in-reply-to:cc:to:from:subject:message-id:date :x-gm-message-state:from:to:cc:subject:date:message-id:reply-to; bh=kgXnPg3UHADCU1s+JabAWaxVgvCoKQriWB/HMHaVe+k=; b=httffq+NTlRBNBQnX2mBM5WjBADi4DVRh31rW1ldCvAGtMCF50GNldJcW3Bsd2YNRk iXjxs5I/hCuNNf39XWIDAmk1k4kDpWU6wQ7zqMSHcCFPKfR3KL7Mq2j1U8m/KtPDZMUF i8amS4kW66vg/BrTwtlt1gZ3GdVwuSJHM7sdjtCqo54VWIwDNQvUeDX3VLDyPcRWMxAX j7wzGEw6nn5TRfjaHvMKZXFpGJM57mT+MOB2DyJ0hH+Jvz6YJNqft9dUC4dv9jA8ZMTM wQAKag4fjmLJTGClcfId17sH0CXpdnkGzwba2vMvi6sPGlgNBx+ZWZk2aZaUKjspJzAb BpPg== X-Gm-Message-State: AOJu0YwJfJjDLgiCf1fLyt/aS/jtppWkep4uxNANHc0XQhsLFXsrWd2j K1IKPGdvrh/2Aoxvk5vnHQLcdNMvtjCHFwKSwgOhngEMwgrljdYBHdKFu9PPusrHainP2qKhtUa s6WkQjAt0CwvROOeG2OGt4hJE6hfmb6F+DozvSMW0u4sZ X-Gm-Gg: ASbGncuW9zIP79aPOX//hP9+rfsymc+kni02IaG879AtkdPLVj326mabeuhlFm5fzq1 r1a5reJGgcklIF0IbyVd9ojJFsQj7m8jmPXaRv68WWue8BTrUsXIeKFs0PPPEU1sAWa/hKwDfgF noo0HPV5vgYxNsZXzmUfWTT0N6uWTWiOk8acXGWjCDjycN6qQvxMZ1K8upgsnG36pqpPt2iNj9A 8NHwAytLnSwYbysjM5RZSvcWFKbdFIUhKIpnSJDolAd4tqP4Q4p9dOrKQiCQ1VP3oSj2V4WUadn Wq65ZIIvTmUb5a5+JTAFbLT4EJqCRC8HZ3BpkdlqeMeki1hjpHH0U4etN+PlKSGOBIDGY9E5 X-Google-Smtp-Source: AGHT+IHMQW1rirxxuSJEaZzXt2K/VPb87p0SItQvZNbeilrFTZXtfOsxbgUFgyVBc2XB0QjH+vF8lpG1YWcu X-Received: by 2002:a05:6a20:d80f:b0:234:10b7:f0ae with SMTP id adf61e73a8af0-23d4912e39emr13008625637.35.1753371903040; Thu, 24 Jul 2025 08:45:03 -0700 (PDT) Received: from postal.iol.unh.edu (postal.iol.unh.edu. [132.177.123.84]) by smtp-relay.gmail.com with ESMTPS id 41be03b00d2f7-b3f6c0e6915sm106371a12.17.2025.07.24.08.45.02 (version=TLS1_2 cipher=ECDHE-ECDSA-AES128-GCM-SHA256 bits=128/128); Thu, 24 Jul 2025 08:45:03 -0700 (PDT) X-Relaying-Domain: iol.unh.edu Date: Thu, 24 Jul 2025 08:45:03 -0700 (PDT) Message-ID: <688254ff.050a0220.94cf8.5486SMTPIN_ADDED_MISSING@mx.google.com> Received: from [172.21.0.2] (unknown [172.18.0.240]) by postal.iol.unh.edu (Postfix) with ESMTP id 83374604D420; Thu, 24 Jul 2025 11:45:02 -0400 (EDT) Subject: |SUCCESS| pw155502 [PATCH] [v4] eal: fix uncheck lcore ID and lcore From: dpdklab@iol.unh.edu To: Test Report Cc: dpdk-test-reports@iol.unh.edu In-Reply-To: <20250724112551.2502389-1-huangdengdui@huawei.com> References: <20250724112551.2502389-1-huangdengdui@huawei.com> Content-Type: text/plain X-BeenThere: test-report@dpdk.org X-Mailman-Version: 2.1.29 Precedence: list List-Id: automatic DPDK test reports List-Unsubscribe: , List-Archive: List-Post: List-Help: List-Subscribe: , Errors-To: test-report-bounces@dpdk.org Test-Label: iol-compile-arm64-testing Test-Status: SUCCESS http://dpdk.org/patch/155502 _Testing PASS_ Submitter: Dengdui Huang Date: Thursday, July 24 2025 11:25:51 DPDK git baseline: Repo:dpdk Branch: master CommitID:e3183a6edafdc41bfd71de1517f9e9ec85eb1276 155502 --> testing pass Upstream job id: Generic-DPDK-Compile-Meson#412049 Test environment and result as below: +------------------------------+--------------------+ | Environment | dpdk_meson_compile | +==============================+====================+ | Fedora Linux 40 | PASS | +------------------------------+--------------------+ | Ubuntu 20.04 | PASS | +------------------------------+--------------------+ | Fedora Linux 41 | PASS | +------------------------------+--------------------+ | Debian GNU/Linux 12 | PASS | +------------------------------+--------------------+ | Ubuntu 22.04 | PASS | +------------------------------+--------------------+ | Ubuntu 24.04 | PASS | +------------------------------+--------------------+ | CentOS Stream 9 | PASS | +------------------------------+--------------------+ | CentOS Stream 10 | PASS | +------------------------------+--------------------+ | Red Hat Enterprise Linux 9.5 | PASS | +------------------------------+--------------------+ Fedora Linux 40 Kernel: 5.4 Compiler: clang gcc (GCC) 14.2.1 20240912 (Red Hat 14.2.1-3) Ubuntu 20.04 Kernel: 5.15 Compiler: aarch64-linux-gnu-gcc gcc (Ubuntu 9.4.0-1ubuntu1~20.04.2) 9.4.0 Fedora Linux 41 Kernel: 5.4 Compiler: clang gcc (GCC) 14.3.1 20250523 (Red Hat 14.3.1-1) Debian GNU/Linux 12 Kernel: 5.4 Compiler: gcc gcc (Debian 12.2.0-14+deb12u1) 12.2.0 Ubuntu 22.04 Kernel: 5.4 Compiler: gcc gcc (Ubuntu 11.4.0-1ubuntu1~22.04) 11.4.0 Ubuntu 24.04 Kernel: 5.4 Compiler: gcc gcc (Ubuntu 13.3.0-6ubuntu2~24.04) 13.3.0 CentOS Stream 9 Kernel: 5.4 Compiler: gcc gcc (GCC) 11.5.0 20240719 (Red Hat 11.5.0-7) CentOS Stream 10 Kernel: 5.4 Compiler: gcc gcc (GCC) 14.2.1 20250110 (Red Hat 14.2.1-8) Red Hat Enterprise Linux 9.5 Kernel: 5.4 Compiler: gcc gcc (GCC) 11.5.0 20240719 (Red Hat 11.5.0-2) To view detailed results, visit: https://lab.dpdk.org/results/dashboard/patchsets/33746/ UNH-IOL DPDK Community Lab To manage your email subscriptions, visit: https://lab.dpdk.org/results/dashboard/preferences/subscriptions/