From mboxrd@z Thu Jan 1 00:00:00 1970 Return-Path: Received: from mails.dpdk.org (mails.dpdk.org [217.70.189.124]) by inbox.dpdk.org (Postfix) with ESMTP id 962EC46C0C for ; Fri, 25 Jul 2025 13:23:01 +0200 (CEST) Received: from mails.dpdk.org (localhost [127.0.0.1]) by mails.dpdk.org (Postfix) with ESMTP id 779D2400D5; Fri, 25 Jul 2025 13:23:01 +0200 (CEST) Received: from mail-pj1-f99.google.com (mail-pj1-f99.google.com [209.85.216.99]) by mails.dpdk.org (Postfix) with ESMTP id 7D3D7400D5 for ; Fri, 25 Jul 2025 13:23:00 +0200 (CEST) Received: by mail-pj1-f99.google.com with SMTP id 98e67ed59e1d1-313a188174fso2447888a91.1 for ; Fri, 25 Jul 2025 04:23:00 -0700 (PDT) DKIM-Signature: v=1; a=rsa-sha256; c=relaxed/relaxed; d=iol.unh.edu; s=unh-iol; t=1753442579; x=1754047379; darn=dpdk.org; h=references:in-reply-to:cc:to:from:subject:message-id:date:from:to :cc:subject:date:message-id:reply-to; bh=VIEDDd4HA5/R5f709JiDCe9Rp3vhflsVrZBlqQye9NI=; b=cy1e6YhlbY9QI2RC1/ZToIRAPqxWKiCBjY8Q6UkhpRx1lRMTxp5V/pr55KWom9kNag hoAwn2r/RxO86Fz5k8EfhkP/g+JHrvvlH5fWnNn/xffU3rXh4qiBN0f5B+rlOIJLrUk/ SamtUjKPCwqA/EN7/RWuYtbH7J3rnllZqc7D0= X-Google-DKIM-Signature: v=1; a=rsa-sha256; c=relaxed/relaxed; d=1e100.net; s=20230601; t=1753442579; x=1754047379; h=references:in-reply-to:cc:to:from:subject:message-id:date :x-gm-message-state:from:to:cc:subject:date:message-id:reply-to; bh=VIEDDd4HA5/R5f709JiDCe9Rp3vhflsVrZBlqQye9NI=; b=uEzpUYlJNhWkGgC8yDcWny88VQ2kdgeAjN2nYBgQS1j9oiXXheg3l0YqIyZRXpIXDx FBAByUGWwPc7BimkSUHx+utzfBeHj6kF5kccGgftTNdSZZRevxag58NmlfrzB1c0tFiz haV8ikB5j7d/AsXZpAoIefssG0lO72hwSlZm7iKDm+FojJWyzuddnALteha3dOt+ciDI S9Bb7I7qsQNpKYGdv9YoaO2XFpGbJDivEooCK1v0+mSULm0NikCpsxcAJqapWYDME3XN 6/HuBTIwFvXtYSvl8ZiV3GdcuxoAC86TGJYJmh1rD4LSGBjAtd2OSZNgYH7QGUSGYVIj x0dg== X-Gm-Message-State: AOJu0YxLAOIZLo0ujiFNPSwH19P1Y/SF3dPmHzhIbG0MIlZrhSMDP7WE j3jzuiAyUlgJiC98vNjhaCxfw02puM3Gvf0B7DOoRl1qpRIwnetDlRMn5BbECbyV01r+N7N+SR6 fi1DBPW0xA8elJKwaaPqKsLV8IcvhYnuUEberHUSxV9QI X-Gm-Gg: ASbGncuvHBODyqy+BrSul6BnJuYSFyi/jAhWuJSYpqfnKJQQRhnx+PeEMsX/3bDDROu cq60aJTae11w1A7UwjZkC4aQmSqVZP3ztrXo0Sodn9Ec+DB8jq2DSbWZEb1P9IumpTpB4itbp+u dswD+KMMmSeNnRy1r1jk4jyYyIC/VPaJDDiqAl+ZGeozC/3+erY4KdsCGzLLWJr68Nmp1R2lz3P RqqKPPr2h+yRT1JT6jG3PQyv3SPsrr/1DHvxW+UDBwZPOfuGxga+MEvgAfeKedmhmnxy20hQNJs lGSZ5c6NqE8mH0uzxZFsJbx+TiDzk2O8/LcerYRjFD233Emtzghw2rAQzOtSOIPT/jozcpRc X-Google-Smtp-Source: AGHT+IFS04L+AvxO/PDfGvJ4nQKdqSmTqnlVjbofoMypnh7L2UrxHSBrifI8AikapjgbxA6LJ7EVe28QqRqr X-Received: by 2002:a17:90b:53c8:b0:315:9624:37db with SMTP id 98e67ed59e1d1-31e765aac96mr2603962a91.3.1753442579443; Fri, 25 Jul 2025 04:22:59 -0700 (PDT) Received: from postal.iol.unh.edu (postal.iol.unh.edu. [132.177.123.84]) by smtp-relay.gmail.com with ESMTPS id 98e67ed59e1d1-31e66353fcbsm179973a91.8.2025.07.25.04.22.59 (version=TLS1_2 cipher=ECDHE-ECDSA-AES128-GCM-SHA256 bits=128/128); Fri, 25 Jul 2025 04:22:59 -0700 (PDT) X-Relaying-Domain: iol.unh.edu Date: Fri, 25 Jul 2025 04:22:59 -0700 (PDT) Message-ID: <68836913.170a0220.14abac.9112SMTPIN_ADDED_MISSING@mx.google.com> Received: from [172.21.0.3] (unknown [172.18.0.240]) by postal.iol.unh.edu (Postfix) with ESMTP id ABA8C6051830; Fri, 25 Jul 2025 07:22:58 -0400 (EDT) Subject: |SUCCESS| pw155505 [PATCH] acl: fix the value of the trans table From: dpdklab@iol.unh.edu To: Test Report Cc: dpdk-test-reports@iol.unh.edu In-Reply-To: <20250725102151.6677-1-chcchc88@163.com> References: <20250725102151.6677-1-chcchc88@163.com> Content-Type: text/plain X-BeenThere: test-report@dpdk.org X-Mailman-Version: 2.1.29 Precedence: list List-Id: automatic DPDK test reports List-Unsubscribe: , List-Archive: List-Post: List-Help: List-Subscribe: , Errors-To: test-report-bounces@dpdk.org Test-Label: iol-unit-amd64-testing Test-Status: SUCCESS http://dpdk.org/patch/155505 _Testing PASS_ Submitter: Huichao Cai Date: Friday, July 25 2025 10:21:51 DPDK git baseline: Repo:dpdk Branch: master CommitID:e3183a6edafdc41bfd71de1517f9e9ec85eb1276 155505 --> testing pass Upstream job id: Generic-Unit-Test-DPDK#358326 Test environment and result as below: +-------------------------------+----------------+ | Environment | dpdk_unit_test | +===============================+================+ | Debian GNU/Linux 12 | PASS | +-------------------------------+----------------+ | CentOS Stream 10 | PASS | +-------------------------------+----------------+ | Fedora Linux 40 | PASS | +-------------------------------+----------------+ | CentOS Stream 9 | PASS | +-------------------------------+----------------+ | Fedora Linux 41 | PASS | +-------------------------------+----------------+ | Red Hat Enterprise Linux 9.5 | PASS | +-------------------------------+----------------+ | Ubuntu 20.04 | PASS | +-------------------------------+----------------+ | Red Hat Enterprise Linux 8.10 | PASS | +-------------------------------+----------------+ | Ubuntu 22.04 | PASS | +-------------------------------+----------------+ | Ubuntu 24.04 | PASS | +-------------------------------+----------------+ | Windows Server 2022 | PASS | +-------------------------------+----------------+ Debian GNU/Linux 12 Kernel: 5.15 Compiler: gcc gcc (Debian 12.2.0-14+deb12u1) 12.2.0 CentOS Stream 10 Kernel: 5.15 Compiler: gcc gcc (GCC) 14.2.1 20250110 (Red Hat 14.2.1-8) Fedora Linux 40 Kernel: 5.15 Compiler: gcc gcc (GCC) 14.2.1 20240912 (Red Hat 14.2.1-3) CentOS Stream 9 Kernel: 5.15 Compiler: gcc gcc (GCC) 11.5.0 20240719 (Red Hat 11.5.0-7) Fedora Linux 41 Kernel: 5.15 Compiler: gcc gcc (GCC) 14.3.1 20250523 (Red Hat 14.3.1-1) Red Hat Enterprise Linux 9.5 Kernel: 5.15 Compiler: gcc gcc (GCC) 11.5.0 20240719 (Red Hat 11.5.0-2) Ubuntu 20.04 Kernel: 5.15 Compiler: gcc gcc (Ubuntu 9.4.0-1ubuntu1~20.04.2) 9.4.0 Red Hat Enterprise Linux 8.10 Kernel: 5.15 Compiler: gcc gcc (GCC) 8.5.0 20210514 (Red Hat 8.5.0-22) Ubuntu 22.04 Kernel: 5.15 Compiler: gcc gcc (Ubuntu 11.4.0-1ubuntu1~22.04) 11.4.0 Ubuntu 24.04 Kernel: 5.15 Compiler: gcc gcc (Ubuntu 13.3.0-6ubuntu2~24.04) 13.3.0 Windows Server 2022 Kernel: 10.0.20348.2031 Compiler: clang 15.0.7, gcc 14.1.0 (MinGW), and MSVC VS 19.39.33521 To view detailed results, visit: https://lab.dpdk.org/results/dashboard/patchsets/33749/ UNH-IOL DPDK Community Lab To manage your email subscriptions, visit: https://lab.dpdk.org/results/dashboard/preferences/subscriptions/