From mboxrd@z Thu Jan 1 00:00:00 1970 Return-Path: Received: from mails.dpdk.org (mails.dpdk.org [217.70.189.124]) by inbox.dpdk.org (Postfix) with ESMTP id 4EFC046C0E for ; Fri, 25 Jul 2025 16:36:21 +0200 (CEST) Received: from mails.dpdk.org (localhost [127.0.0.1]) by mails.dpdk.org (Postfix) with ESMTP id 4B587400D5; Fri, 25 Jul 2025 16:36:21 +0200 (CEST) Received: from mail-oa1-f99.google.com (mail-oa1-f99.google.com [209.85.160.99]) by mails.dpdk.org (Postfix) with ESMTP id 037F6400D5 for ; Fri, 25 Jul 2025 16:36:20 +0200 (CEST) Received: by mail-oa1-f99.google.com with SMTP id 586e51a60fabf-306ab1b63fdso1140697fac.1 for ; Fri, 25 Jul 2025 07:36:19 -0700 (PDT) DKIM-Signature: v=1; a=rsa-sha256; c=relaxed/relaxed; d=iol.unh.edu; s=unh-iol; t=1753454179; x=1754058979; darn=dpdk.org; h=references:in-reply-to:cc:to:from:subject:message-id:date:from:to :cc:subject:date:message-id:reply-to; bh=sr5WckfXg/MaKJhM1JWp48l3dHghXe/92c/Q6rp5tBY=; b=ZMLcu0ZU+MwWzvwd70ShKNxJeFXcWYjZgV3SYttOxj+Xm2PJJx29uTrnBqjpQJ8NLg hHvdqp54kSBdjjO0viavnSEkobCZpnYbVNayzMpSioEnT6lx5QUYvcWvJpxljQfKxXi1 FxjXBSwI58R4b16AhwleOwHSEnNENT5uv/xWg= X-Google-DKIM-Signature: v=1; a=rsa-sha256; c=relaxed/relaxed; d=1e100.net; s=20230601; t=1753454179; x=1754058979; h=references:in-reply-to:cc:to:from:subject:message-id:date :x-gm-message-state:from:to:cc:subject:date:message-id:reply-to; bh=sr5WckfXg/MaKJhM1JWp48l3dHghXe/92c/Q6rp5tBY=; b=X8VlvJODxa32oW4UgDhF5+qErfVYkCgJyk6sviD7EtjsmCEI4Cmu289CJe3To8jnfE NX98wpE7ypebyczq1VWtqktcj8HOHp835L7t5O73g3rd9ltv8E0c5x8qgVWiAbv+vzca Keku/LtWjK0Q/fR2y7ptcQd6Zqwmj1TDUeJds+GW4mhCtpAm9Xmc6L7elosrTla7ppvf swqJfhJtC+3xYNvUMdQgfqT3rlbnBMG7fvZLenZmvMjfoYcGEYfJ8qkdufKx+ZiZ9eOC OOfU0UEGH2I2jeWyjAYNZynxhK+cJFyTScnRQrsje7osv8xuVAyO3tGcbd7lH4u/Nt0P /O6w== X-Gm-Message-State: AOJu0Yzz32GE14QJZlOV71rGCMFVYLKLpAwic7XS7me37fle2ipHieR9 z3MX1RI/uwUCPSsjzZcJXUoe/bHocCgzctXlL9/BrUJX0rcF4uHyYwDVkiYdaozCL5jskYW5/GA WtWKu8Ce16Pd6GS9gS6lEyIulm7ORuEIGUtYZehf/bg== X-Gm-Gg: ASbGncuYWd50xrGNP68e7F7PntECh2RCAVD4run6G4h2vN4gBwG2lN/QPnRziJhcQLb 8/0LHPERWQ+81wcYuTbg6nYuFJAwB6Qd/iVH3dLHeUZi67WQY2GZPHOYpt9AFbJNNLswNjxCoBj bhxI24tt0LaOcl/yIVrGSWAHw5Tnk40Jigjf6PcRuj3vum6lxf365pu85QBsGJommvWw0NLXDaO G3i0HqVdc6x1Awrzt6FmmO61QsXy/t0yVoMut5avSRLWltyBNWBya9VESdhpwWr/RKzWVCXakkd hLnszcb+7Cc4p4Rpd5eJX6m3g8xa/HoPZGmAqCr/VLunJIT9bZ30HtcXz0SAlPktS77t6ul1 X-Google-Smtp-Source: AGHT+IGA7uSN8cx/BO70zd7Z5/wqNo/iJ3DEIZfY2RSvJUcxEJNJY1N1urQdc7fE27CKdVQs8F0Zvknk/ggM X-Received: by 2002:a05:6870:5712:b0:306:b658:eb61 with SMTP id 586e51a60fabf-307021d64a5mr1224536fac.20.1753454178979; Fri, 25 Jul 2025 07:36:18 -0700 (PDT) Received: from postal.iol.unh.edu (postal.iol.unh.edu. [132.177.123.84]) by smtp-relay.gmail.com with ESMTPS id 586e51a60fabf-306e1cf04b5sm305173fac.30.2025.07.25.07.36.18 (version=TLS1_2 cipher=ECDHE-ECDSA-AES128-GCM-SHA256 bits=128/128); Fri, 25 Jul 2025 07:36:18 -0700 (PDT) X-Relaying-Domain: iol.unh.edu Date: Fri, 25 Jul 2025 07:36:18 -0700 (PDT) Message-ID: <68839662.050a0220.1d2544.15f1SMTPIN_ADDED_MISSING@mx.google.com> Received: from [172.21.0.3] (unknown [172.18.0.240]) by postal.iol.unh.edu (Postfix) with ESMTP id 7D10F6051830; Fri, 25 Jul 2025 10:36:18 -0400 (EDT) Subject: |SUCCESS| pw155533 [PATCH] [v4] lib/ethdev: fix segfault in secondar From: dpdklab@iol.unh.edu To: Test Report Cc: dpdk-test-reports@iol.unh.edu In-Reply-To: <20250725125526.2340233-1-14pwcse1224@uetpeshawar.edu.pk> References: <20250725125526.2340233-1-14pwcse1224@uetpeshawar.edu.pk> Content-Type: text/plain X-BeenThere: test-report@dpdk.org X-Mailman-Version: 2.1.29 Precedence: list List-Id: automatic DPDK test reports List-Unsubscribe: , List-Archive: List-Post: List-Help: List-Subscribe: , Errors-To: test-report-bounces@dpdk.org Test-Label: iol-unit-arm64-testing Test-Status: SUCCESS http://dpdk.org/patch/155533 _Testing PASS_ Submitter: Khadem Ullah <14pwcse1224@uetpeshawar.edu.pk> Date: Friday, July 25 2025 12:55:26 DPDK git baseline: Repo:dpdk Branch: master CommitID:899bc9e500ccc718c12b1df4b920dcf0cbeb6265 155533 --> testing pass Upstream job id: Generic-Unit-Test-DPDK#358377 Test environment and result as below: +------------------------------+--------------+------------------------------+---------------------------+----------------+ | Environment | lpm_autotest | cryptodev_sw_snow3g_autotest | cryptodev_sw_zuc_autotest | dpdk_unit_test | +==============================+==============+==============================+===========================+================+ | Ubuntu 20.04 | PASS | SKIPPED | SKIPPED | PASS | +------------------------------+--------------+------------------------------+---------------------------+----------------+ | Debian 12 (arm) | SKIPPED | PASS | PASS | SKIPPED | +------------------------------+--------------+------------------------------+---------------------------+----------------+ | CentOS Stream 10 | SKIPPED | SKIPPED | SKIPPED | PASS | +------------------------------+--------------+------------------------------+---------------------------+----------------+ | CentOS Stream 9 | SKIPPED | SKIPPED | SKIPPED | PASS | +------------------------------+--------------+------------------------------+---------------------------+----------------+ | Debian GNU/Linux 12 | SKIPPED | SKIPPED | SKIPPED | PASS | +------------------------------+--------------+------------------------------+---------------------------+----------------+ | Fedora Linux 41 | SKIPPED | SKIPPED | SKIPPED | PASS | +------------------------------+--------------+------------------------------+---------------------------+----------------+ | Fedora Linux 40 | SKIPPED | SKIPPED | SKIPPED | PASS | +------------------------------+--------------+------------------------------+---------------------------+----------------+ | Red Hat Enterprise Linux 9.5 | SKIPPED | SKIPPED | SKIPPED | PASS | +------------------------------+--------------+------------------------------+---------------------------+----------------+ | Ubuntu 22.04 | SKIPPED | SKIPPED | SKIPPED | PASS | +------------------------------+--------------+------------------------------+---------------------------+----------------+ | Ubuntu 24.04 | SKIPPED | SKIPPED | SKIPPED | PASS | +------------------------------+--------------+------------------------------+---------------------------+----------------+ Ubuntu 20.04 Kernel: 5.4 Compiler: gcc gcc (Ubuntu 9.4.0-1ubuntu1~20.04.2) 9.4.0 Debian 12 (arm) Kernel: Depends on container host Compiler: gcc (Debian 12.2.0-14) 12.2.0 CentOS Stream 10 Kernel: 5.4 Compiler: gcc gcc (GCC) 14.2.1 20250110 (Red Hat 14.2.1-8) CentOS Stream 9 Kernel: 5.4 Compiler: gcc gcc (GCC) 11.5.0 20240719 (Red Hat 11.5.0-7) Debian GNU/Linux 12 Kernel: 5.4 Compiler: gcc gcc (Debian 12.2.0-14+deb12u1) 12.2.0 Fedora Linux 41 Kernel: 5.4 Compiler: clang gcc (GCC) 14.3.1 20250523 (Red Hat 14.3.1-1) Fedora Linux 40 Kernel: 5.4 Compiler: clang gcc (GCC) 14.2.1 20240912 (Red Hat 14.2.1-3) Red Hat Enterprise Linux 9.5 Kernel: 5.4 Compiler: gcc gcc (GCC) 11.5.0 20240719 (Red Hat 11.5.0-2) Ubuntu 22.04 Kernel: 5.4 Compiler: gcc gcc (Ubuntu 11.4.0-1ubuntu1~22.04) 11.4.0 Ubuntu 24.04 Kernel: 5.4 Compiler: gcc gcc (Ubuntu 13.3.0-6ubuntu2~24.04) 13.3.0 To view detailed results, visit: https://lab.dpdk.org/results/dashboard/patchsets/33752/ UNH-IOL DPDK Community Lab To manage your email subscriptions, visit: https://lab.dpdk.org/results/dashboard/preferences/subscriptions/