From mboxrd@z Thu Jan 1 00:00:00 1970 Return-Path: Received: from mails.dpdk.org (mails.dpdk.org [217.70.189.124]) by inbox.dpdk.org (Postfix) with ESMTP id C528D46C0E for ; Fri, 25 Jul 2025 16:40:29 +0200 (CEST) Received: from mails.dpdk.org (localhost [127.0.0.1]) by mails.dpdk.org (Postfix) with ESMTP id 9F8E2400D5; Fri, 25 Jul 2025 16:40:29 +0200 (CEST) Received: from mail-pj1-f99.google.com (mail-pj1-f99.google.com [209.85.216.99]) by mails.dpdk.org (Postfix) with ESMTP id 4B338400D5 for ; Fri, 25 Jul 2025 16:40:28 +0200 (CEST) Received: by mail-pj1-f99.google.com with SMTP id 98e67ed59e1d1-3135f3511bcso1900220a91.0 for ; Fri, 25 Jul 2025 07:40:28 -0700 (PDT) DKIM-Signature: v=1; a=rsa-sha256; c=relaxed/relaxed; d=iol.unh.edu; s=unh-iol; t=1753454427; x=1754059227; darn=dpdk.org; h=references:in-reply-to:cc:to:from:subject:message-id:date:from:to :cc:subject:date:message-id:reply-to; bh=Je7YyTqS39NmxFtAABksU4tYNR7qcaRXtCBHPPswBQk=; b=ATzeNsyDpoTcyZ9l8xKiBA1A7yKVy6noSixk7zHNky7fj/xTg3i73aTvJONhOuFUub 7l+V/9KkCvKDzTyB+5hg2E8LSW/W6sk6DFACVKmeJ//gYPrlCPk/bIoP+48jbCIx63Pe ZTexj2r4diiEj7wGnkRMRIk3XpaKsoMQ8/eRk= X-Google-DKIM-Signature: v=1; a=rsa-sha256; c=relaxed/relaxed; d=1e100.net; s=20230601; t=1753454427; x=1754059227; h=references:in-reply-to:cc:to:from:subject:message-id:date :x-gm-message-state:from:to:cc:subject:date:message-id:reply-to; bh=Je7YyTqS39NmxFtAABksU4tYNR7qcaRXtCBHPPswBQk=; b=f6GDRBHf8VB7dLa84T9aDJ9rPMvvhjtOlvkMvmP9CPFsEoTE/S1zVup3nPjX0c6f2K QQnxl2GvGj6sXVO90OOQEFK0Hsh+HqjqfUOIduurFqRAhG3zMBUJY3iQfieUyDjdf7mB XoQJsJgJ2mwTm1wpHFdkRzCzcUOi5rCtllTgbWR4yK1R2romby0m8vuuq99qqxPqqfVk mPuz2QG0jg1t5wXuF6hKQovQfwZ7uAcqLYPPTR1Wf1GZPqUm6FnK9A+UKuaQDyQgBV+p QPRpLycweDuzXioyNiZgAKqADGQEb36AUtqT10sq4GB5L4Z44D/sV8BuL/5CFAWFtIRe GMWA== X-Gm-Message-State: AOJu0YzG9e9DGdHiwDVOf7WjjCCZHyUKP/s011Ik3jFwjs2P3hZqgmK+ Rbe3LkFEskeNJ3qsB5XqMkE3zFizINcHfTAY/qSWf0XAwWEWznF3xCKhm0Gosu6ms6twjM/RT65 XjiWoezfO+p+Yaw+8bxgTnk1/kFxlyESiktH+j8HQUKq4 X-Gm-Gg: ASbGncu2MvpJGr1wZnwuqvU5Vk2CMdoeRRvWw6jQTcO2kTJmpXImOAycJ8MHzGNQL4c Qu3v6GlNVtjgC6HKH5/QGI4iFM6qvv/m+Hz+YfcxkTfHWzt+OlqTXAQFhJnoyFhYfkILNot8qnv mezvworYUGH0dYshNX++kdQZ7xzMcitlteZR/ExaxGqBlPkDm5fYYuB9Q7SdvdbE7JZxGxp2bkI rqlt6gocDWouibEnR4pSSGlYtUm37QmG+3ysOYjoqkos/j78L+1i32aq9MOi7gK8DWpEQwbV9XC Ai7sz0dcQq5XA5ZUfuOZ/y6whHn1lMiAADU2Gv8TSknaqhAgRFbs3Shg3uBDf7O4hgYGSVWT X-Google-Smtp-Source: AGHT+IEg0m0Geamnsph4NUvZd6tHs4tjkNL6343genHLosD1uw6Ie2QqkWZvFM6LvyOSYf/R75P2/thSktyL X-Received: by 2002:a17:90b:4ece:b0:312:e279:9ccf with SMTP id 98e67ed59e1d1-31e7787125emr3012923a91.5.1753454427406; Fri, 25 Jul 2025 07:40:27 -0700 (PDT) Received: from postal.iol.unh.edu (postal.iol.unh.edu. [132.177.123.84]) by smtp-relay.gmail.com with ESMTPS id 98e67ed59e1d1-31e7237e1c5sm110004a91.0.2025.07.25.07.40.27 (version=TLS1_2 cipher=ECDHE-ECDSA-AES128-GCM-SHA256 bits=128/128); Fri, 25 Jul 2025 07:40:27 -0700 (PDT) X-Relaying-Domain: iol.unh.edu Date: Fri, 25 Jul 2025 07:40:27 -0700 (PDT) Message-ID: <6883975b.170a0220.11c177.5d53SMTPIN_ADDED_MISSING@mx.google.com> Received: from [172.21.0.3] (unknown [172.18.0.240]) by postal.iol.unh.edu (Postfix) with ESMTP id A2F9A6051830; Fri, 25 Jul 2025 10:40:26 -0400 (EDT) Subject: |SUCCESS| pw155505 [PATCH] acl: fix the value of the trans table From: dpdklab@iol.unh.edu To: Test Report Cc: dpdk-test-reports@iol.unh.edu In-Reply-To: <20250725102151.6677-1-chcchc88@163.com> References: <20250725102151.6677-1-chcchc88@163.com> Content-Type: text/plain X-BeenThere: test-report@dpdk.org X-Mailman-Version: 2.1.29 Precedence: list List-Id: automatic DPDK test reports List-Unsubscribe: , List-Archive: List-Post: List-Help: List-Subscribe: , Errors-To: test-report-bounces@dpdk.org Test-Label: iol-compile-arm64-testing Test-Status: SUCCESS http://dpdk.org/patch/155505 _Testing PASS_ Submitter: Huichao Cai Date: Friday, July 25 2025 10:21:51 DPDK git baseline: Repo:dpdk Branch: master CommitID:e3183a6edafdc41bfd71de1517f9e9ec85eb1276 155505 --> testing pass Upstream job id: Generic-DPDK-Compile-Meson#412270 Test environment and result as below: +------------------------------+--------------------+ | Environment | dpdk_meson_compile | +==============================+====================+ | Red Hat Enterprise Linux 9.5 | PASS | +------------------------------+--------------------+ | Ubuntu 20.04 | PASS | +------------------------------+--------------------+ | Debian GNU/Linux 12 | PASS | +------------------------------+--------------------+ | Fedora Linux 40 | PASS | +------------------------------+--------------------+ | Fedora Linux 41 | PASS | +------------------------------+--------------------+ | Ubuntu 24.04 | PASS | +------------------------------+--------------------+ | CentOS Stream 9 | PASS | +------------------------------+--------------------+ | Ubuntu 22.04 | PASS | +------------------------------+--------------------+ | CentOS Stream 10 | PASS | +------------------------------+--------------------+ Red Hat Enterprise Linux 9.5 Kernel: 5.4 Compiler: gcc gcc (GCC) 11.5.0 20240719 (Red Hat 11.5.0-2) Ubuntu 20.04 Kernel: 5.15 Compiler: aarch64-linux-gnu-gcc gcc (Ubuntu 9.4.0-1ubuntu1~20.04.2) 9.4.0 Debian GNU/Linux 12 Kernel: 5.4 Compiler: gcc gcc (Debian 12.2.0-14+deb12u1) 12.2.0 Fedora Linux 40 Kernel: 5.4 Compiler: gcc gcc (GCC) 14.2.1 20240912 (Red Hat 14.2.1-3) Fedora Linux 41 Kernel: 5.4 Compiler: gcc gcc (GCC) 14.3.1 20250523 (Red Hat 14.3.1-1) Ubuntu 24.04 Kernel: 5.4 Compiler: gcc gcc (Ubuntu 13.3.0-6ubuntu2~24.04) 13.3.0 CentOS Stream 9 Kernel: 5.4 Compiler: gcc gcc (GCC) 11.5.0 20240719 (Red Hat 11.5.0-7) Ubuntu 22.04 Kernel: 5.4 Compiler: gcc gcc (Ubuntu 11.4.0-1ubuntu1~22.04) 11.4.0 CentOS Stream 10 Kernel: 5.4 Compiler: gcc gcc (GCC) 14.2.1 20250110 (Red Hat 14.2.1-8) To view detailed results, visit: https://lab.dpdk.org/results/dashboard/patchsets/33749/ UNH-IOL DPDK Community Lab To manage your email subscriptions, visit: https://lab.dpdk.org/results/dashboard/preferences/subscriptions/