From mboxrd@z Thu Jan 1 00:00:00 1970 Return-Path: Received: from mails.dpdk.org (mails.dpdk.org [217.70.189.124]) by inbox.dpdk.org (Postfix) with ESMTP id BADC446C0E for ; Fri, 25 Jul 2025 16:40:32 +0200 (CEST) Received: from mails.dpdk.org (localhost [127.0.0.1]) by mails.dpdk.org (Postfix) with ESMTP id AB6BA400D5; Fri, 25 Jul 2025 16:40:32 +0200 (CEST) Received: from mail-yw1-f226.google.com (mail-yw1-f226.google.com [209.85.128.226]) by mails.dpdk.org (Postfix) with ESMTP id 45B51402E0 for ; Fri, 25 Jul 2025 16:40:30 +0200 (CEST) Received: by mail-yw1-f226.google.com with SMTP id 00721157ae682-71840959355so21545187b3.1 for ; Fri, 25 Jul 2025 07:40:30 -0700 (PDT) DKIM-Signature: v=1; a=rsa-sha256; c=relaxed/relaxed; d=iol.unh.edu; s=unh-iol; t=1753454429; x=1754059229; darn=dpdk.org; h=references:in-reply-to:cc:to:from:subject:message-id:date:from:to :cc:subject:date:message-id:reply-to; bh=ODNo2ZXep4i8oKS/LnzMVUi8KGwYjNApHT8KBcLdcGE=; b=goc06hIMzsd6r1LOBe67lsjI3w+EKtl9VDJ3SBuz7pmyMPPdJKiDDBZpL33/yBuUL9 58Qc3SwbmJ/YBGMhGXc1fF/Upkx5i8OR2//ARLCT8K97NEQMOD/frVK5xDYsQQhHXKZr ckRXjTKYQCM4blgP/2Ji7HkcKYd4dDOnainRA= X-Google-DKIM-Signature: v=1; a=rsa-sha256; c=relaxed/relaxed; d=1e100.net; s=20230601; t=1753454429; x=1754059229; h=references:in-reply-to:cc:to:from:subject:message-id:date :x-gm-message-state:from:to:cc:subject:date:message-id:reply-to; bh=ODNo2ZXep4i8oKS/LnzMVUi8KGwYjNApHT8KBcLdcGE=; b=VfgOzjiBHHpItsG6pY7J7H7NCwhOl1ugsb7NT8mKNmbbqBMU/VZcz/VN/zUbbZABjF t9lpBNuust06uZ/s9bwumXCLjqMPOnuoI7e7vSqnv7clXWiYZl3qrwss0G7g3l9LFnlr /zoFNU6+/29yMiBJ7kq3DxqLvqeqne40KsH3le8fQ/+UfRsPNRbzHazCZFJzOeK3YSNs +Om9/7WDH4DtT6TnbKfxuCu8BwCZCfna3KazQEIq6lZYPDjL2ed7315cF6mYry8juIZz PbMGnMcuUh8RSS/nO16k5Tz+HlhuhkLE955kKZtFASC6uVDMX8rcXzG9Ynus9gbZHSWD MjnQ== X-Gm-Message-State: AOJu0YzKcPRxZzNPzoP0DkMnoAsBRNm7eTso85zWYcLlUrBaAb1Zlh8u eDQ1h/fSjbaLJJHSTkn9BpecgMSnK+CBFxD2Q2tcCVyZwACWOO2wnwVvqjFo90Ny629b8bmLad1 +Rhnhko86FecG5Yc/fh9XNwEQLophLs+ZeOwQtlvNn95kHjWhjq0KVvLLBb4j X-Gm-Gg: ASbGncvBIPWHGh0mIZQcz4GE48xt8Z0j2z8xLvV+0lfXM8ZrcKpRrHc3Gtnsszzw4Fx oXpD0oeiHkKXSdenfxV2+sMhyDFiBFBqhFot0Ge7tCL7MTcZN63yrPF52rkC/NI6TP54NHWX7QG ZRveEVe3vOEYC5r3LsygVnDIWRC3rHmFatuvY37545kxJqyI2lXRkLiuLnJYjr5g17F+yt6AatZ mKH2fD/F8NayR1ye0FWNWBQ9EBI+ibo7uWTgeZt664ypyMxxFYxh6GaDAWsPxbiWRdLnhIp4wln G1TY4B76/Qwzo3EZIbRSlzuB2zDDZYPBopVuNH52qKccNpyA5w== X-Google-Smtp-Source: AGHT+IH2cdGU4+WfBVwBeTKIAUtyQIUKz9l1rTIxr+larN4dIiwn/66bjbQ5WZ8/GXjhTBYef+PP6huJIQ0b X-Received: by 2002:a05:690c:38b:b0:712:c5f7:1ee9 with SMTP id 00721157ae682-719ce7f0f0dmr81345107b3.8.1753454429564; Fri, 25 Jul 2025 07:40:29 -0700 (PDT) Received: from postal.iol.unh.edu (postal.iol.unh.edu. [2606:4100:3880:1234::84]) by smtp-relay.gmail.com with ESMTPS id 00721157ae682-719f21e9888sm3217b3.15.2025.07.25.07.40.29 (version=TLS1_2 cipher=ECDHE-ECDSA-AES128-GCM-SHA256 bits=128/128); Fri, 25 Jul 2025 07:40:29 -0700 (PDT) X-Relaying-Domain: iol.unh.edu Date: Fri, 25 Jul 2025 07:40:29 -0700 (PDT) Message-ID: <6883975d.0d0a0220.e1cce.0048SMTPIN_ADDED_MISSING@mx.google.com> Received: from [172.21.0.4] (unknown [172.18.0.240]) by postal.iol.unh.edu (Postfix) with ESMTP id 4EF816051830; Fri, 25 Jul 2025 10:40:29 -0400 (EDT) Subject: |SUCCESS| pw155519-155532 [PATCH] [RFC,14/14] net/i40e: use the comm From: dpdklab@iol.unh.edu To: Test Report Cc: dpdk-test-reports@iol.unh.edu In-Reply-To: <20250725124919.3564890-15-ciara.loftus@intel.com> References: <20250725124919.3564890-15-ciara.loftus@intel.com> Content-Type: text/plain X-BeenThere: test-report@dpdk.org X-Mailman-Version: 2.1.29 Precedence: list List-Id: automatic DPDK test reports List-Unsubscribe: , List-Archive: List-Post: List-Help: List-Subscribe: , Errors-To: test-report-bounces@dpdk.org Test-Label: iol-unit-amd64-testing Test-Status: SUCCESS http://dpdk.org/patch/155532 _Testing PASS_ Submitter: Ciara Loftus Date: Friday, July 25 2025 12:49:19 DPDK git baseline: Repo:dpdk Branch: master CommitID:e3183a6edafdc41bfd71de1517f9e9ec85eb1276 155519-155532 --> testing pass Upstream job id: Generic-VM-Unit-Test-DPDK#30186 Test environment and result as below: +-------------------------------+----------------+ | Environment | dpdk_unit_test | +===============================+================+ | CentOS Stream 10 | PASS | +-------------------------------+----------------+ | CentOS Stream 9 | PASS | +-------------------------------+----------------+ | Debian GNU/Linux 12 | PASS | +-------------------------------+----------------+ | Fedora Linux 40 | PASS | +-------------------------------+----------------+ | Fedora Linux 41 | PASS | +-------------------------------+----------------+ | Red Hat Enterprise Linux 9.5 | PASS | +-------------------------------+----------------+ | Red Hat Enterprise Linux 8.10 | PASS | +-------------------------------+----------------+ | Ubuntu 20.04 | PASS | +-------------------------------+----------------+ | Ubuntu 22.04 | PASS | +-------------------------------+----------------+ | Ubuntu 24.04 | PASS | +-------------------------------+----------------+ | Windows Server 2022 | PASS | +-------------------------------+----------------+ CentOS Stream 10 Kernel: 5.15 Compiler: gcc gcc (GCC) 14.2.1 20250110 (Red Hat 14.2.1-8) CentOS Stream 9 Kernel: 5.15 Compiler: gcc gcc (GCC) 11.5.0 20240719 (Red Hat 11.5.0-7) Debian GNU/Linux 12 Kernel: 5.15 Compiler: gcc gcc (Debian 12.2.0-14+deb12u1) 12.2.0 Fedora Linux 40 Kernel: 5.15 Compiler: gcc gcc (GCC) 14.2.1 20240912 (Red Hat 14.2.1-3) Fedora Linux 41 Kernel: 5.15 Compiler: clang gcc (GCC) 14.3.1 20250523 (Red Hat 14.3.1-1) Red Hat Enterprise Linux 9.5 Kernel: 5.15 Compiler: gcc gcc (GCC) 11.5.0 20240719 (Red Hat 11.5.0-2) Red Hat Enterprise Linux 8.10 Kernel: 5.15 Compiler: gcc gcc (GCC) 8.5.0 20210514 (Red Hat 8.5.0-22) Ubuntu 20.04 Kernel: 5.15 Compiler: gcc gcc (Ubuntu 9.4.0-1ubuntu1~20.04.2) 9.4.0 Ubuntu 22.04 Kernel: 5.15 Compiler: gcc gcc (Ubuntu 11.4.0-1ubuntu1~22.04) 11.4.0 Ubuntu 24.04 Kernel: 5.15 Compiler: gcc gcc (Ubuntu 13.3.0-6ubuntu2~24.04) 13.3.0 Windows Server 2022 Kernel: 10.0.20348.2031 Compiler: clang 15.0.7, gcc 14.1.0 (MinGW), and MSVC VS 19.39.33521 To view detailed results, visit: https://lab.dpdk.org/results/dashboard/patchsets/33751/ UNH-IOL DPDK Community Lab To manage your email subscriptions, visit: https://lab.dpdk.org/results/dashboard/preferences/subscriptions/