From mboxrd@z Thu Jan 1 00:00:00 1970 Return-Path: Received: from mails.dpdk.org (mails.dpdk.org [217.70.189.124]) by inbox.dpdk.org (Postfix) with ESMTP id 569F746C0E for ; Fri, 25 Jul 2025 16:45:50 +0200 (CEST) Received: from mails.dpdk.org (localhost [127.0.0.1]) by mails.dpdk.org (Postfix) with ESMTP id 31B66400D5; Fri, 25 Jul 2025 16:45:50 +0200 (CEST) Received: from mail-pl1-f227.google.com (mail-pl1-f227.google.com [209.85.214.227]) by mails.dpdk.org (Postfix) with ESMTP id 38173400D5 for ; Fri, 25 Jul 2025 16:45:49 +0200 (CEST) Received: by mail-pl1-f227.google.com with SMTP id d9443c01a7336-2350fc2591dso27247785ad.1 for ; Fri, 25 Jul 2025 07:45:49 -0700 (PDT) DKIM-Signature: v=1; a=rsa-sha256; c=relaxed/relaxed; d=iol.unh.edu; s=unh-iol; t=1753454748; x=1754059548; darn=dpdk.org; h=references:in-reply-to:cc:to:from:subject:message-id:date:from:to :cc:subject:date:message-id:reply-to; bh=FcNrlKDY67KSbxcp4nThUf+tC6aHfqJbV5wdZLAPmhU=; b=JsKYjJCNAfKUravKLxnn/Sz9PMz2C2eJUXZvZEDzsPcTfzCEOFlqmZ51EiXohsrHHK UYI5dNfDEZ1q5bOpr0tEICbzp/XC/tfvUCRkw/VlT/jdSSGCsQS+dVanzXkfJh3uoR7b C6ddgZhY0EfckidT/eyq6o5PKzQTlBnyZ3TGA= X-Google-DKIM-Signature: v=1; a=rsa-sha256; c=relaxed/relaxed; d=1e100.net; s=20230601; t=1753454748; x=1754059548; h=references:in-reply-to:cc:to:from:subject:message-id:date :x-gm-message-state:from:to:cc:subject:date:message-id:reply-to; bh=FcNrlKDY67KSbxcp4nThUf+tC6aHfqJbV5wdZLAPmhU=; b=Ezb4Mws7oKmlx5wCdSp1M9d5fqLH6NgOvy8CU920Xl4YWBc80MMtgMKdi9n4TMWTWs YzP/hL/P2EgVlQtNVneNtKxgDs45JqXMB5E86WO8F//TXXSOkcR9+HhMYtwVhJ8VmJYF maDObitT3OLZgiG3SeAuSGm8X7POiA7vr3f2DCGCgDP5FE+8GRk4ElVFjG3AIOWWMLw1 UfdGoilzQ26YGQhPJ2S7ipnjKj6cdqjrzKzynUdXucirmEDUiBjqa5lmXyiwKpAXCDaa 0fH7+gjjETQGmhQpqY2I/beCIPWGtn35zLaZ1FM7D4Be7hsWichYOcSmj4KKiacU3ass dKGA== X-Gm-Message-State: AOJu0YyCFUG6WFGThY6uPP3eP252CaNl/cQptDzIcx493k0ZAtN/S3yD //SK+DE3jsDklD2tfnqtphSF9IIjdZQr3SzXvhwjt7sp3nu97GyUBQCpxdk8hSZXB7CqSTB0hNe WE/QRggl3ac3d3YVpwuDNrUlHTV0vZCec1LrVp+hDUPWhljtG5pcSSQFeFtcH X-Gm-Gg: ASbGncsQWfhtz+Bh3g5WDAj482ukd4H8rFatqPkZ/JXI1E3lLlqunGVBeHGFi4huPVs bxmp1BH6NH9ZxJ+Wf1IOaG1dClAYa1UXpqeKTY1c8n8OXlIzyFkDJCBFuJibg94uPlLJzhHXoRc IOWWq2vTXZzR2lih98n8b8RrRuZz59BMFEcRS0XQcEp4MVoXwUl502/1N76GLjqcHI+7KBB16ZY uJMET6LL0ePi5Lq5rBiLf97PHqccjsSEoGHSMTeW/WBQeTBs9mN9FRVxoz+YEoxdRrW0xBwXeSc mAeDzxocddT5w5nY16Tlwwe1X8oua2ZfQ3M+nWWLzZ/QpEloeg== X-Google-Smtp-Source: AGHT+IGyP7eGWyJ6ARv7Wp6M3VAenZa5vBlQ8U853BbYaUFR/uU9XaT4EPBgvHlwnBQDGNKf2Gj96mhJlIow X-Received: by 2002:a17:902:c950:b0:234:8a4a:ad89 with SMTP id d9443c01a7336-23fb2a7b959mr30885185ad.1.1753454748210; Fri, 25 Jul 2025 07:45:48 -0700 (PDT) Received: from postal.iol.unh.edu (postal.iol.unh.edu. [2606:4100:3880:1234::84]) by smtp-relay.gmail.com with ESMTPS id d9443c01a7336-23fa4792e09sm2431765ad.45.2025.07.25.07.45.48 (version=TLS1_2 cipher=ECDHE-ECDSA-AES128-GCM-SHA256 bits=128/128); Fri, 25 Jul 2025 07:45:48 -0700 (PDT) X-Relaying-Domain: iol.unh.edu Date: Fri, 25 Jul 2025 07:45:48 -0700 (PDT) Message-ID: <6883989c.170a0220.1f40d3.c638SMTPIN_ADDED_MISSING@mx.google.com> Received: from [172.21.0.3] (unknown [172.18.0.240]) by postal.iol.unh.edu (Postfix) with ESMTP id 6FF386051830; Fri, 25 Jul 2025 10:45:47 -0400 (EDT) Subject: |SUCCESS| pw155519-155532 [PATCH] [RFC,14/14] net/i40e: use the comm From: dpdklab@iol.unh.edu To: Test Report Cc: dpdk-test-reports@iol.unh.edu In-Reply-To: <20250725124919.3564890-15-ciara.loftus@intel.com> References: <20250725124919.3564890-15-ciara.loftus@intel.com> Content-Type: text/plain X-BeenThere: test-report@dpdk.org X-Mailman-Version: 2.1.29 Precedence: list List-Id: automatic DPDK test reports List-Unsubscribe: , List-Archive: List-Post: List-Help: List-Subscribe: , Errors-To: test-report-bounces@dpdk.org Test-Label: iol-compile-amd64-testing Test-Status: SUCCESS http://dpdk.org/patch/155532 _Testing PASS_ Submitter: Ciara Loftus Date: Friday, July 25 2025 12:49:19 DPDK git baseline: Repo:dpdk Branch: master CommitID:e3183a6edafdc41bfd71de1517f9e9ec85eb1276 155519-155532 --> testing pass Upstream job id: Generic-DPDK-Compile-Meson#412364 Test environment and result as below: +-------------------------------+--------------------+-------------------+------------------+-------------------+-------------------------+----------------------+ | Environment | dpdk_meson_compile | dpdk_compile_spdk | dpdk_compile_ovs | dpdk_msvc_compile | dpdk_llvm_clang_compile | dpdk_mingw64_compile | +===============================+====================+===================+==================+===================+=========================+======================+ | CentOS Stream 9 | PASS | PASS | SKIPPED | SKIPPED | SKIPPED | SKIPPED | +-------------------------------+--------------------+-------------------+------------------+-------------------+-------------------------+----------------------+ | CentOS Stream 10 | PASS | SKIPPED | SKIPPED | SKIPPED | SKIPPED | SKIPPED | +-------------------------------+--------------------+-------------------+------------------+-------------------+-------------------------+----------------------+ | Fedora Linux 40 | PASS | PASS | SKIPPED | SKIPPED | SKIPPED | SKIPPED | +-------------------------------+--------------------+-------------------+------------------+-------------------+-------------------------+----------------------+ | Fedora Linux 41 | PASS | PASS | PASS | SKIPPED | SKIPPED | SKIPPED | +-------------------------------+--------------------+-------------------+------------------+-------------------+-------------------------+----------------------+ | Red Hat Enterprise Linux 9.5 | PASS | SKIPPED | SKIPPED | SKIPPED | SKIPPED | SKIPPED | +-------------------------------+--------------------+-------------------+------------------+-------------------+-------------------------+----------------------+ | Ubuntu 20.04 | PASS | SKIPPED | SKIPPED | SKIPPED | SKIPPED | SKIPPED | +-------------------------------+--------------------+-------------------+------------------+-------------------+-------------------------+----------------------+ | openSUSE Leap 15.6 | PASS | SKIPPED | SKIPPED | SKIPPED | SKIPPED | SKIPPED | +-------------------------------+--------------------+-------------------+------------------+-------------------+-------------------------+----------------------+ | Red Hat Enterprise Linux 8.10 | PASS | SKIPPED | SKIPPED | SKIPPED | SKIPPED | SKIPPED | +-------------------------------+--------------------+-------------------+------------------+-------------------+-------------------------+----------------------+ | Ubuntu 24.04 | PASS | PASS | PASS | SKIPPED | SKIPPED | SKIPPED | +-------------------------------+--------------------+-------------------+------------------+-------------------+-------------------------+----------------------+ | Ubuntu 22.04 | PASS | PASS | SKIPPED | SKIPPED | SKIPPED | SKIPPED | +-------------------------------+--------------------+-------------------+------------------+-------------------+-------------------------+----------------------+ | FreeBSD 14.2 | PASS | SKIPPED | SKIPPED | SKIPPED | SKIPPED | SKIPPED | +-------------------------------+--------------------+-------------------+------------------+-------------------+-------------------------+----------------------+ | Alpine Linux 3.22.0 | PASS | SKIPPED | SKIPPED | SKIPPED | SKIPPED | SKIPPED | +-------------------------------+--------------------+-------------------+------------------+-------------------+-------------------------+----------------------+ | Debian GNU/Linux 12 | PASS | PASS | SKIPPED | SKIPPED | SKIPPED | SKIPPED | +-------------------------------+--------------------+-------------------+------------------+-------------------+-------------------------+----------------------+ | Windows Server 2022 | SKIPPED | SKIPPED | SKIPPED | PASS | PASS | PASS | +-------------------------------+--------------------+-------------------+------------------+-------------------+-------------------------+----------------------+ CentOS Stream 9 Kernel: 5.15 Compiler: gcc gcc (GCC) 11.5.0 20240719 (Red Hat 11.5.0-7) CentOS Stream 10 Kernel: 5.15 Compiler: gcc gcc (GCC) 14.2.1 20250110 (Red Hat 14.2.1-8) Fedora Linux 40 Kernel: 5.15 Compiler: clang gcc (GCC) 14.2.1 20240912 (Red Hat 14.2.1-3) Fedora Linux 41 Kernel: 5.15 Compiler: gcc gcc (GCC) 14.3.1 20250523 (Red Hat 14.3.1-1) Red Hat Enterprise Linux 9.5 Kernel: 5.15 Compiler: gcc gcc (GCC) 11.5.0 20240719 (Red Hat 11.5.0-2) Ubuntu 20.04 Kernel: 5.15 Compiler: gcc gcc (Ubuntu 9.4.0-1ubuntu1~20.04.2) 9.4.0 openSUSE Leap 15.6 Kernel: 5.15 Compiler: gcc gcc (SUSE Linux) 7.5.0 Red Hat Enterprise Linux 8.10 Kernel: 5.15 Compiler: gcc gcc (GCC) 8.5.0 20210514 (Red Hat 8.5.0-22) Ubuntu 24.04 Kernel: 5.15 Compiler: gcc gcc (Ubuntu 13.3.0-6ubuntu2~24.04) 13.3.0 Ubuntu 22.04 Kernel: 5.15 Compiler: gcc gcc (Ubuntu 11.4.0-1ubuntu1~22.04) 11.4.0 FreeBSD 14.2 Kernel: 14.2-RELEASE Compiler: clang 18.1.6 Alpine Linux 3.22.0 Kernel: 5.15 Compiler: gcc gcc (Alpine 14.2.0) 14.2.0 Debian GNU/Linux 12 Kernel: 5.15 Compiler: gcc gcc (Debian 12.2.0-14+deb12u1) 12.2.0 Windows Server 2022 Kernel: 10.0.20348.2031 Compiler: clang 15.0.7, gcc 14.1.0 (MinGW), and MSVC VS 19.39.33521 To view detailed results, visit: https://lab.dpdk.org/results/dashboard/patchsets/33751/ UNH-IOL DPDK Community Lab To manage your email subscriptions, visit: https://lab.dpdk.org/results/dashboard/preferences/subscriptions/