From mboxrd@z Thu Jan 1 00:00:00 1970 Return-Path: Received: from mails.dpdk.org (mails.dpdk.org [217.70.189.124]) by inbox.dpdk.org (Postfix) with ESMTP id BBA3C46C0E for ; Fri, 25 Jul 2025 16:50:18 +0200 (CEST) Received: from mails.dpdk.org (localhost [127.0.0.1]) by mails.dpdk.org (Postfix) with ESMTP id 9B1B2400D5; Fri, 25 Jul 2025 16:50:18 +0200 (CEST) Received: from mail-pf1-f227.google.com (mail-pf1-f227.google.com [209.85.210.227]) by mails.dpdk.org (Postfix) with ESMTP id 05B67400D5 for ; Fri, 25 Jul 2025 16:50:17 +0200 (CEST) Received: by mail-pf1-f227.google.com with SMTP id d2e1a72fcca58-74ce477af25so1594153b3a.3 for ; Fri, 25 Jul 2025 07:50:16 -0700 (PDT) DKIM-Signature: v=1; a=rsa-sha256; c=relaxed/relaxed; d=iol.unh.edu; s=unh-iol; t=1753455016; x=1754059816; darn=dpdk.org; h=references:in-reply-to:cc:to:from:subject:message-id:date:from:to :cc:subject:date:message-id:reply-to; bh=IJhX40ASHtA2DTz7TR5uveogi2AWNP9fgfA6/rmGLHM=; b=gqgovHZLZxLuRcxJPMIne0oWF0HI5xZoTT9sSs8fHPQC2q4dPbhvCyZlrYtcZgHH33 IUvjb7s7em2mCutsEyK9LbK3Sks3Heu7KYrWRtHnHtXLKJo1OGtBgeUyz2ihNBqhMOcH SpttdpVqYnEYBEkXx+l2z845bWmiWOYHVAokU= X-Google-DKIM-Signature: v=1; a=rsa-sha256; c=relaxed/relaxed; d=1e100.net; s=20230601; t=1753455016; x=1754059816; h=references:in-reply-to:cc:to:from:subject:message-id:date :x-gm-message-state:from:to:cc:subject:date:message-id:reply-to; bh=IJhX40ASHtA2DTz7TR5uveogi2AWNP9fgfA6/rmGLHM=; b=dZ+2quRF4xZ+txOulKMhpeZNX67GnEj73v0wB+FRz30eUYjnX7RjKBMpnw0LngdhIt Ib3skVHYC+nHjKRhDest4fLk3WCvkv9Kf0XHY0VcKvWWolbq3WDTjUmNwXJGYv4hE/Af iBD0gMsLz5EU+DiPhE2uKDsuSXXEwv2ES4/0KPRPZmMwVU44drnJl47A4vysr4+H7C2s tLHkQq1XBJYnyNoDCd33N6eRh01LH+Lsja7qaOZXfwTVLIOQMdxdRssYD3EFIgMF1Pps FpsdE4GV4fTchUGQqZnGKH01emwMpBDWv9RhisVhfb7ps04x9E0zNo64LJg+GmCcQCDP PqFA== X-Gm-Message-State: AOJu0YyYu/LCHaC+Qetk7xIuArNHcf2sNDGEGiiJJe9wH2VkqUf9kCIu HDU8kS1XMgHjj0bIZfW+eO3z848J+BXg0rRY0Nj0sZWbHnx48KR919KMRspvLrP4GAOzNyiJfuw kF7RKyHRNwrxmI/6qTecv56hLk9b+y0SuEPgahCjtUmNB X-Gm-Gg: ASbGncu9kdKLVghcq90wgoB8Q9VlBz6sV60fPKO8Zeoj59Q9AqoWpefaMEZ4uA1U9Lv HpOYg51lEIcPb8UobuaFSN4YR3z79l4cSjDB089X87xmSXNdw1Tho8hnlhWZPeHp4yHnpdWNVEP qEcYeFz6qNWLVdl/vFoVykQEzGFR3ActGzSK/Ae2sVPMqBBi7u4NrKgYKzaQU4GuBIy+PBiJ02t LaMgzL3G+WPxQYSvBk9y954yC6+OWoPlUAq8ckDtxcm/0A+DN/O93Aj0kesKQIknNoTGrLKmWHc vu/D3DXcWrubrMFR1ITdV/D3xkGccCA0WjH8uRXBNKaQkbk/7/oGJDXEFvpfjMM8l2dCyp79 X-Google-Smtp-Source: AGHT+IHUNjopg82DAMmG+WLa7T+fJXhHfp0TpIpJ5MDmAegjku4eaNU/1SKxBJCsdEvwJswbV6RL7r6f7rZW X-Received: by 2002:a05:6a00:1142:b0:749:456:4082 with SMTP id d2e1a72fcca58-76335849218mr3287979b3a.1.1753455016060; Fri, 25 Jul 2025 07:50:16 -0700 (PDT) Received: from postal.iol.unh.edu (postal.iol.unh.edu. [132.177.123.84]) by smtp-relay.gmail.com with ESMTPS id d2e1a72fcca58-761b00bbf36sm271833b3a.10.2025.07.25.07.50.15 (version=TLS1_2 cipher=ECDHE-ECDSA-AES128-GCM-SHA256 bits=128/128); Fri, 25 Jul 2025 07:50:16 -0700 (PDT) X-Relaying-Domain: iol.unh.edu Date: Fri, 25 Jul 2025 07:50:16 -0700 (PDT) Message-ID: <688399a8.050a0220.1eadee.de76SMTPIN_ADDED_MISSING@mx.google.com> Received: from [172.21.0.2] (unknown [172.18.0.240]) by postal.iol.unh.edu (Postfix) with ESMTP id 518836050A61; Fri, 25 Jul 2025 10:50:15 -0400 (EDT) Subject: |SUCCESS| pw155519-155532 [PATCH] [RFC,14/14] net/i40e: use the comm From: dpdklab@iol.unh.edu To: Test Report Cc: dpdk-test-reports@iol.unh.edu In-Reply-To: <20250725124919.3564890-15-ciara.loftus@intel.com> References: <20250725124919.3564890-15-ciara.loftus@intel.com> Content-Type: text/plain X-BeenThere: test-report@dpdk.org X-Mailman-Version: 2.1.29 Precedence: list List-Id: automatic DPDK test reports List-Unsubscribe: , List-Archive: List-Post: List-Help: List-Subscribe: , Errors-To: test-report-bounces@dpdk.org Test-Label: iol-unit-amd64-testing Test-Status: SUCCESS http://dpdk.org/patch/155532 _Testing PASS_ Submitter: Ciara Loftus Date: Friday, July 25 2025 12:49:19 DPDK git baseline: Repo:dpdk Branch: master CommitID:e3183a6edafdc41bfd71de1517f9e9ec85eb1276 155519-155532 --> testing pass Upstream job id: Generic-VM-Unit-Test-DPDK#30187 Test environment and result as below: +-------------------------------+----------------+ | Environment | dpdk_unit_test | +===============================+================+ | CentOS Stream 10 | PASS | +-------------------------------+----------------+ | CentOS Stream 9 | PASS | +-------------------------------+----------------+ | Debian GNU/Linux 12 | PASS | +-------------------------------+----------------+ | Fedora Linux 40 | PASS | +-------------------------------+----------------+ | Fedora Linux 41 | PASS | +-------------------------------+----------------+ | Red Hat Enterprise Linux 9.5 | PASS | +-------------------------------+----------------+ | Red Hat Enterprise Linux 8.10 | PASS | +-------------------------------+----------------+ | Ubuntu 20.04 | PASS | +-------------------------------+----------------+ | Ubuntu 22.04 | PASS | +-------------------------------+----------------+ | Ubuntu 24.04 | PASS | +-------------------------------+----------------+ | Windows Server 2022 | PASS | +-------------------------------+----------------+ CentOS Stream 10 Kernel: 5.15 Compiler: gcc gcc (GCC) 14.2.1 20250110 (Red Hat 14.2.1-8) CentOS Stream 9 Kernel: 5.15 Compiler: gcc gcc (GCC) 11.5.0 20240719 (Red Hat 11.5.0-7) Debian GNU/Linux 12 Kernel: 5.15 Compiler: gcc gcc (Debian 12.2.0-14+deb12u1) 12.2.0 Fedora Linux 40 Kernel: 5.15 Compiler: gcc gcc (GCC) 14.2.1 20240912 (Red Hat 14.2.1-3) Fedora Linux 41 Kernel: 5.15 Compiler: clang gcc (GCC) 14.3.1 20250523 (Red Hat 14.3.1-1) Red Hat Enterprise Linux 9.5 Kernel: 5.15 Compiler: gcc gcc (GCC) 11.5.0 20240719 (Red Hat 11.5.0-2) Red Hat Enterprise Linux 8.10 Kernel: 5.15 Compiler: gcc gcc (GCC) 8.5.0 20210514 (Red Hat 8.5.0-22) Ubuntu 20.04 Kernel: 5.15 Compiler: gcc gcc (Ubuntu 9.4.0-1ubuntu1~20.04.2) 9.4.0 Ubuntu 22.04 Kernel: 5.15 Compiler: gcc gcc (Ubuntu 11.4.0-1ubuntu1~22.04) 11.4.0 Ubuntu 24.04 Kernel: 5.15 Compiler: gcc gcc (Ubuntu 13.3.0-6ubuntu2~24.04) 13.3.0 Windows Server 2022 Kernel: 10.0.20348.2031 Compiler: clang 15.0.7, gcc 14.1.0 (MinGW), and MSVC VS 19.39.33521 To view detailed results, visit: https://lab.dpdk.org/results/dashboard/patchsets/33751/ UNH-IOL DPDK Community Lab To manage your email subscriptions, visit: https://lab.dpdk.org/results/dashboard/preferences/subscriptions/