From mboxrd@z Thu Jan 1 00:00:00 1970 Return-Path: Received: from mails.dpdk.org (mails.dpdk.org [217.70.189.124]) by inbox.dpdk.org (Postfix) with ESMTP id 6A25F46C0F for ; Fri, 25 Jul 2025 18:22:18 +0200 (CEST) Received: from mails.dpdk.org (localhost [127.0.0.1]) by mails.dpdk.org (Postfix) with ESMTP id 486FC40144; Fri, 25 Jul 2025 18:22:18 +0200 (CEST) Received: from mail-oa1-f97.google.com (mail-oa1-f97.google.com [209.85.160.97]) by mails.dpdk.org (Postfix) with ESMTP id A294E40144 for ; Fri, 25 Jul 2025 18:22:16 +0200 (CEST) Received: by mail-oa1-f97.google.com with SMTP id 586e51a60fabf-2ffb85aed35so1787538fac.0 for ; Fri, 25 Jul 2025 09:22:16 -0700 (PDT) DKIM-Signature: v=1; a=rsa-sha256; c=relaxed/relaxed; d=iol.unh.edu; s=unh-iol; t=1753460536; x=1754065336; darn=dpdk.org; h=references:in-reply-to:cc:to:from:subject:message-id:date:from:to :cc:subject:date:message-id:reply-to; bh=pRJY+kZel0hIyUfa05F5ZqUxs44xB7qomHhouJ6bA8g=; b=ExaeyYOiXYxe6fDNUGqTg7g1jyLC+wTZJzcF5tpnZOjebgke2zncuQwAAl9ziLadFR 8Qiwd44zvGI0PxozNZqYq+otvs1c2mfp6vcZuCXI5QckzCtxaLstJgrXkZIC5X5NDxhN NPbvQvxaeWeExzDYkQlYWWUcAQb0VhvXSakz8= X-Google-DKIM-Signature: v=1; a=rsa-sha256; c=relaxed/relaxed; d=1e100.net; s=20230601; t=1753460536; x=1754065336; h=references:in-reply-to:cc:to:from:subject:message-id:date :x-gm-message-state:from:to:cc:subject:date:message-id:reply-to; bh=pRJY+kZel0hIyUfa05F5ZqUxs44xB7qomHhouJ6bA8g=; b=Rii+nWkASR8GTvzW9xyuByzAnti1eFHs9G/NlnHM5LLPE6cXdad20rExs0i1mdZBSh N+6ouK7bmwGy51zGk0ZB37Oh1pV7ytvEb3+CHJnpVSQH6Rz7ncj0L+1ObZs8JSfeeK4o zySZNVJGN9OUXNO5Gh4aJKZFWgBLuUcal4jzJCLrPWIzhkhRxU9vNPdl9CYi0v0zisMT LJjARMyvQ521dkpJSKljePUCK1hmUf2r8Kc7eie7poAk+RAgVVEEpEeU5wSQ7XikJb8Q 6QgQhNBnPpwx5ouVRBVy5mXVgQqfjIHawbGV2ZhB3WL5TAZHs0nX47Qek6PLi/Z7JJzu 2C3g== X-Gm-Message-State: AOJu0YxciYt5I5xfb8g/YYOMPblDo51nGuI09I2duaqGBomjh11tZbYu CqoAybWF6ocpfitelxgZLr32lna3bAYYdKemWfmqC6m7ap0A+aGbKZqqKiqHoM0JUHPK0p8GDH7 7xp5ZQm0fgFCrrPogrLtXfnGjFPDAF+7Yy5S8Pv7avx3NJExDFby0hFBbLj+Z X-Gm-Gg: ASbGncspHMRmNF5Mw1hbY49Wk3qBLXuSDCbnfrRJzO+1+BPpdHwWVM/t7PX01y7mYDl 6T+pOxqxtG9rCEka+I+ZYP445VOLqi+v8KWvFL2n2CI+/D4h9lh89BWT75VHeZG2oRfYC5NU1kk wo6HEZ6KaXCdMkewyRlBfrRPEvEQSf+h4p+8LrLaNFqALLcDW6vkR7DT+ulDhAOWjDsT1f8U8o0 RUM+e/8WFpoLnOGdRYoRMdB6P4KpuigQAtX0dRzd+O5U99nXreAvTS1w7P1excBq+ZwgQzoMzn0 3by6QfKvlz3yehTPDn2IgEMq/xNEHCQbRxs5IByZroi+WsEnCQ== X-Google-Smtp-Source: AGHT+IH/0TfSsv1g0KIeaL2hmPOlWkGn+uK3vdhrrxJwJYwFfeR621Ftet+kiPLH0uSeLCEaMWpE6XBn9bTR X-Received: by 2002:a05:6870:569e:b0:2ff:9604:b95a with SMTP id 586e51a60fabf-30701cb988bmr1693848fac.3.1753460535829; Fri, 25 Jul 2025 09:22:15 -0700 (PDT) Received: from postal.iol.unh.edu (postal.iol.unh.edu. [2606:4100:3880:1234::84]) by smtp-relay.gmail.com with ESMTPS id 586e51a60fabf-307130e4fe2sm6476fac.14.2025.07.25.09.22.15 (version=TLS1_2 cipher=ECDHE-ECDSA-AES128-GCM-SHA256 bits=128/128); Fri, 25 Jul 2025 09:22:15 -0700 (PDT) X-Relaying-Domain: iol.unh.edu Date: Fri, 25 Jul 2025 09:22:15 -0700 (PDT) Message-ID: <6883af37.050a0220.4cb16.0533SMTPIN_ADDED_MISSING@mx.google.com> Received: from [172.21.0.2] (unknown [172.18.0.240]) by postal.iol.unh.edu (Postfix) with ESMTP id 592E26051830; Fri, 25 Jul 2025 12:22:15 -0400 (EDT) Subject: |SUCCESS| pw155534-155539 [PATCH] [6/6] dts: use artifacts in packet From: dpdklab@iol.unh.edu To: Test Report Cc: dpdk-test-reports@iol.unh.edu In-Reply-To: <20250725151503.87374-7-luca.vizzarro@arm.com> References: <20250725151503.87374-7-luca.vizzarro@arm.com> Content-Type: text/plain X-BeenThere: test-report@dpdk.org X-Mailman-Version: 2.1.29 Precedence: list List-Id: automatic DPDK test reports List-Unsubscribe: , List-Archive: List-Post: List-Help: List-Subscribe: , Errors-To: test-report-bounces@dpdk.org Test-Label: iol-unit-amd64-testing Test-Status: SUCCESS http://dpdk.org/patch/155539 _Testing PASS_ Submitter: Luca Vizzarro Date: Friday, July 25 2025 15:11:41 DPDK git baseline: Repo:dpdk Branch: master CommitID:4ca046f964fe358dc360c603f79f431beddfcab6 155534-155539 --> testing pass Upstream job id: Generic-VM-Unit-Test-DPDK#30188 Test environment and result as below: +-------------------------------+----------------+ | Environment | dpdk_unit_test | +===============================+================+ | CentOS Stream 9 | PASS | +-------------------------------+----------------+ | Fedora Linux 40 | PASS | +-------------------------------+----------------+ | Red Hat Enterprise Linux 9.5 | PASS | +-------------------------------+----------------+ | Debian GNU/Linux 12 | PASS | +-------------------------------+----------------+ | Ubuntu 20.04 | PASS | +-------------------------------+----------------+ | CentOS Stream 10 | PASS | +-------------------------------+----------------+ | Red Hat Enterprise Linux 8.10 | PASS | +-------------------------------+----------------+ | Fedora Linux 41 | PASS | +-------------------------------+----------------+ | Ubuntu 22.04 | PASS | +-------------------------------+----------------+ | Ubuntu 24.04 | PASS | +-------------------------------+----------------+ | Windows Server 2022 | PASS | +-------------------------------+----------------+ CentOS Stream 9 Kernel: 5.15 Compiler: gcc gcc (GCC) 11.5.0 20240719 (Red Hat 11.5.0-7) Fedora Linux 40 Kernel: 5.15 Compiler: gcc gcc (GCC) 14.2.1 20240912 (Red Hat 14.2.1-3) Red Hat Enterprise Linux 9.5 Kernel: 5.15 Compiler: gcc gcc (GCC) 11.5.0 20240719 (Red Hat 11.5.0-2) Debian GNU/Linux 12 Kernel: 5.15 Compiler: gcc gcc (Debian 12.2.0-14+deb12u1) 12.2.0 Ubuntu 20.04 Kernel: 5.15 Compiler: gcc gcc (Ubuntu 9.4.0-1ubuntu1~20.04.2) 9.4.0 CentOS Stream 10 Kernel: 5.15 Compiler: gcc gcc (GCC) 14.2.1 20250110 (Red Hat 14.2.1-8) Red Hat Enterprise Linux 8.10 Kernel: 5.15 Compiler: gcc gcc (GCC) 8.5.0 20210514 (Red Hat 8.5.0-22) Fedora Linux 41 Kernel: 5.15 Compiler: gcc gcc (GCC) 14.3.1 20250523 (Red Hat 14.3.1-1) Ubuntu 22.04 Kernel: 5.15 Compiler: gcc gcc (Ubuntu 11.4.0-1ubuntu1~22.04) 11.4.0 Ubuntu 24.04 Kernel: 5.15 Compiler: gcc gcc (Ubuntu 13.3.0-6ubuntu2~24.04) 13.3.0 Windows Server 2022 Kernel: 10.0.20348.2031 Compiler: clang 15.0.7, gcc 14.1.0 (MinGW), and MSVC VS 19.39.33521 To view detailed results, visit: https://lab.dpdk.org/results/dashboard/patchsets/33753/ UNH-IOL DPDK Community Lab To manage your email subscriptions, visit: https://lab.dpdk.org/results/dashboard/preferences/subscriptions/