From mboxrd@z Thu Jan 1 00:00:00 1970 Return-Path: Received: from mails.dpdk.org (mails.dpdk.org [217.70.189.124]) by inbox.dpdk.org (Postfix) with ESMTP id 0226946C0F for ; Fri, 25 Jul 2025 18:28:43 +0200 (CEST) Received: from mails.dpdk.org (localhost [127.0.0.1]) by mails.dpdk.org (Postfix) with ESMTP id DC0D9400D5; Fri, 25 Jul 2025 18:28:43 +0200 (CEST) Received: from mail-pf1-f228.google.com (mail-pf1-f228.google.com [209.85.210.228]) by mails.dpdk.org (Postfix) with ESMTP id 93417400D5 for ; Fri, 25 Jul 2025 18:28:42 +0200 (CEST) Received: by mail-pf1-f228.google.com with SMTP id d2e1a72fcca58-75ce8f8a3a1so1501720b3a.3 for ; Fri, 25 Jul 2025 09:28:42 -0700 (PDT) DKIM-Signature: v=1; a=rsa-sha256; c=relaxed/relaxed; d=iol.unh.edu; s=unh-iol; t=1753460921; x=1754065721; darn=dpdk.org; h=references:in-reply-to:cc:to:from:subject:message-id:date:from:to :cc:subject:date:message-id:reply-to; bh=L/Wx0KjvTUuSMixhYCDVCR6bji1wDkllbQEpJDC8FnA=; b=js2vLiQaJCEKeEIJ03bQZ4XLO1BIMPgMi43HDbFb+aEbKqgMBa3WyHw1rxNrvann0N oOgUWsu5MGhW1Q3/n9yfr5FCekpncnBC7rPVTieAsiYAAuG8ryGvoWYcQ39d6JjtV5ux /DfpK9h1ljd2uadeeoQypOSqXigd7ZOWRXqG0= X-Google-DKIM-Signature: v=1; a=rsa-sha256; c=relaxed/relaxed; d=1e100.net; s=20230601; t=1753460921; x=1754065721; h=references:in-reply-to:cc:to:from:subject:message-id:date :x-gm-message-state:from:to:cc:subject:date:message-id:reply-to; bh=L/Wx0KjvTUuSMixhYCDVCR6bji1wDkllbQEpJDC8FnA=; b=GuDbqld2hFgk1vtH5Xkk8fr8QjRx5E/5UpDHMXkfuIjCQWkjxvc2gICboj/qh3Z6eX B6pn5Tbr3mldM5gifpM0dmNQsnYFfM/R50DKPAoRWmrFgKRsxfpkKlQHxrwZ6W+4Gatc CF5xL4/mKIwJsucRoK3ECNvq5oB2FFxYzUlOdzhfd6CyOIOtOH2aRwE35ed+1ZwcTx1A z6En1v+pIgIwvExwnOAHf54yx42+mlX97iCyuxqX3iw+0MW9F+7rrIzMWKkq0+dZLsqd QBzi6eA4FmroGHaSGPb7MXbYAUl4YkLJi738cDDvo18bHUi7ZJzaWSQYTv86wvnSDvmp R33g== X-Gm-Message-State: AOJu0YyOT4JA7CYON0Itq+TuDFZSo4XbUXSPeM5e1GSr6j41BTPzHz0i UYjGK1AWoh2qumDxfadbt0gR4G0fMVf+COEVb9s96xtAMlcUe9DvWBrxyR7y/+IRfcvNtAuBaH0 Rc+AbZUwdx2fg48IOoBkOusnV0ODFQDbbn8DVo0irMTtG X-Gm-Gg: ASbGncueau/NXKqDyKmfo7GlpesZAnJJMVmheIF7BQZifIyebM17t0YWoCJvV5UyhW5 7h/gYbvn/OiaU0TCLyvNbMJga36dlSvtXsTOmU7tre/ST72QHAbwzCONswpvep3fCUL2xIxzd8u TacZRHXtn2tmmQprYOeK9R4yXza6uq5ss+ON02WqbZzRfZFkNJcKvnb3csJOuAd4pFfIElTJkuJ DXrW1olPYdjqEcVD58pbLo2uOdYSkeDhbOWgmsw+MeZQDKjEmYdg+iwXFeQrz6oevJSi6AnXS/6 7F0I7SY+Bqs6p/CQqLt3kCEtnLic8ZJWdlXcBPDhTcl7LXV0aQwDI6eHvqfWbkr8uYFaurTW X-Google-Smtp-Source: AGHT+IHI1PNEXIsnmvzyI7QAfrbNXMoCnrq7ovEfODZ/G7fDr2+Plwgd8ZRfiuuniBNPNbVzzocyW/rPjh/P X-Received: by 2002:a05:6a00:3e1b:b0:75f:a573:db9d with SMTP id d2e1a72fcca58-7633636b012mr3885773b3a.5.1753460921369; Fri, 25 Jul 2025 09:28:41 -0700 (PDT) Received: from postal.iol.unh.edu (postal.iol.unh.edu. [132.177.123.84]) by smtp-relay.gmail.com with ESMTPS id d2e1a72fcca58-7640afeeb13sm7513b3a.14.2025.07.25.09.28.41 (version=TLS1_2 cipher=ECDHE-ECDSA-AES128-GCM-SHA256 bits=128/128); Fri, 25 Jul 2025 09:28:41 -0700 (PDT) X-Relaying-Domain: iol.unh.edu Date: Fri, 25 Jul 2025 09:28:41 -0700 (PDT) Message-ID: <6883b0b9.050a0220.2b9606.06c1SMTPIN_ADDED_MISSING@mx.google.com> Received: from [172.21.0.2] (unknown [172.18.0.240]) by postal.iol.unh.edu (Postfix) with ESMTP id 96C7E6051830; Fri, 25 Jul 2025 12:28:40 -0400 (EDT) Subject: |SUCCESS| pw155534-155539 [PATCH] [6/6] dts: use artifacts in packet From: dpdklab@iol.unh.edu To: Test Report Cc: dpdk-test-reports@iol.unh.edu In-Reply-To: <20250725151503.87374-7-luca.vizzarro@arm.com> References: <20250725151503.87374-7-luca.vizzarro@arm.com> Content-Type: text/plain X-BeenThere: test-report@dpdk.org X-Mailman-Version: 2.1.29 Precedence: list List-Id: automatic DPDK test reports List-Unsubscribe: , List-Archive: List-Post: List-Help: List-Subscribe: , Errors-To: test-report-bounces@dpdk.org Test-Label: iol-unit-amd64-testing Test-Status: SUCCESS http://dpdk.org/patch/155539 _Testing PASS_ Submitter: Luca Vizzarro Date: Friday, July 25 2025 15:11:41 DPDK git baseline: Repo:dpdk Branch: master CommitID:4ca046f964fe358dc360c603f79f431beddfcab6 155534-155539 --> testing pass Upstream job id: Generic-VM-Unit-Test-DPDK#30189 Test environment and result as below: +-------------------------------+----------------+ | Environment | dpdk_unit_test | +===============================+================+ | CentOS Stream 9 | PASS | +-------------------------------+----------------+ | Fedora Linux 40 | PASS | +-------------------------------+----------------+ | Red Hat Enterprise Linux 9.5 | PASS | +-------------------------------+----------------+ | Debian GNU/Linux 12 | PASS | +-------------------------------+----------------+ | Ubuntu 20.04 | PASS | +-------------------------------+----------------+ | CentOS Stream 10 | PASS | +-------------------------------+----------------+ | Red Hat Enterprise Linux 8.10 | PASS | +-------------------------------+----------------+ | Fedora Linux 41 | PASS | +-------------------------------+----------------+ | Ubuntu 22.04 | PASS | +-------------------------------+----------------+ | Ubuntu 24.04 | PASS | +-------------------------------+----------------+ | Windows Server 2022 | PASS | +-------------------------------+----------------+ CentOS Stream 9 Kernel: 5.15 Compiler: gcc gcc (GCC) 11.5.0 20240719 (Red Hat 11.5.0-7) Fedora Linux 40 Kernel: 5.15 Compiler: gcc gcc (GCC) 14.2.1 20240912 (Red Hat 14.2.1-3) Red Hat Enterprise Linux 9.5 Kernel: 5.15 Compiler: gcc gcc (GCC) 11.5.0 20240719 (Red Hat 11.5.0-2) Debian GNU/Linux 12 Kernel: 5.15 Compiler: gcc gcc (Debian 12.2.0-14+deb12u1) 12.2.0 Ubuntu 20.04 Kernel: 5.15 Compiler: gcc gcc (Ubuntu 9.4.0-1ubuntu1~20.04.2) 9.4.0 CentOS Stream 10 Kernel: 5.15 Compiler: gcc gcc (GCC) 14.2.1 20250110 (Red Hat 14.2.1-8) Red Hat Enterprise Linux 8.10 Kernel: 5.15 Compiler: gcc gcc (GCC) 8.5.0 20210514 (Red Hat 8.5.0-22) Fedora Linux 41 Kernel: 5.15 Compiler: gcc gcc (GCC) 14.3.1 20250523 (Red Hat 14.3.1-1) Ubuntu 22.04 Kernel: 5.15 Compiler: gcc gcc (Ubuntu 11.4.0-1ubuntu1~22.04) 11.4.0 Ubuntu 24.04 Kernel: 5.15 Compiler: gcc gcc (Ubuntu 13.3.0-6ubuntu2~24.04) 13.3.0 Windows Server 2022 Kernel: 10.0.20348.2031 Compiler: clang 15.0.7, gcc 14.1.0 (MinGW), and MSVC VS 19.39.33521 To view detailed results, visit: https://lab.dpdk.org/results/dashboard/patchsets/33753/ UNH-IOL DPDK Community Lab To manage your email subscriptions, visit: https://lab.dpdk.org/results/dashboard/preferences/subscriptions/