From mboxrd@z Thu Jan 1 00:00:00 1970 Return-Path: Received: from mails.dpdk.org (mails.dpdk.org [217.70.189.124]) by inbox.dpdk.org (Postfix) with ESMTP id CD0D246C0F for ; Fri, 25 Jul 2025 18:37:11 +0200 (CEST) Received: from mails.dpdk.org (localhost [127.0.0.1]) by mails.dpdk.org (Postfix) with ESMTP id C6A84402A8; Fri, 25 Jul 2025 18:37:11 +0200 (CEST) Received: from mail-pl1-f226.google.com (mail-pl1-f226.google.com [209.85.214.226]) by mails.dpdk.org (Postfix) with ESMTP id 501CF402A8 for ; Fri, 25 Jul 2025 18:37:10 +0200 (CEST) Received: by mail-pl1-f226.google.com with SMTP id d9443c01a7336-23dc5bcf49eso30938925ad.2 for ; Fri, 25 Jul 2025 09:37:10 -0700 (PDT) DKIM-Signature: v=1; a=rsa-sha256; c=relaxed/relaxed; d=iol.unh.edu; s=unh-iol; t=1753461429; x=1754066229; darn=dpdk.org; h=references:in-reply-to:cc:to:from:subject:message-id:date:from:to :cc:subject:date:message-id:reply-to; bh=Nzs54UOSw5lYWmMUtQFiUw2/qMqUKk+hNz+ZRZgVIq0=; b=SKVy1iN/BaB2g1a66X/Y+ELsGjC/mOBoWLAiJJz9GiVQO7INnhR1fluf/ou8nGY8ue inNXHbrrn6wYaADrISwto7WUt76NvopoXdiBAXgBAY4PBKxo8hI66Ih6fxS+niRTcLcy qNZN5n8y8zES4PaDQmdE8ts6SCbVu4SZJv7xE= X-Google-DKIM-Signature: v=1; a=rsa-sha256; c=relaxed/relaxed; d=1e100.net; s=20230601; t=1753461429; x=1754066229; h=references:in-reply-to:cc:to:from:subject:message-id:date :x-gm-message-state:from:to:cc:subject:date:message-id:reply-to; bh=Nzs54UOSw5lYWmMUtQFiUw2/qMqUKk+hNz+ZRZgVIq0=; b=UCVU6tI3hL8h8hk5bjblrwNyvjipacaRPc5hKpKH9tiH5dTHm1EbBY6R18GnUVVvw9 /RxvrftP79XOyQtmGTOAUf+D0QLI/rcP38F4Ktp9/YCY6SCKlEqWYtP9L8AyqJQgTVKb EA/+gRUjVWCprdpn5pNUgIzlt9exkwJg/rgdqiEHtEsTQpGLjv+pNpYVAeVnafrdavXM +HZjs3Dr6kEA46mSI0DjBUVO+pDi8BkOC0vseQG2JsX+d3HwpzxjnsxN/zv3zrsRowXP ej8rQA9yEVrpIglMIM+El80HcSx5KoitSjFy36YLEr1WmG2N3WQS31G9DOeA6te0DfIt +r/Q== X-Gm-Message-State: AOJu0YxoaY+vjptu9ebXLZsdI5C64Ws6Y/JX28ms8P7wTq+IX85qdxKc r5uHBFnFTVPamfwb5Wde58w8EX/n7bkBQaG10r94rTRgAftX2mgxYHmhV+nGECtdtAb9MeFr5ZI jJdZE7rDH6kiML4RwDywpQUN7Des/i8Az2PlX41Yx0JcVwl9X/sEY4c47642B X-Gm-Gg: ASbGnctDqWqLsQWChkvwHcCYtv3PKS0JfPfjGryPQTcj0mUlLrnOuUw3DYqUguZKwjc VsENJmMDbcy3WMgaU1LiYxmQOFh67LiuybfC6K35x+jCCTPMn4aylRpriPk8m4Q/x3NBrd2OMOo E/1i/Kwn4qRuyVb3r0EFdvZpy355VYY9+UYK1jJpMwVHGDllRwnmH4Mh1+KflXqvQ2pvEqfsHgY eiVd+87e8YE7/IyNwC63KDaLvZpzbjvCCDQL7yUWot8zHeyqODtG4QM3YjPjt+oGhQ+BtBNAxNi /yvPjcukHKHYmUL1x87rGJpehwzempyebz2PJWZ9c5LXhMfBTQ== X-Google-Smtp-Source: AGHT+IH7iDJXyWVIMbryrivvDKqZwsUO+/OsBfN9sypjcdLtdI+P57YQ+mhvynDNtzdKGwpMeNujifRYEODc X-Received: by 2002:a17:903:2345:b0:23c:7c59:c74e with SMTP id d9443c01a7336-23fb2f04695mr38270595ad.0.1753461429174; Fri, 25 Jul 2025 09:37:09 -0700 (PDT) Received: from postal.iol.unh.edu (postal.iol.unh.edu. [2606:4100:3880:1234::84]) by smtp-relay.gmail.com with ESMTPS id d9443c01a7336-23fbe013eacsm94645ad.0.2025.07.25.09.37.09 (version=TLS1_2 cipher=ECDHE-ECDSA-AES128-GCM-SHA256 bits=128/128); Fri, 25 Jul 2025 09:37:09 -0700 (PDT) X-Relaying-Domain: iol.unh.edu Date: Fri, 25 Jul 2025 09:37:09 -0700 (PDT) Message-ID: <6883b2b5.170a0220.367f3e.08e1SMTPIN_ADDED_MISSING@mx.google.com> Received: from [172.21.0.2] (unknown [172.18.0.240]) by postal.iol.unh.edu (Postfix) with ESMTP id 96DE86051830; Fri, 25 Jul 2025 12:37:08 -0400 (EDT) Subject: |SUCCESS| pw155534-155539 [PATCH] [6/6] dts: use artifacts in packet From: dpdklab@iol.unh.edu To: Test Report Cc: dpdk-test-reports@iol.unh.edu In-Reply-To: <20250725151503.87374-7-luca.vizzarro@arm.com> References: <20250725151503.87374-7-luca.vizzarro@arm.com> Content-Type: text/plain X-BeenThere: test-report@dpdk.org X-Mailman-Version: 2.1.29 Precedence: list List-Id: automatic DPDK test reports List-Unsubscribe: , List-Archive: List-Post: List-Help: List-Subscribe: , Errors-To: test-report-bounces@dpdk.org Test-Label: iol-compile-amd64-testing Test-Status: SUCCESS http://dpdk.org/patch/155539 _Testing PASS_ Submitter: Luca Vizzarro Date: Friday, July 25 2025 15:11:41 DPDK git baseline: Repo:dpdk Branch: master CommitID:4ca046f964fe358dc360c603f79f431beddfcab6 155534-155539 --> testing pass Upstream job id: Generic-DPDK-Compile-Meson#412387 Test environment and result as below: +-------------------------------+--------------------+-------------------+------------------+-------------------------+-------------------+----------------------+ | Environment | dpdk_meson_compile | dpdk_compile_spdk | dpdk_compile_ovs | dpdk_llvm_clang_compile | dpdk_msvc_compile | dpdk_mingw64_compile | +===============================+====================+===================+==================+=========================+===================+======================+ | CentOS Stream 9 | PASS | PASS | SKIPPED | SKIPPED | SKIPPED | SKIPPED | +-------------------------------+--------------------+-------------------+------------------+-------------------------+-------------------+----------------------+ | CentOS Stream 10 | PASS | SKIPPED | SKIPPED | SKIPPED | SKIPPED | SKIPPED | +-------------------------------+--------------------+-------------------+------------------+-------------------------+-------------------+----------------------+ | Debian GNU/Linux 12 | PASS | PASS | SKIPPED | SKIPPED | SKIPPED | SKIPPED | +-------------------------------+--------------------+-------------------+------------------+-------------------------+-------------------+----------------------+ | Fedora Linux 40 | PASS | PASS | SKIPPED | SKIPPED | SKIPPED | SKIPPED | +-------------------------------+--------------------+-------------------+------------------+-------------------------+-------------------+----------------------+ | Fedora Linux 41 | PASS | PASS | PASS | SKIPPED | SKIPPED | SKIPPED | +-------------------------------+--------------------+-------------------+------------------+-------------------------+-------------------+----------------------+ | openSUSE Leap 15.6 | PASS | SKIPPED | SKIPPED | SKIPPED | SKIPPED | SKIPPED | +-------------------------------+--------------------+-------------------+------------------+-------------------------+-------------------+----------------------+ | Red Hat Enterprise Linux 8.10 | PASS | SKIPPED | SKIPPED | SKIPPED | SKIPPED | SKIPPED | +-------------------------------+--------------------+-------------------+------------------+-------------------------+-------------------+----------------------+ | Red Hat Enterprise Linux 9.5 | PASS | SKIPPED | SKIPPED | SKIPPED | SKIPPED | SKIPPED | +-------------------------------+--------------------+-------------------+------------------+-------------------------+-------------------+----------------------+ | Ubuntu 24.04 | PASS | PASS | PASS | SKIPPED | SKIPPED | SKIPPED | +-------------------------------+--------------------+-------------------+------------------+-------------------------+-------------------+----------------------+ | Ubuntu 22.04 | PASS | PASS | SKIPPED | SKIPPED | SKIPPED | SKIPPED | +-------------------------------+--------------------+-------------------+------------------+-------------------------+-------------------+----------------------+ | Ubuntu 20.04 | PASS | SKIPPED | SKIPPED | SKIPPED | SKIPPED | SKIPPED | +-------------------------------+--------------------+-------------------+------------------+-------------------------+-------------------+----------------------+ | Alpine Linux 3.22.0 | PASS | SKIPPED | SKIPPED | SKIPPED | SKIPPED | SKIPPED | +-------------------------------+--------------------+-------------------+------------------+-------------------------+-------------------+----------------------+ | FreeBSD 14.2 | PASS | SKIPPED | SKIPPED | SKIPPED | SKIPPED | SKIPPED | +-------------------------------+--------------------+-------------------+------------------+-------------------------+-------------------+----------------------+ | Windows Server 2022 | SKIPPED | SKIPPED | SKIPPED | PASS | PASS | PASS | +-------------------------------+--------------------+-------------------+------------------+-------------------------+-------------------+----------------------+ CentOS Stream 9 Kernel: 5.15 Compiler: gcc gcc (GCC) 11.5.0 20240719 (Red Hat 11.5.0-7) CentOS Stream 10 Kernel: 5.15 Compiler: gcc gcc (GCC) 14.2.1 20250110 (Red Hat 14.2.1-8) Debian GNU/Linux 12 Kernel: 5.15 Compiler: gcc gcc (Debian 12.2.0-14+deb12u1) 12.2.0 Fedora Linux 40 Kernel: 5.15 Compiler: clang gcc (GCC) 14.2.1 20240912 (Red Hat 14.2.1-3) Fedora Linux 41 Kernel: 5.15 Compiler: gcc gcc (GCC) 14.3.1 20250523 (Red Hat 14.3.1-1) openSUSE Leap 15.6 Kernel: 5.15 Compiler: gcc gcc (SUSE Linux) 7.5.0 Red Hat Enterprise Linux 8.10 Kernel: 5.15 Compiler: gcc gcc (GCC) 8.5.0 20210514 (Red Hat 8.5.0-22) Red Hat Enterprise Linux 9.5 Kernel: 5.15 Compiler: gcc gcc (GCC) 11.5.0 20240719 (Red Hat 11.5.0-2) Ubuntu 24.04 Kernel: 5.15 Compiler: gcc gcc (Ubuntu 13.3.0-6ubuntu2~24.04) 13.3.0 Ubuntu 22.04 Kernel: 5.15 Compiler: gcc gcc (Ubuntu 11.4.0-1ubuntu1~22.04) 11.4.0 Ubuntu 20.04 Kernel: 5.15 Compiler: gcc gcc (Ubuntu 9.4.0-1ubuntu1~20.04.2) 9.4.0 Alpine Linux 3.22.0 Kernel: 5.15 Compiler: gcc gcc (Alpine 14.2.0) 14.2.0 FreeBSD 14.2 Kernel: 14.2-RELEASE Compiler: clang 18.1.6 Windows Server 2022 Kernel: 10.0.20348.2031 Compiler: clang 15.0.7, gcc 14.1.0 (MinGW), and MSVC VS 19.39.33521 To view detailed results, visit: https://lab.dpdk.org/results/dashboard/patchsets/33753/ UNH-IOL DPDK Community Lab To manage your email subscriptions, visit: https://lab.dpdk.org/results/dashboard/preferences/subscriptions/