From mboxrd@z Thu Jan 1 00:00:00 1970 Return-Path: Received: from mails.dpdk.org (mails.dpdk.org [217.70.189.124]) by inbox.dpdk.org (Postfix) with ESMTP id 10F3F46C0F for ; Fri, 25 Jul 2025 18:49:22 +0200 (CEST) Received: from mails.dpdk.org (localhost [127.0.0.1]) by mails.dpdk.org (Postfix) with ESMTP id F2924400D5; Fri, 25 Jul 2025 18:49:21 +0200 (CEST) Received: from mail-pl1-f227.google.com (mail-pl1-f227.google.com [209.85.214.227]) by mails.dpdk.org (Postfix) with ESMTP id 3CD5E400D5 for ; Fri, 25 Jul 2025 18:49:20 +0200 (CEST) Received: by mail-pl1-f227.google.com with SMTP id d9443c01a7336-237311f5a54so19709255ad.2 for ; Fri, 25 Jul 2025 09:49:20 -0700 (PDT) DKIM-Signature: v=1; a=rsa-sha256; c=relaxed/relaxed; d=iol.unh.edu; s=unh-iol; t=1753462159; x=1754066959; darn=dpdk.org; h=references:in-reply-to:cc:to:from:subject:message-id:date:from:to :cc:subject:date:message-id:reply-to; bh=XI8XANTFHchVvjxk74Zs9DgsuwK+6ASyN046W4aHVUo=; b=CehCCo8hpp25oMCDv74+wHlk/1UwYDsAvCZcWnDQHqA6dXVcEPw4q/7aQDu9Ac8/OF 1xuZmmQh5mH2rhmoiIqb9fnd1Hl6XaEM7Brl2K3TRXCrt4Vnrhc4+Jp/+MyZJRZJPDkV OGZ+3Ff14osM5CR6mQQS1XQ4ezfX3wKtV/8zw= X-Google-DKIM-Signature: v=1; a=rsa-sha256; c=relaxed/relaxed; d=1e100.net; s=20230601; t=1753462159; x=1754066959; h=references:in-reply-to:cc:to:from:subject:message-id:date :x-gm-message-state:from:to:cc:subject:date:message-id:reply-to; bh=XI8XANTFHchVvjxk74Zs9DgsuwK+6ASyN046W4aHVUo=; b=shyfthzRGB8pxp8Xp+IO9xWKx8qV+4+iC1a95lW7AlAwGFiH3YBkxFehshqNBtjBOv 8eTiOZ2DF40XBUEtuLDcpZmBNvaZMjfba33BmEdXADUFvXmkIziPKvXSNdJkQpYRwG1J x7kjilax7BkmZOHAi2fqtDq3xe8Bu5tjJxnjQC/XVw5LHau2Cufp8uw36LplPEdUnbXB Uqu8DItWEgB9gfZyWNu3ZKdOLhdYbb5+ozJahFOuprVldOTCUbSy//Vv9R2XMs14SrPU 6mQHBtF/FAB3AhCCGJDuAVRQWRynQ8Bkpc6QM4nuRr0sTOWr+JTs4nz9Nw3dRQq2kxYi H2Ww== X-Gm-Message-State: AOJu0YxuZqRksrmJto/RdMzW7WtMaVICNip7/RJGq9mVRcEISPAo6f6x 8Hav76+V9SZ7cQ0e665sI+Nndlxy7KuGzwg6mor0SI/bQSAw9fkw9wDaV9kOKM9XZS3QikoBU0y elwxkSEzWiAjNMZAZQA8Jk95jzanDZLr/LtZYrNbFNjus X-Gm-Gg: ASbGncv56x5Fq8Itf/Vh2U9B1+pepDwupEFaPbUeQrgAb9gR16Ew+dQVCZI7yZMjuX+ q18LEpFPpuRs/IrrO7OLrT2nz2/+glVYJIKnGNrhpxTn22GR811YTr5Zd+vOwrLx9MTBz7GlBrO muMI9iNe38YdoTyHujBfWEjyTzIRi0vv44+LnuDAS/W1d8xNoaP41KOQk61eAs+gGV3PDgmpyqw z+fuMRwLZz1a9aQD0nGff8ic01RXSce7BqgV4WAyeodnkDQ43o+4Ghd1vAEkjUxP33vbpxqCrwZ UUmBP8B0ZyGZ4cMRn6OrNfEGWT21w/O9y9Qc1PzbDhGKKlLJVneRX5mXEqpKnmSUaYJXSUc8 X-Google-Smtp-Source: AGHT+IFZIB3qQIZkoT2R2h/7N/yt3WydmR9Kkh1E1cU9aQ19JeErE2TOipUOVjpH4tYzQIq2V07EGiMvjtOI X-Received: by 2002:a17:902:dacd:b0:234:a734:4ab1 with SMTP id d9443c01a7336-23fb307cde0mr43263425ad.3.1753462159138; Fri, 25 Jul 2025 09:49:19 -0700 (PDT) Received: from postal.iol.unh.edu (postal.iol.unh.edu. [132.177.123.84]) by smtp-relay.gmail.com with ESMTPS id d9443c01a7336-23fbe59d912sm77105ad.108.2025.07.25.09.49.19 (version=TLS1_2 cipher=ECDHE-ECDSA-AES128-GCM-SHA256 bits=128/128); Fri, 25 Jul 2025 09:49:19 -0700 (PDT) X-Relaying-Domain: iol.unh.edu Date: Fri, 25 Jul 2025 09:49:19 -0700 (PDT) Message-ID: <6883b58f.170a0220.27d253.0629SMTPIN_ADDED_MISSING@mx.google.com> Received: from [172.21.0.3] (unknown [172.18.0.240]) by postal.iol.unh.edu (Postfix) with ESMTP id 8E97F6050A61; Fri, 25 Jul 2025 12:49:18 -0400 (EDT) Subject: |SUCCESS| pw155534-155539 [PATCH] [6/6] dts: use artifacts in packet From: dpdklab@iol.unh.edu To: Test Report Cc: dpdk-test-reports@iol.unh.edu In-Reply-To: <20250725151503.87374-7-luca.vizzarro@arm.com> References: <20250725151503.87374-7-luca.vizzarro@arm.com> Content-Type: text/plain X-BeenThere: test-report@dpdk.org X-Mailman-Version: 2.1.29 Precedence: list List-Id: automatic DPDK test reports List-Unsubscribe: , List-Archive: List-Post: List-Help: List-Subscribe: , Errors-To: test-report-bounces@dpdk.org Test-Label: iol-unit-arm64-testing Test-Status: SUCCESS http://dpdk.org/patch/155539 _Testing PASS_ Submitter: Luca Vizzarro Date: Friday, July 25 2025 15:11:41 DPDK git baseline: Repo:dpdk Branch: master CommitID:4ca046f964fe358dc360c603f79f431beddfcab6 155534-155539 --> testing pass Upstream job id: Generic-Unit-Test-DPDK#358429 Test environment and result as below: +------------------------------+---------------------------+--------------+------------------------------+----------------+ | Environment | cryptodev_sw_zuc_autotest | lpm_autotest | cryptodev_sw_snow3g_autotest | dpdk_unit_test | +==============================+===========================+==============+==============================+================+ | Debian 12 (arm) | PASS | SKIPPED | PASS | SKIPPED | +------------------------------+---------------------------+--------------+------------------------------+----------------+ | Ubuntu 20.04 | SKIPPED | PASS | SKIPPED | PASS | +------------------------------+---------------------------+--------------+------------------------------+----------------+ | CentOS Stream 9 | SKIPPED | SKIPPED | SKIPPED | PASS | +------------------------------+---------------------------+--------------+------------------------------+----------------+ | CentOS Stream 10 | SKIPPED | SKIPPED | SKIPPED | PASS | +------------------------------+---------------------------+--------------+------------------------------+----------------+ | Debian GNU/Linux 12 | SKIPPED | SKIPPED | SKIPPED | PASS | +------------------------------+---------------------------+--------------+------------------------------+----------------+ | Fedora Linux 41 | SKIPPED | SKIPPED | SKIPPED | PASS | +------------------------------+---------------------------+--------------+------------------------------+----------------+ | Fedora Linux 40 | SKIPPED | SKIPPED | SKIPPED | PASS | +------------------------------+---------------------------+--------------+------------------------------+----------------+ | Ubuntu 22.04 | SKIPPED | SKIPPED | SKIPPED | PASS | +------------------------------+---------------------------+--------------+------------------------------+----------------+ | Red Hat Enterprise Linux 9.5 | SKIPPED | SKIPPED | SKIPPED | PASS | +------------------------------+---------------------------+--------------+------------------------------+----------------+ | Ubuntu 24.04 | SKIPPED | SKIPPED | SKIPPED | PASS | +------------------------------+---------------------------+--------------+------------------------------+----------------+ Debian 12 (arm) Kernel: Depends on container host Compiler: gcc (Debian 12.2.0-14) 12.2.0 Ubuntu 20.04 Kernel: 5.4 Compiler: gcc gcc (Ubuntu 9.4.0-1ubuntu1~20.04.2) 9.4.0 CentOS Stream 9 Kernel: 5.4 Compiler: gcc gcc (GCC) 11.5.0 20240719 (Red Hat 11.5.0-7) CentOS Stream 10 Kernel: 5.4 Compiler: gcc gcc (GCC) 14.2.1 20250110 (Red Hat 14.2.1-8) Debian GNU/Linux 12 Kernel: 5.4 Compiler: gcc gcc (Debian 12.2.0-14+deb12u1) 12.2.0 Fedora Linux 41 Kernel: 5.4 Compiler: clang gcc (GCC) 14.3.1 20250523 (Red Hat 14.3.1-1) Fedora Linux 40 Kernel: 5.4 Compiler: gcc gcc (GCC) 14.2.1 20240912 (Red Hat 14.2.1-3) Ubuntu 22.04 Kernel: 5.4 Compiler: gcc gcc (Ubuntu 11.4.0-1ubuntu1~22.04) 11.4.0 Red Hat Enterprise Linux 9.5 Kernel: 5.4 Compiler: gcc gcc (GCC) 11.5.0 20240719 (Red Hat 11.5.0-2) Ubuntu 24.04 Kernel: 5.4 Compiler: gcc gcc (Ubuntu 13.3.0-6ubuntu2~24.04) 13.3.0 To view detailed results, visit: https://lab.dpdk.org/results/dashboard/patchsets/33753/ UNH-IOL DPDK Community Lab To manage your email subscriptions, visit: https://lab.dpdk.org/results/dashboard/preferences/subscriptions/