From mboxrd@z Thu Jan 1 00:00:00 1970 Return-Path: Received: from mails.dpdk.org (mails.dpdk.org [217.70.189.124]) by inbox.dpdk.org (Postfix) with ESMTP id DC2CB46C0F for ; Fri, 25 Jul 2025 19:16:10 +0200 (CEST) Received: from mails.dpdk.org (localhost [127.0.0.1]) by mails.dpdk.org (Postfix) with ESMTP id B8B5E400D5; Fri, 25 Jul 2025 19:16:10 +0200 (CEST) Received: from mail-pl1-f226.google.com (mail-pl1-f226.google.com [209.85.214.226]) by mails.dpdk.org (Postfix) with ESMTP id CC297400D5 for ; Fri, 25 Jul 2025 19:16:09 +0200 (CEST) Received: by mail-pl1-f226.google.com with SMTP id d9443c01a7336-235d6de331fso30172125ad.3 for ; Fri, 25 Jul 2025 10:16:09 -0700 (PDT) DKIM-Signature: v=1; a=rsa-sha256; c=relaxed/relaxed; d=iol.unh.edu; s=unh-iol; t=1753463769; x=1754068569; darn=dpdk.org; h=references:in-reply-to:cc:to:from:subject:message-id:date:from:to :cc:subject:date:message-id:reply-to; bh=JziqCdUpz+vr7c16XnF7DzPAf/KwwLkk253jo83BS5Q=; b=TM1NdDlNPv3StzoFs02TvOWr43hxC1r5tr3+PMDUTtKsJ9txkL4DjoGq2vA/uDjEd5 prHGo9r36XhT9Ddb9vfI6kkZbzGmBhnPjP9l3z+WjPkQxNIPfKj39jvMDsrAgIP3emEG h+8JIsrJMzpm9XWo3SSFYBXAXkQhVv/wS7yGU= X-Google-DKIM-Signature: v=1; a=rsa-sha256; c=relaxed/relaxed; d=1e100.net; s=20230601; t=1753463769; x=1754068569; h=references:in-reply-to:cc:to:from:subject:message-id:date :x-gm-message-state:from:to:cc:subject:date:message-id:reply-to; bh=JziqCdUpz+vr7c16XnF7DzPAf/KwwLkk253jo83BS5Q=; b=K1VHeqP8iVicY6EDUKvcdHW5QTNYeCtTa9Rf3LSNRuCTBjM8xcTIJ2coplz/amcMci /8q/IVM7JXlzMwFLILhjzjtGG88mj41WSx/JJ8XCmsYPYm6yhrNQT7hQPlXFoEcFPqGf WiD4A5l/V1JYi8Ae/V3H00wB5ba90w4sOX38e851mqP1IU8UIHs0ouKtqc1vQN27pELc uQJXNCSaKLMbvuMzbmmy39BdZyC56IJe49oC34Z4CxkuJvsDHh8ktkOJX4pi1ClDNdJy jtYeDlp43L8vue9yjEvlnrT58Ld9sfpmm+JshDB96+Fmy/VwVP+gIPNZSRMYAFC3BLbR uSTA== X-Gm-Message-State: AOJu0YyULqUeMUwgt+3K4ZkkG4k78AramzevN6XdJQPUTzTHR7pWTU0R +BKG69o/aMUUbCWGa9ykJHX6zkUszYrWpptDT6QjeL8BiNm3YZ5Gr0oLPFziXUF3lPO4maflzG9 MDCCUfGMWP1mKTCiFPDVYt5H5VWom34o/IsXkcDX1d4wooXts9Ue0uRJqruaL X-Gm-Gg: ASbGnctI4HQex5CeXWwQrhpHnuBj5xRSjjxGW89T04IOKwjBIqfYejZb0E6bePuNS2M V+6hv1QKYQN8OpolqixYkaYFwQeNlEmLbbzTh4U6OJET4+ZBUAIbSsgEfkDQx891E1NNVpgADw6 ulo1fEGFhMUe7ZMDNyxi32atEshVY7cLWVpO+07SRqdPKz04+0RwgdE6nCq9WnT7gaIkG/16B/V O6Kqf4HWYE82U1rSOssObVyi+s+fBbw3ov8P2UnPAbmC4m5E6G8fTak/z57QFGPxAPa7PmaqJww qnX0N1t/RrfKl5VTV0A3gpOlDnj3YpABrnEa+tkV9CspFuWfMw== X-Google-Smtp-Source: AGHT+IEWmzIpkzJBW5jKP37jgJo0LOOUOH87IYy3Z6GTDKes6c5IMELnpZqRg9fbZ+UZ71U4+MtRTt5RXCao X-Received: by 2002:a17:902:fc45:b0:234:ed31:fcaa with SMTP id d9443c01a7336-23fb313a94bmr45461425ad.50.1753463768837; Fri, 25 Jul 2025 10:16:08 -0700 (PDT) Received: from postal.iol.unh.edu (postal.iol.unh.edu. [2606:4100:3880:1234::84]) by smtp-relay.gmail.com with ESMTPS id d9443c01a7336-23fbe4a156bsm129045ad.49.2025.07.25.10.16.08 (version=TLS1_2 cipher=ECDHE-ECDSA-AES128-GCM-SHA256 bits=128/128); Fri, 25 Jul 2025 10:16:08 -0700 (PDT) X-Relaying-Domain: iol.unh.edu Date: Fri, 25 Jul 2025 10:16:08 -0700 (PDT) Message-ID: <6883bbd8.170a0220.1e34db.0bd1SMTPIN_ADDED_MISSING@mx.google.com> Received: from [172.21.0.2] (unknown [172.18.0.240]) by postal.iol.unh.edu (Postfix) with ESMTP id 4DFE36050A61; Fri, 25 Jul 2025 13:16:08 -0400 (EDT) Subject: |SUCCESS| pw155540 [PATCH] [v2] build: remove obsolete compiler chec From: dpdklab@iol.unh.edu To: Test Report Cc: dpdk-test-reports@iol.unh.edu In-Reply-To: <20250725160730.18354-1-bruce.richardson@intel.com> References: <20250725160730.18354-1-bruce.richardson@intel.com> Content-Type: text/plain X-BeenThere: test-report@dpdk.org X-Mailman-Version: 2.1.29 Precedence: list List-Id: automatic DPDK test reports List-Unsubscribe: , List-Archive: List-Post: List-Help: List-Subscribe: , Errors-To: test-report-bounces@dpdk.org Test-Label: iol-unit-amd64-testing Test-Status: SUCCESS http://dpdk.org/patch/155540 _Testing PASS_ Submitter: Bruce Richardson Date: Friday, July 25 2025 16:06:28 DPDK git baseline: Repo:dpdk Branch: master CommitID:38543d33bd47fc0ee21f59db80a8763620741879 155540 --> testing pass Upstream job id: Generic-VM-Unit-Test-DPDK#30190 Test environment and result as below: +-------------------------------+----------------+ | Environment | dpdk_unit_test | +===============================+================+ | CentOS Stream 9 | PASS | +-------------------------------+----------------+ | CentOS Stream 10 | PASS | +-------------------------------+----------------+ | Red Hat Enterprise Linux 8.10 | PASS | +-------------------------------+----------------+ | Fedora Linux 41 | PASS | +-------------------------------+----------------+ | Fedora Linux 40 | PASS | +-------------------------------+----------------+ | Red Hat Enterprise Linux 9.5 | PASS | +-------------------------------+----------------+ | Debian GNU/Linux 12 | PASS | +-------------------------------+----------------+ | Ubuntu 20.04 | PASS | +-------------------------------+----------------+ | Ubuntu 22.04 | PASS | +-------------------------------+----------------+ | Ubuntu 24.04 | PASS | +-------------------------------+----------------+ | Windows Server 2022 | PASS | +-------------------------------+----------------+ CentOS Stream 9 Kernel: 5.15 Compiler: gcc gcc (GCC) 11.5.0 20240719 (Red Hat 11.5.0-7) CentOS Stream 10 Kernel: 5.15 Compiler: gcc gcc (GCC) 14.2.1 20250110 (Red Hat 14.2.1-8) Red Hat Enterprise Linux 8.10 Kernel: 5.15 Compiler: gcc gcc (GCC) 8.5.0 20210514 (Red Hat 8.5.0-22) Fedora Linux 41 Kernel: 5.15 Compiler: clang gcc (GCC) 14.3.1 20250523 (Red Hat 14.3.1-1) Fedora Linux 40 Kernel: 5.15 Compiler: clang gcc (GCC) 14.2.1 20240912 (Red Hat 14.2.1-3) Red Hat Enterprise Linux 9.5 Kernel: 5.15 Compiler: gcc gcc (GCC) 11.5.0 20240719 (Red Hat 11.5.0-2) Debian GNU/Linux 12 Kernel: 5.15 Compiler: gcc gcc (Debian 12.2.0-14+deb12u1) 12.2.0 Ubuntu 20.04 Kernel: 5.15 Compiler: gcc gcc (Ubuntu 9.4.0-1ubuntu1~20.04.2) 9.4.0 Ubuntu 22.04 Kernel: 5.15 Compiler: gcc gcc (Ubuntu 11.4.0-1ubuntu1~22.04) 11.4.0 Ubuntu 24.04 Kernel: 5.15 Compiler: gcc gcc (Ubuntu 13.3.0-6ubuntu2~24.04) 13.3.0 Windows Server 2022 Kernel: 10.0.20348.2031 Compiler: clang 15.0.7, gcc 14.1.0 (MinGW), and MSVC VS 19.39.33521 To view detailed results, visit: https://lab.dpdk.org/results/dashboard/patchsets/33754/ UNH-IOL DPDK Community Lab To manage your email subscriptions, visit: https://lab.dpdk.org/results/dashboard/preferences/subscriptions/