From mboxrd@z Thu Jan 1 00:00:00 1970 Return-Path: Received: from mails.dpdk.org (mails.dpdk.org [217.70.189.124]) by inbox.dpdk.org (Postfix) with ESMTP id 6028B46C0F for ; Fri, 25 Jul 2025 19:21:16 +0200 (CEST) Received: from mails.dpdk.org (localhost [127.0.0.1]) by mails.dpdk.org (Postfix) with ESMTP id 3CEB440144; Fri, 25 Jul 2025 19:21:16 +0200 (CEST) Received: from mail-pl1-f225.google.com (mail-pl1-f225.google.com [209.85.214.225]) by mails.dpdk.org (Postfix) with ESMTP id EE646400D5 for ; Fri, 25 Jul 2025 19:21:14 +0200 (CEST) Received: by mail-pl1-f225.google.com with SMTP id d9443c01a7336-23e210ebd5dso27197005ad.1 for ; Fri, 25 Jul 2025 10:21:14 -0700 (PDT) DKIM-Signature: v=1; a=rsa-sha256; c=relaxed/relaxed; d=iol.unh.edu; s=unh-iol; t=1753464074; x=1754068874; darn=dpdk.org; h=references:in-reply-to:cc:to:from:subject:message-id:date:from:to :cc:subject:date:message-id:reply-to; bh=z8xe0DxHN2z2lEjsK4lO4vC/57qIW+SWOuy4ikO0vy8=; b=IfGrQcrEx+6S+uCZF1M+a3eZ7n3ACkzEM7DVtEFR1xkD9CuqYIbYiOI9nybTE1/2HW RU2jF5mubFX7E24z2H0fhQE0OSoEWtn8c/FK1Asy8xB/9rXkLv+Dbm4NxKyholHmEZiq l+al2XSRTMxTpDEprVU7wffad/UhTANTr85bQ= X-Google-DKIM-Signature: v=1; a=rsa-sha256; c=relaxed/relaxed; d=1e100.net; s=20230601; t=1753464074; x=1754068874; h=references:in-reply-to:cc:to:from:subject:message-id:date :x-gm-message-state:from:to:cc:subject:date:message-id:reply-to; bh=z8xe0DxHN2z2lEjsK4lO4vC/57qIW+SWOuy4ikO0vy8=; b=Il0Keox0jwWZ/+gkFf5CxAE2IV1Hnd5Z/eOyJ+urPcX8jUjE321ixLYpehOhSOgLvF 3+XyCEOp41+/NFxpSLxozhGJ3julX1JA9EeCFNsMnB+pEEtC/qzGJiXCXIgsr39Wn8VM DYJ4NEBewnvwcQr4Ay2G7yRs8Wf4JeGPxw7ZYsbENFuYLopkoiujTexihIS5xj98bff+ 9owaxPxBRGabOQnxqkrNaG0JqhHV/nkSUYRy2oMsadVE4aaDRD9GW2iqTovWsklGQ4tH Siaz5eYQXRdhMdN6BS1EDaBs0M+iy7dnscA+gF5Q50/Djaw9FCRaHqcd33yN9nbZ3HNc /7jg== X-Gm-Message-State: AOJu0YxlSnV9KOe6mOhE4+jI6GJG6w/XXCpxumen+vrDYVXIi79dEI5t h6OCQl6g+yvKqbmWQMY/E8MnAZqDAzuQU4Q/BjwGtME4U9Mlk5NSno0ZLg76X/pup6AiEukmiTj rjBwjK/fjr9W/W1kNGOSx/qHVI5CdgLPg/wZE3Ynm75mO X-Gm-Gg: ASbGncvLpqcHpNN2ZjzVHT+/BAEWWqCrOgWoWC8HW/ckgarVT9Z7IV6RQ4EmAMIfq5T dTVSJaYXduQG70ikhbV3YJIocNk9SHqg9IbRAkQiHsly4+i8Kne/PMG/e4jv+guH6CZccmnzpFA +B7A4mEdapBdWdZ5Hamm1229+pohls/TVTV+cOympojT4orzYlt810RaUa9LdAW37JFkZ+/EG8h B1d8iFwN7vx4WXl1bs/Bgy2nzcK9XURq0bfUJQhgXoxM3QgBj7hQwu51asxRdt/odqTzkk0NeGv BSmT9UWAIQ/V8yyELjTsoBHmVjYwjGb81M601ZRImBXiiZrstUsvAhm9yCPXvLsDwaSqjC/1 X-Google-Smtp-Source: AGHT+IE0o2vhf+y8+xipYA/ZuFudICQzMMP9+YQ3ryjTtBHjjNEP1wIAylVeRKJJg+aKJjXrYT2DmLeqiU8B X-Received: by 2002:a17:902:ce04:b0:23e:3911:433e with SMTP id d9443c01a7336-23fb2a7b68fmr49589035ad.5.1753464074056; Fri, 25 Jul 2025 10:21:14 -0700 (PDT) Received: from postal.iol.unh.edu (postal.iol.unh.edu. [132.177.123.84]) by smtp-relay.gmail.com with ESMTPS id d9443c01a7336-23fbe56c6bdsm110225ad.90.2025.07.25.10.21.13 (version=TLS1_2 cipher=ECDHE-ECDSA-AES128-GCM-SHA256 bits=128/128); Fri, 25 Jul 2025 10:21:14 -0700 (PDT) X-Relaying-Domain: iol.unh.edu Date: Fri, 25 Jul 2025 10:21:14 -0700 (PDT) Message-ID: <6883bd0a.170a0220.147cfd.08ccSMTPIN_ADDED_MISSING@mx.google.com> Received: from [172.21.0.2] (unknown [172.18.0.240]) by postal.iol.unh.edu (Postfix) with ESMTP id 48F6C6050A61; Fri, 25 Jul 2025 13:21:13 -0400 (EDT) Subject: |SUCCESS| pw155540 [PATCH] [v2] build: remove obsolete compiler chec From: dpdklab@iol.unh.edu To: Test Report Cc: dpdk-test-reports@iol.unh.edu In-Reply-To: <20250725160730.18354-1-bruce.richardson@intel.com> References: <20250725160730.18354-1-bruce.richardson@intel.com> Content-Type: text/plain X-BeenThere: test-report@dpdk.org X-Mailman-Version: 2.1.29 Precedence: list List-Id: automatic DPDK test reports List-Unsubscribe: , List-Archive: List-Post: List-Help: List-Subscribe: , Errors-To: test-report-bounces@dpdk.org Test-Label: iol-unit-amd64-testing Test-Status: SUCCESS http://dpdk.org/patch/155540 _Testing PASS_ Submitter: Bruce Richardson Date: Friday, July 25 2025 16:06:28 DPDK git baseline: Repo:dpdk Branch: master CommitID:38543d33bd47fc0ee21f59db80a8763620741879 155540 --> testing pass Upstream job id: Generic-VM-Unit-Test-DPDK#30191 Test environment and result as below: +-------------------------------+----------------+ | Environment | dpdk_unit_test | +===============================+================+ | CentOS Stream 9 | PASS | +-------------------------------+----------------+ | CentOS Stream 10 | PASS | +-------------------------------+----------------+ | Red Hat Enterprise Linux 8.10 | PASS | +-------------------------------+----------------+ | Fedora Linux 41 | PASS | +-------------------------------+----------------+ | Fedora Linux 40 | PASS | +-------------------------------+----------------+ | Red Hat Enterprise Linux 9.5 | PASS | +-------------------------------+----------------+ | Debian GNU/Linux 12 | PASS | +-------------------------------+----------------+ | Ubuntu 20.04 | PASS | +-------------------------------+----------------+ | Ubuntu 22.04 | PASS | +-------------------------------+----------------+ | Ubuntu 24.04 | PASS | +-------------------------------+----------------+ | Windows Server 2022 | PASS | +-------------------------------+----------------+ CentOS Stream 9 Kernel: 5.15 Compiler: gcc gcc (GCC) 11.5.0 20240719 (Red Hat 11.5.0-7) CentOS Stream 10 Kernel: 5.15 Compiler: gcc gcc (GCC) 14.2.1 20250110 (Red Hat 14.2.1-8) Red Hat Enterprise Linux 8.10 Kernel: 5.15 Compiler: gcc gcc (GCC) 8.5.0 20210514 (Red Hat 8.5.0-22) Fedora Linux 41 Kernel: 5.15 Compiler: clang gcc (GCC) 14.3.1 20250523 (Red Hat 14.3.1-1) Fedora Linux 40 Kernel: 5.15 Compiler: clang gcc (GCC) 14.2.1 20240912 (Red Hat 14.2.1-3) Red Hat Enterprise Linux 9.5 Kernel: 5.15 Compiler: gcc gcc (GCC) 11.5.0 20240719 (Red Hat 11.5.0-2) Debian GNU/Linux 12 Kernel: 5.15 Compiler: gcc gcc (Debian 12.2.0-14+deb12u1) 12.2.0 Ubuntu 20.04 Kernel: 5.15 Compiler: gcc gcc (Ubuntu 9.4.0-1ubuntu1~20.04.2) 9.4.0 Ubuntu 22.04 Kernel: 5.15 Compiler: gcc gcc (Ubuntu 11.4.0-1ubuntu1~22.04) 11.4.0 Ubuntu 24.04 Kernel: 5.15 Compiler: gcc gcc (Ubuntu 13.3.0-6ubuntu2~24.04) 13.3.0 Windows Server 2022 Kernel: 10.0.20348.2031 Compiler: clang 15.0.7, gcc 14.1.0 (MinGW), and MSVC VS 19.39.33521 To view detailed results, visit: https://lab.dpdk.org/results/dashboard/patchsets/33754/ UNH-IOL DPDK Community Lab To manage your email subscriptions, visit: https://lab.dpdk.org/results/dashboard/preferences/subscriptions/