From mboxrd@z Thu Jan 1 00:00:00 1970 Return-Path: Received: from mails.dpdk.org (mails.dpdk.org [217.70.189.124]) by inbox.dpdk.org (Postfix) with ESMTP id 4BA2D46C0F for ; Fri, 25 Jul 2025 19:21:20 +0200 (CEST) Received: from mails.dpdk.org (localhost [127.0.0.1]) by mails.dpdk.org (Postfix) with ESMTP id 47110400D5; Fri, 25 Jul 2025 19:21:20 +0200 (CEST) Received: from mail-qt1-f225.google.com (mail-qt1-f225.google.com [209.85.160.225]) by mails.dpdk.org (Postfix) with ESMTP id 0F131400D5 for ; Fri, 25 Jul 2025 19:21:16 +0200 (CEST) Received: by mail-qt1-f225.google.com with SMTP id d75a77b69052e-4ab58105261so40873801cf.2 for ; Fri, 25 Jul 2025 10:21:16 -0700 (PDT) DKIM-Signature: v=1; a=rsa-sha256; c=relaxed/relaxed; d=iol.unh.edu; s=unh-iol; t=1753464075; x=1754068875; darn=dpdk.org; h=references:in-reply-to:cc:to:from:subject:message-id:date:from:to :cc:subject:date:message-id:reply-to; bh=Du7bTTgsBXDF5ln68UoprxNQKn5dVBnsiIWta+6zR/Y=; b=b1V5l4a2ZXDP+xCFrY+XpzT1XDqp8pmTp7HcRKO3ytoGq1fVENeFhG7alre1FpHHO3 rYbBjRS5g3CtdWQ/Blnxb0PKH5jxOco2ZoE8MVUlrIkX2uG0IVhWR7lYWowqT/RLl5Cm +rLuQcsgi1Qu9KuZ0nfZTQ7beRGnsBEG6JS+o= X-Google-DKIM-Signature: v=1; a=rsa-sha256; c=relaxed/relaxed; d=1e100.net; s=20230601; t=1753464075; x=1754068875; h=references:in-reply-to:cc:to:from:subject:message-id:date :x-gm-message-state:from:to:cc:subject:date:message-id:reply-to; bh=Du7bTTgsBXDF5ln68UoprxNQKn5dVBnsiIWta+6zR/Y=; b=Uct1B999YQs6AEFcwPUveMJwDZhADzcwkJeSij6Px5hI8lRbS3mNoLBq4D03zMvECE SpMvH9IUjYl7nUoRC2VVxjTjhOs/OhulrCNrzlmmlIZr+ocxyWEpoi86bQF7xQsze3fH 3lJ8MWiWT2aQngEw83JgkT3UaNCBp9Ut7fuPAIa/Dtr7uhU7mCuVvODtd7goZ5g9OUs5 cgr0rT8wlyBs851Ju9QgLkUBWmiUsGqwtahrKPXvuYCIA6yjC0VH9WtuUmtWgvGrwKc3 0zBXJxmMJ58nRjrRPUEaaZ3zCIkeeQEGBL/ThdMsQlxAkraHIovwi3Q55tekFgepNPM2 ky7Q== X-Gm-Message-State: AOJu0Yxa2I4Ht840D82c/OljqMFKzTExTeXnapQ6WECLYmU6kZ2WkfAM TByKD7joOASTVrA3Bzfh2Hv27XsyexcvDyu5CTEm/igr1wmc5V1x75cq9DeLYHPN2ZCzTAOJ2Cm S/HxOwqd8+iGqUZhQbm4Rkt45ul3Uhvu6MbT46ZWdHh1IGkhDZw389Vyz4Aw8 X-Gm-Gg: ASbGncusq97eo8XFaaTMuyuIPf4WNIoUTu8nQ0yL/9oeizfuf6Bsb6JviPxXbx6cFWX ADcvcM3h38TFlM+3bJzQrXIqRKgn6syK85tQM5JAc5MGUoaKVRCaQ3QcNJ+7pH7/6s5P3MXY6RG I89VlicfvJRw3wbpR0/JDISKNovMHS112H+qQF3EQ6tAXMyYOFKGSxeVA3kFORII9gLtzBEzyCW uyzODCpEKkXCCkIWljEWotx4y/F8uHOKUdZ6zvK6TvIdOboNH9B+9LolZsKRuEVfRu9l9RY2kb5 ZlVBF7StVHkrWkRzlGWlPR+7kIGq4UInIGjvUpYjHIQUZhclvA== X-Google-Smtp-Source: AGHT+IGc3EGF6zcM9Oy5TeoapGIHrapsuscQIg6UPdlWDxihDdhgMNgUfrzLYPMq3bCZ7gpsPF91+jpuD3KJ X-Received: by 2002:ad4:550b:0:b0:707:2abf:db3c with SMTP id 6a1803df08f44-7072abfdcbbmr7458496d6.37.1753464075215; Fri, 25 Jul 2025 10:21:15 -0700 (PDT) Received: from postal.iol.unh.edu (postal.iol.unh.edu. [2606:4100:3880:1234::84]) by smtp-relay.gmail.com with ESMTPS id 6a1803df08f44-70729e3f73fsm210336d6.48.2025.07.25.10.21.15 (version=TLS1_2 cipher=ECDHE-ECDSA-AES128-GCM-SHA256 bits=128/128); Fri, 25 Jul 2025 10:21:15 -0700 (PDT) X-Relaying-Domain: iol.unh.edu Date: Fri, 25 Jul 2025 10:21:15 -0700 (PDT) Message-ID: <6883bd0b.d40a0220.3cd3ce.1237SMTPIN_ADDED_MISSING@mx.google.com> Received: from [172.21.0.3] (unknown [172.18.0.240]) by postal.iol.unh.edu (Postfix) with ESMTP id E852C6050A61; Fri, 25 Jul 2025 13:21:14 -0400 (EDT) Subject: |SUCCESS| pw155540 [PATCH] [v2] build: remove obsolete compiler chec From: dpdklab@iol.unh.edu To: Test Report Cc: dpdk-test-reports@iol.unh.edu In-Reply-To: <20250725160730.18354-1-bruce.richardson@intel.com> References: <20250725160730.18354-1-bruce.richardson@intel.com> Content-Type: text/plain X-BeenThere: test-report@dpdk.org X-Mailman-Version: 2.1.29 Precedence: list List-Id: automatic DPDK test reports List-Unsubscribe: , List-Archive: List-Post: List-Help: List-Subscribe: , Errors-To: test-report-bounces@dpdk.org Test-Label: iol-compile-amd64-testing Test-Status: SUCCESS http://dpdk.org/patch/155540 _Testing PASS_ Submitter: Bruce Richardson Date: Friday, July 25 2025 16:06:28 DPDK git baseline: Repo:dpdk Branch: master CommitID:38543d33bd47fc0ee21f59db80a8763620741879 155540 --> testing pass Upstream job id: Generic-DPDK-Compile-Meson#412408 Test environment and result as below: +-------------------------------+--------------------+-------------------+------------------+-------------------------+-------------------+----------------------+ | Environment | dpdk_meson_compile | dpdk_compile_spdk | dpdk_compile_ovs | dpdk_llvm_clang_compile | dpdk_msvc_compile | dpdk_mingw64_compile | +===============================+====================+===================+==================+=========================+===================+======================+ | CentOS Stream 9 | PASS | PASS | SKIPPED | SKIPPED | SKIPPED | SKIPPED | +-------------------------------+--------------------+-------------------+------------------+-------------------------+-------------------+----------------------+ | CentOS Stream 10 | PASS | SKIPPED | SKIPPED | SKIPPED | SKIPPED | SKIPPED | +-------------------------------+--------------------+-------------------+------------------+-------------------------+-------------------+----------------------+ | Debian GNU/Linux 12 | PASS | PASS | SKIPPED | SKIPPED | SKIPPED | SKIPPED | +-------------------------------+--------------------+-------------------+------------------+-------------------------+-------------------+----------------------+ | Fedora Linux 40 | PASS | PASS | SKIPPED | SKIPPED | SKIPPED | SKIPPED | +-------------------------------+--------------------+-------------------+------------------+-------------------------+-------------------+----------------------+ | Fedora Linux 41 | PASS | PASS | PASS | SKIPPED | SKIPPED | SKIPPED | +-------------------------------+--------------------+-------------------+------------------+-------------------------+-------------------+----------------------+ | Red Hat Enterprise Linux 8.10 | PASS | SKIPPED | SKIPPED | SKIPPED | SKIPPED | SKIPPED | +-------------------------------+--------------------+-------------------+------------------+-------------------------+-------------------+----------------------+ | openSUSE Leap 15.6 | PASS | SKIPPED | SKIPPED | SKIPPED | SKIPPED | SKIPPED | +-------------------------------+--------------------+-------------------+------------------+-------------------------+-------------------+----------------------+ | Ubuntu 20.04 | PASS | SKIPPED | SKIPPED | SKIPPED | SKIPPED | SKIPPED | +-------------------------------+--------------------+-------------------+------------------+-------------------------+-------------------+----------------------+ | Red Hat Enterprise Linux 9.5 | PASS | SKIPPED | SKIPPED | SKIPPED | SKIPPED | SKIPPED | +-------------------------------+--------------------+-------------------+------------------+-------------------------+-------------------+----------------------+ | Ubuntu 22.04 | PASS | PASS | SKIPPED | SKIPPED | SKIPPED | SKIPPED | +-------------------------------+--------------------+-------------------+------------------+-------------------------+-------------------+----------------------+ | Ubuntu 24.04 | PASS | PASS | PASS | SKIPPED | SKIPPED | SKIPPED | +-------------------------------+--------------------+-------------------+------------------+-------------------------+-------------------+----------------------+ | Alpine Linux 3.22.0 | PASS | SKIPPED | SKIPPED | SKIPPED | SKIPPED | SKIPPED | +-------------------------------+--------------------+-------------------+------------------+-------------------------+-------------------+----------------------+ | FreeBSD 14.2 | PASS | SKIPPED | SKIPPED | SKIPPED | SKIPPED | SKIPPED | +-------------------------------+--------------------+-------------------+------------------+-------------------------+-------------------+----------------------+ | Windows Server 2022 | SKIPPED | SKIPPED | SKIPPED | PASS | PASS | PASS | +-------------------------------+--------------------+-------------------+------------------+-------------------------+-------------------+----------------------+ CentOS Stream 9 Kernel: 5.15 Compiler: gcc gcc (GCC) 11.5.0 20240719 (Red Hat 11.5.0-7) CentOS Stream 10 Kernel: 5.15 Compiler: gcc gcc (GCC) 14.2.1 20250110 (Red Hat 14.2.1-8) Debian GNU/Linux 12 Kernel: 5.15 Compiler: gcc gcc (Debian 12.2.0-14+deb12u1) 12.2.0 Fedora Linux 40 Kernel: 5.15 Compiler: clang gcc (GCC) 14.2.1 20240912 (Red Hat 14.2.1-3) Fedora Linux 41 Kernel: 5.15 Compiler: clang gcc (GCC) 14.3.1 20250523 (Red Hat 14.3.1-1) Red Hat Enterprise Linux 8.10 Kernel: 5.15 Compiler: gcc gcc (GCC) 8.5.0 20210514 (Red Hat 8.5.0-22) openSUSE Leap 15.6 Kernel: 5.15 Compiler: gcc gcc (SUSE Linux) 7.5.0 Ubuntu 20.04 Kernel: 5.15 Compiler: gcc gcc (Ubuntu 9.4.0-1ubuntu1~20.04.2) 9.4.0 Red Hat Enterprise Linux 9.5 Kernel: 5.15 Compiler: gcc gcc (GCC) 11.5.0 20240719 (Red Hat 11.5.0-2) Ubuntu 22.04 Kernel: 5.15 Compiler: gcc gcc (Ubuntu 11.4.0-1ubuntu1~22.04) 11.4.0 Ubuntu 24.04 Kernel: 5.15 Compiler: gcc gcc (Ubuntu 13.3.0-6ubuntu2~24.04) 13.3.0 Alpine Linux 3.22.0 Kernel: 5.15 Compiler: gcc gcc (Alpine 14.2.0) 14.2.0 FreeBSD 14.2 Kernel: 14.2-RELEASE Compiler: clang 18.1.6 Windows Server 2022 Kernel: 10.0.20348.2031 Compiler: clang 15.0.7, gcc 14.1.0 (MinGW), and MSVC VS 19.39.33521 To view detailed results, visit: https://lab.dpdk.org/results/dashboard/patchsets/33754/ UNH-IOL DPDK Community Lab To manage your email subscriptions, visit: https://lab.dpdk.org/results/dashboard/preferences/subscriptions/