From mboxrd@z Thu Jan 1 00:00:00 1970 Return-Path: Received: from mails.dpdk.org (mails.dpdk.org [217.70.189.124]) by inbox.dpdk.org (Postfix) with ESMTP id C67BF46C10 for ; Fri, 25 Jul 2025 21:02:55 +0200 (CEST) Received: from mails.dpdk.org (localhost [127.0.0.1]) by mails.dpdk.org (Postfix) with ESMTP id A0413400D5; Fri, 25 Jul 2025 21:02:55 +0200 (CEST) Received: from mail-pg1-f225.google.com (mail-pg1-f225.google.com [209.85.215.225]) by mails.dpdk.org (Postfix) with ESMTP id 9B11D400D5 for ; Fri, 25 Jul 2025 21:02:54 +0200 (CEST) Received: by mail-pg1-f225.google.com with SMTP id 41be03b00d2f7-b34ab678931so2090843a12.0 for ; Fri, 25 Jul 2025 12:02:54 -0700 (PDT) DKIM-Signature: v=1; a=rsa-sha256; c=relaxed/relaxed; d=iol.unh.edu; s=unh-iol; t=1753470173; x=1754074973; darn=dpdk.org; h=references:in-reply-to:cc:to:from:subject:message-id:date:from:to :cc:subject:date:message-id:reply-to; bh=U40fsfRWdXdixXA69oWuZbd4CLPgdwnxsKpyPb3lMY8=; b=iXzFEZtStkylefLWp/459XByQTg6WnV4dRavRw3KkEGjuoynz9JcHOB0Q8SChjddXJ BkxMC4n8+Q1vXGDY8LvEHL413NKZU3KY2J4grmjJ8sz0P3zjUZPBmKAP4DrhTtbCYSAn 5VAS3KeHm+oWiwtvT8SekBiWkB0W3xta/EqDI= X-Google-DKIM-Signature: v=1; a=rsa-sha256; c=relaxed/relaxed; d=1e100.net; s=20230601; t=1753470173; x=1754074973; h=references:in-reply-to:cc:to:from:subject:message-id:date :x-gm-message-state:from:to:cc:subject:date:message-id:reply-to; bh=U40fsfRWdXdixXA69oWuZbd4CLPgdwnxsKpyPb3lMY8=; b=DC2vdSsNyn1Sgq08EoPm0BUGx35J5V+EiCAtPXIRQNhknlNLPextO/dOs+Fnd5v0dE JUdVMGWuo1OXbMtmQE5gOFBxD6EkkLocBOSE2rQxkIosnCGdwGapltb+FnVYUWotJKuW 1Lpbm1LtaTNGh7/o7Jpib9vr1FEVlFxotsr2J9UePXsS8Q6Mz0gI75WFTbADiOdud9dk yaTFpozbJdcDVszlE5wPwOikaL9fCsZUn8Ko3JBi0BWl1zA+uPON7JAe1XlDkCQYeMmH Wg/ETevoDfPK1dMWlm55rUI+DYdh050V9CEmDMT00+RsV08bIvj+188nx+DaNyTlryzi hwHA== X-Gm-Message-State: AOJu0YxWSp0CwTIZi0q/mVjX0qInCRGAzW07vcGQWRj+CKNhJ+zCx/h7 ETVBHNuBfNJtJTqI5RrKALzRL0STvE2WdRaXOVIEKCvaIVO1UK3l+H5STK2InOYAyceGl16lyFI bZwLStslg1GANwYdZRRpfbHMdoUr52wa2Wd7izI0pHY/F X-Gm-Gg: ASbGncuQPuG6QhlvRuLa73zr/2hOfg4fesWs6WTund2geByvgDEzElmYrtkPdyRD/oa yD9ZGiVqTUBH3fXfRUL4+HsMbnMG5e33EO2+4HW0gnJ9tXvc9XmsYk/G5U6oWVkCP3uangA1bHg KQCLLoyy3MVtWZE5EtC0qhLLnJ7t6IUwTC1+G4D1ceJ1TJH5RQtI2PaJq+0YdVR9lIkRaKk8ZFt 5g0sYWoon8M8/9fGSQvwLeyn5hq2fTQ2kdSW1F/8qu4d+gpDN+XDXyp5HZOcuIB3sODqSVaiF+m 2rwC+OpZbpD81KvKAw/rnOKAcDyK6Afquu/WXVmrbwKaGMwh3giIHh3shFYsP8ztihrcTJUm X-Google-Smtp-Source: AGHT+IHrfR6qJv0ed9xfGwEguKsfVh7JE45GfVRUczs6G0+/hFcf+chFb1pL+c7OxkrDUvRiK8nWQ6kvviBq X-Received: by 2002:a17:902:c94a:b0:234:bc4e:4eb8 with SMTP id d9443c01a7336-23fb3120755mr44122535ad.46.1753470173601; Fri, 25 Jul 2025 12:02:53 -0700 (PDT) Received: from postal.iol.unh.edu (postal.iol.unh.edu. [132.177.123.84]) by smtp-relay.gmail.com with ESMTPS id d9443c01a7336-23fbe3611a5sm217485ad.18.2025.07.25.12.02.53 (version=TLS1_2 cipher=ECDHE-ECDSA-AES128-GCM-SHA256 bits=128/128); Fri, 25 Jul 2025 12:02:53 -0700 (PDT) X-Relaying-Domain: iol.unh.edu Date: Fri, 25 Jul 2025 12:02:53 -0700 (PDT) Message-ID: <6883d4dd.170a0220.2fa50d.11adSMTPIN_ADDED_MISSING@mx.google.com> Received: from [172.21.0.2] (unknown [172.18.0.240]) by postal.iol.unh.edu (Postfix) with ESMTP id 0901C604D420; Fri, 25 Jul 2025 15:02:53 -0400 (EDT) Subject: |SUCCESS| pw155533 [PATCH] [v4] lib/ethdev: fix segfault in secondar From: dpdklab@iol.unh.edu To: Test Report Cc: dpdk-test-reports@iol.unh.edu In-Reply-To: <20250725125526.2340233-1-14pwcse1224@uetpeshawar.edu.pk> References: <20250725125526.2340233-1-14pwcse1224@uetpeshawar.edu.pk> Content-Type: text/plain X-BeenThere: test-report@dpdk.org X-Mailman-Version: 2.1.29 Precedence: list List-Id: automatic DPDK test reports List-Unsubscribe: , List-Archive: List-Post: List-Help: List-Subscribe: , Errors-To: test-report-bounces@dpdk.org Test-Label: iol-compile-arm64-testing Test-Status: SUCCESS http://dpdk.org/patch/155533 _Testing PASS_ Submitter: Khadem Ullah <14pwcse1224@uetpeshawar.edu.pk> Date: Friday, July 25 2025 12:55:26 DPDK git baseline: Repo:dpdk Branch: master CommitID:899bc9e500ccc718c12b1df4b920dcf0cbeb6265 155533 --> testing pass Upstream job id: Generic-DPDK-Compile-Meson#412332 Test environment and result as below: +------------------------------+--------------------+ | Environment | dpdk_meson_compile | +==============================+====================+ | Red Hat Enterprise Linux 9.5 | PASS | +------------------------------+--------------------+ | Ubuntu 20.04 | PASS | +------------------------------+--------------------+ | Debian GNU/Linux 12 | PASS | +------------------------------+--------------------+ | Fedora Linux 40 | PASS | +------------------------------+--------------------+ | Fedora Linux 41 | PASS | +------------------------------+--------------------+ | Ubuntu 22.04 | PASS | +------------------------------+--------------------+ | Ubuntu 24.04 | PASS | +------------------------------+--------------------+ | CentOS Stream 9 | PASS | +------------------------------+--------------------+ | CentOS Stream 10 | PASS | +------------------------------+--------------------+ Red Hat Enterprise Linux 9.5 Kernel: 5.4 Compiler: gcc gcc (GCC) 11.5.0 20240719 (Red Hat 11.5.0-2) Ubuntu 20.04 Kernel: 5.4 Compiler: gcc gcc (Ubuntu 9.4.0-1ubuntu1~20.04.2) 9.4.0 Debian GNU/Linux 12 Kernel: 5.4 Compiler: gcc gcc (Debian 12.2.0-14+deb12u1) 12.2.0 Fedora Linux 40 Kernel: 5.4 Compiler: gcc gcc (GCC) 14.2.1 20240912 (Red Hat 14.2.1-3) Fedora Linux 41 Kernel: 5.4 Compiler: gcc gcc (GCC) 14.3.1 20250523 (Red Hat 14.3.1-1) Ubuntu 22.04 Kernel: 5.4 Compiler: gcc gcc (Ubuntu 11.4.0-1ubuntu1~22.04) 11.4.0 Ubuntu 24.04 Kernel: 5.4 Compiler: gcc gcc (Ubuntu 13.3.0-6ubuntu2~24.04) 13.3.0 CentOS Stream 9 Kernel: 5.4 Compiler: gcc gcc (GCC) 11.5.0 20240719 (Red Hat 11.5.0-7) CentOS Stream 10 Kernel: 5.4 Compiler: gcc gcc (GCC) 14.2.1 20250110 (Red Hat 14.2.1-8) To view detailed results, visit: https://lab.dpdk.org/results/dashboard/patchsets/33752/ UNH-IOL DPDK Community Lab To manage your email subscriptions, visit: https://lab.dpdk.org/results/dashboard/preferences/subscriptions/