From mboxrd@z Thu Jan 1 00:00:00 1970 Return-Path: Received: from mails.dpdk.org (mails.dpdk.org [217.70.189.124]) by inbox.dpdk.org (Postfix) with ESMTP id B7E5346C10 for ; Fri, 25 Jul 2025 21:03:09 +0200 (CEST) Received: from mails.dpdk.org (localhost [127.0.0.1]) by mails.dpdk.org (Postfix) with ESMTP id B2999400D5; Fri, 25 Jul 2025 21:03:09 +0200 (CEST) Received: from mail-pl1-f228.google.com (mail-pl1-f228.google.com [209.85.214.228]) by mails.dpdk.org (Postfix) with ESMTP id AC5AC400D5 for ; Fri, 25 Jul 2025 21:03:08 +0200 (CEST) Received: by mail-pl1-f228.google.com with SMTP id d9443c01a7336-23694cec0feso23824665ad.2 for ; Fri, 25 Jul 2025 12:03:08 -0700 (PDT) DKIM-Signature: v=1; a=rsa-sha256; c=relaxed/relaxed; d=iol.unh.edu; s=unh-iol; t=1753470188; x=1754074988; darn=dpdk.org; h=references:in-reply-to:cc:to:from:subject:message-id:date:from:to :cc:subject:date:message-id:reply-to; bh=d+OS9QXjr7YKflUcCk/H3PPNAtVrt55XRycED2nKnxM=; b=QDZfZqwyE3DBQwhX+4PNQqcA8ObqjQVEd0CLgX1lGapLenucjZoDKzB6eN0cdAbHDm bhtCyEnjl+lDcGfvzs0ocmIyKjbKmjG2rNI5cPYNoI58R9P+UIVGc2gPOFgY9RM+yNeO SLi8DAJYKzVni3QE4aHDDx0NFpgb74Jbyq4T8= X-Google-DKIM-Signature: v=1; a=rsa-sha256; c=relaxed/relaxed; d=1e100.net; s=20230601; t=1753470188; x=1754074988; h=references:in-reply-to:cc:to:from:subject:message-id:date :x-gm-message-state:from:to:cc:subject:date:message-id:reply-to; bh=d+OS9QXjr7YKflUcCk/H3PPNAtVrt55XRycED2nKnxM=; b=LpGbQXXcN/cxfieimCuQRuU2KABwttWr/MLjdVopdmXQQ9ckZs0iRy/U3zZc8FPfFG m4VUxgeWKafXcV8uOhrq/TWcPcYDnm1qd22KoYc+jfSVED3RE067/4UnyMfFXI4kkPoy QTBxoCsuN/dzqG0IY7PDbWoIC83vbSagqlBiz2RUTiP0K+dq9rxWgFzX7mYBiBWRIOsk An53NG8D2d9WJPxgb8aLHakVIoaLf0Zrz3GiQpovrqPLwLGodgY6FlF7klh8M/8q6eXl DkpE3C/d9AeWLNM6lxWNA/PKgtSA3xny6nUPyVr2063XA3wZqPbctwnHpObMPtDlcP5l GSMw== X-Gm-Message-State: AOJu0YzvSyj2Ec6ois5QVsZ35DCPsHw4pgNfF3TlLG2ZB+KtMrFG76VF 3CTez02YodRIbdgKHtSIHqgtFs0cHMgqz/28xQo/mIXM2+Oj80OqxOe59VWYnTeKvuMfba8uckz /qwMjsbbwsImwemowxtW2LHaFsBBLTiA9QRu3hJs7CU8M X-Gm-Gg: ASbGncsuRkjjpQj/m6esMmvJvtw5sI/q5RAQkBMy8dHE/YrzlaFXiSmkmDBHrIRE3PA 71XyYFZbyimzNqgtiZjsFMRqeUs8OMo2RD9XRBk7tamhtsIjoRAKF8GYzefXSj6V58kQQd4K/yA RsdF4CWw6cIT87bKK+9/hbxxtehpnWR1v1AQS5hUbL6rMPOS8rfi6lFDoxDAL+QWqzTjn436ZYe GlhXoZGbWzDNz8skb+f5ox/l8i0iPzIl8uW7Llmxvyvr0r8yec9IcgdjmeJFU1IVaWQGIQccohY B54ym+9jWau2KBwUXJ/ONFYWnaRmJywDu9Tg3hj0CVuOYlX8miC+Ji0It2e5rCMSCKoQCq+A X-Google-Smtp-Source: AGHT+IHxNBFF+6ENVBx51uxgZSlCdIFd1wK5cwjt6oQLb4qSeyLp4+g1o6/t69KPTdxPqys06cUdvozDY4Ox X-Received: by 2002:a17:902:f60b:b0:236:8df7:b30a with SMTP id d9443c01a7336-23fb2fefde1mr39165585ad.1.1753470187792; Fri, 25 Jul 2025 12:03:07 -0700 (PDT) Received: from postal.iol.unh.edu (postal.iol.unh.edu. [132.177.123.84]) by smtp-relay.gmail.com with ESMTPS id d9443c01a7336-23fbe360214sm249595ad.1.2025.07.25.12.03.07 (version=TLS1_2 cipher=ECDHE-ECDSA-AES128-GCM-SHA256 bits=128/128); Fri, 25 Jul 2025 12:03:07 -0700 (PDT) X-Relaying-Domain: iol.unh.edu Date: Fri, 25 Jul 2025 12:03:07 -0700 (PDT) Message-ID: <6883d4eb.170a0220.36ca78.17baSMTPIN_ADDED_MISSING@mx.google.com> Received: from [172.21.0.2] (unknown [172.18.0.240]) by postal.iol.unh.edu (Postfix) with ESMTP id 468C4604D420; Fri, 25 Jul 2025 15:03:07 -0400 (EDT) Subject: |SUCCESS| pw155533 [PATCH] [v4] lib/ethdev: fix segfault in secondar From: dpdklab@iol.unh.edu To: Test Report Cc: dpdk-test-reports@iol.unh.edu In-Reply-To: <20250725125526.2340233-1-14pwcse1224@uetpeshawar.edu.pk> References: <20250725125526.2340233-1-14pwcse1224@uetpeshawar.edu.pk> Content-Type: text/plain X-BeenThere: test-report@dpdk.org X-Mailman-Version: 2.1.29 Precedence: list List-Id: automatic DPDK test reports List-Unsubscribe: , List-Archive: List-Post: List-Help: List-Subscribe: , Errors-To: test-report-bounces@dpdk.org Test-Label: iol-compile-arm64-testing Test-Status: SUCCESS http://dpdk.org/patch/155533 _Testing PASS_ Submitter: Khadem Ullah <14pwcse1224@uetpeshawar.edu.pk> Date: Friday, July 25 2025 12:55:26 DPDK git baseline: Repo:dpdk Branch: master CommitID:899bc9e500ccc718c12b1df4b920dcf0cbeb6265 155533 --> testing pass Upstream job id: Generic-DPDK-Compile-Meson#412334 Test environment and result as below: +------------------------------+--------------------+ | Environment | dpdk_meson_compile | +==============================+====================+ | Red Hat Enterprise Linux 9.5 | PASS | +------------------------------+--------------------+ | Ubuntu 20.04 | PASS | +------------------------------+--------------------+ | Debian GNU/Linux 12 | PASS | +------------------------------+--------------------+ | Fedora Linux 40 | PASS | +------------------------------+--------------------+ | Fedora Linux 41 | PASS | +------------------------------+--------------------+ | Ubuntu 22.04 | PASS | +------------------------------+--------------------+ | Ubuntu 24.04 | PASS | +------------------------------+--------------------+ | CentOS Stream 9 | PASS | +------------------------------+--------------------+ | CentOS Stream 10 | PASS | +------------------------------+--------------------+ Red Hat Enterprise Linux 9.5 Kernel: 5.4 Compiler: gcc gcc (GCC) 11.5.0 20240719 (Red Hat 11.5.0-2) Ubuntu 20.04 Kernel: 5.4 Compiler: gcc gcc (Ubuntu 9.4.0-1ubuntu1~20.04.2) 9.4.0 Debian GNU/Linux 12 Kernel: 5.4 Compiler: gcc gcc (Debian 12.2.0-14+deb12u1) 12.2.0 Fedora Linux 40 Kernel: 5.4 Compiler: gcc gcc (GCC) 14.2.1 20240912 (Red Hat 14.2.1-3) Fedora Linux 41 Kernel: 5.4 Compiler: gcc gcc (GCC) 14.3.1 20250523 (Red Hat 14.3.1-1) Ubuntu 22.04 Kernel: 5.4 Compiler: gcc gcc (Ubuntu 11.4.0-1ubuntu1~22.04) 11.4.0 Ubuntu 24.04 Kernel: 5.4 Compiler: gcc gcc (Ubuntu 13.3.0-6ubuntu2~24.04) 13.3.0 CentOS Stream 9 Kernel: 5.4 Compiler: gcc gcc (GCC) 11.5.0 20240719 (Red Hat 11.5.0-7) CentOS Stream 10 Kernel: 5.4 Compiler: gcc gcc (GCC) 14.2.1 20250110 (Red Hat 14.2.1-8) To view detailed results, visit: https://lab.dpdk.org/results/dashboard/patchsets/33752/ UNH-IOL DPDK Community Lab To manage your email subscriptions, visit: https://lab.dpdk.org/results/dashboard/preferences/subscriptions/