From mboxrd@z Thu Jan 1 00:00:00 1970 Return-Path: Received: from mails.dpdk.org (mails.dpdk.org [217.70.189.124]) by inbox.dpdk.org (Postfix) with ESMTP id C81C646C10 for ; Fri, 25 Jul 2025 21:03:34 +0200 (CEST) Received: from mails.dpdk.org (localhost [127.0.0.1]) by mails.dpdk.org (Postfix) with ESMTP id C289C400D5; Fri, 25 Jul 2025 21:03:34 +0200 (CEST) Received: from mail-il1-f226.google.com (mail-il1-f226.google.com [209.85.166.226]) by mails.dpdk.org (Postfix) with ESMTP id 3FDD8400D5 for ; Fri, 25 Jul 2025 21:03:33 +0200 (CEST) Received: by mail-il1-f226.google.com with SMTP id e9e14a558f8ab-3df210930f7so11169955ab.1 for ; Fri, 25 Jul 2025 12:03:33 -0700 (PDT) DKIM-Signature: v=1; a=rsa-sha256; c=relaxed/relaxed; d=iol.unh.edu; s=unh-iol; t=1753470212; x=1754075012; darn=dpdk.org; h=references:in-reply-to:cc:to:from:subject:message-id:date:from:to :cc:subject:date:message-id:reply-to; bh=DSVm3L3oMRC1tV/hRg4qezACK5m71FUjZs/wfTLRe6E=; b=QURhBtUrgyTIQxG2KO/YdxOoNli9+0EeEDEVs3QgQhqI8iB31QuTfLhe4aGuvagmVX W31yweqfmoh/74uO2Vx5p+xZK9VJQFHPt424umSNoHZ7dwxG2ukbMPXnDRIkCPDjq2gD sOyQ2IUrXApf+TV7c4zre7TgF+QNAyA+H6e+k= X-Google-DKIM-Signature: v=1; a=rsa-sha256; c=relaxed/relaxed; d=1e100.net; s=20230601; t=1753470212; x=1754075012; h=references:in-reply-to:cc:to:from:subject:message-id:date :x-gm-message-state:from:to:cc:subject:date:message-id:reply-to; bh=DSVm3L3oMRC1tV/hRg4qezACK5m71FUjZs/wfTLRe6E=; b=WIcCwg2hP5qbFD7hnerGECa+sWWeYz2YmcVnnKSZnJrGIuq2V0jS+7Z/fx/o1Fubio E0wLSLFb9LYrp9h9muRj81FkQ77NeyXNZx4fKUGlNGUkOHB7/HTm7PoiVU4RtwBLb3x0 aSUm+ORhiS1RUPZiFjocXX0apTwp5jQ+Pa2MIIJ8FBrZ8J5tgyBsHopUb2ieI/oAIBC7 WNirSJkYMvsTLcvsKn+uRF1ET/ckKllPNs5XKVyChB7AVExVywxukwKv37H5+qwDAQ9o z3AcOQzrMI9xfQtXC17X1nt2dxGsAOOuUNqa3h8zUF7jLDUfFXojDqJjb6AUYCtq2T+Z YOvQ== X-Gm-Message-State: AOJu0Yx81KqaDZEFxfMqOJ73KoE89gKJ/CxVj5JBWOb+KkW3EgUGYq/o nUAp5yYnvHT2GQblxGkLNg0BPKzmucJXRg8W+JenHYDAMy8oXULasAK0ZqqgZ/8vpyPXlIfBwqN jdfOHB1IZmfzl6LiPyNU210RVh9GOauSCBG/jHkYTJVzwCxe/uxwijCpriDVR X-Gm-Gg: ASbGncvbPJT0jL9yl9yuDhKqwqNL2wPcVLd0LTFfHSU0eMHTpk3GUnupgkt5h9XIjXK cdZ45YGNVU7Q5t49OyEHtBCanBegvcX/5cPodgjqy0sJDPB5Tm8tLWfl8UfMJKe+3zOJS+VGpcg s8HCyeR9QbJbbFAqjCQNvD8WNXZef2fidZePW5ovNlkkXH7ZPOr1UbrCVPAzC/nD0jeLn5fIZol aAG727INwntOsAqIBpgmF2UxjJ+zXYH/DRIVQS5KHi9i1gVaw17rCXq1XkWy/Kek6u9C52aUYtR 3fGioPUoHnZeD9omhJWDKzyyLlxzNlFEvbEQ8OkDXeGcaXD/aw== X-Google-Smtp-Source: AGHT+IGjNHoSsT8X0VUavQxnbt0+HRDgCROdQhQPF5b4egZUfHFfBns1QlJ34XpsB6C3MES6ghFad8MxTjQy X-Received: by 2002:a05:6e02:1c2f:b0:3dc:879b:be95 with SMTP id e9e14a558f8ab-3e3b97b156dmr98403555ab.5.1753470212443; Fri, 25 Jul 2025 12:03:32 -0700 (PDT) Received: from postal.iol.unh.edu (postal.iol.unh.edu. [2606:4100:3880:1234::84]) by smtp-relay.gmail.com with ESMTPS id 8926c6da1cb9f-508c91def03sm28371173.2.2025.07.25.12.03.32 (version=TLS1_2 cipher=ECDHE-ECDSA-AES128-GCM-SHA256 bits=128/128); Fri, 25 Jul 2025 12:03:32 -0700 (PDT) X-Relaying-Domain: iol.unh.edu Date: Fri, 25 Jul 2025 12:03:32 -0700 (PDT) Message-ID: <6883d504.050a0220.3c678d.17b0SMTPIN_ADDED_MISSING@mx.google.com> Received: from [172.21.0.3] (unknown [172.18.0.240]) by postal.iol.unh.edu (Postfix) with ESMTP id 1B37C604D420; Fri, 25 Jul 2025 15:03:32 -0400 (EDT) Subject: |SUCCESS| pw155519-155532 [PATCH] [RFC,14/14] net/i40e: use the comm From: dpdklab@iol.unh.edu To: Test Report Cc: dpdk-test-reports@iol.unh.edu In-Reply-To: <20250725124919.3564890-15-ciara.loftus@intel.com> References: <20250725124919.3564890-15-ciara.loftus@intel.com> Content-Type: text/plain X-BeenThere: test-report@dpdk.org X-Mailman-Version: 2.1.29 Precedence: list List-Id: automatic DPDK test reports List-Unsubscribe: , List-Archive: List-Post: List-Help: List-Subscribe: , Errors-To: test-report-bounces@dpdk.org Test-Label: iol-compile-arm64-testing Test-Status: SUCCESS http://dpdk.org/patch/155532 _Testing PASS_ Submitter: Ciara Loftus Date: Friday, July 25 2025 12:49:19 DPDK git baseline: Repo:dpdk Branch: master CommitID:e3183a6edafdc41bfd71de1517f9e9ec85eb1276 155519-155532 --> testing pass Upstream job id: Generic-DPDK-Compile-Meson#412350 Test environment and result as below: +------------------------------+--------------------+ | Environment | dpdk_meson_compile | +==============================+====================+ | Red Hat Enterprise Linux 9.5 | PASS | +------------------------------+--------------------+ | Ubuntu 20.04 | PASS | +------------------------------+--------------------+ | Debian GNU/Linux 12 | PASS | +------------------------------+--------------------+ | Fedora Linux 40 | PASS | +------------------------------+--------------------+ | Fedora Linux 41 | PASS | +------------------------------+--------------------+ | CentOS Stream 10 | PASS | +------------------------------+--------------------+ | CentOS Stream 9 | PASS | +------------------------------+--------------------+ | Ubuntu 22.04 | PASS | +------------------------------+--------------------+ | Ubuntu 24.04 | PASS | +------------------------------+--------------------+ Red Hat Enterprise Linux 9.5 Kernel: 5.4 Compiler: gcc gcc (GCC) 11.5.0 20240719 (Red Hat 11.5.0-2) Ubuntu 20.04 Kernel: 5.15 Compiler: aarch64-linux-gnu-gcc gcc (Ubuntu 9.4.0-1ubuntu1~20.04.2) 9.4.0 Debian GNU/Linux 12 Kernel: 5.4 Compiler: gcc gcc (Debian 12.2.0-14+deb12u1) 12.2.0 Fedora Linux 40 Kernel: 5.4 Compiler: gcc gcc (GCC) 14.2.1 20240912 (Red Hat 14.2.1-3) Fedora Linux 41 Kernel: 5.4 Compiler: clang gcc (GCC) 14.3.1 20250523 (Red Hat 14.3.1-1) CentOS Stream 10 Kernel: 5.4 Compiler: gcc gcc (GCC) 14.2.1 20250110 (Red Hat 14.2.1-8) CentOS Stream 9 Kernel: 5.4 Compiler: gcc gcc (GCC) 11.5.0 20240719 (Red Hat 11.5.0-7) Ubuntu 22.04 Kernel: 5.4 Compiler: gcc gcc (Ubuntu 11.4.0-1ubuntu1~22.04) 11.4.0 Ubuntu 24.04 Kernel: 5.4 Compiler: gcc gcc (Ubuntu 13.3.0-6ubuntu2~24.04) 13.3.0 To view detailed results, visit: https://lab.dpdk.org/results/dashboard/patchsets/33751/ UNH-IOL DPDK Community Lab To manage your email subscriptions, visit: https://lab.dpdk.org/results/dashboard/preferences/subscriptions/