From mboxrd@z Thu Jan 1 00:00:00 1970 Return-Path: Received: from mails.dpdk.org (mails.dpdk.org [217.70.189.124]) by inbox.dpdk.org (Postfix) with ESMTP id DA70C46C10 for ; Fri, 25 Jul 2025 21:04:03 +0200 (CEST) Received: from mails.dpdk.org (localhost [127.0.0.1]) by mails.dpdk.org (Postfix) with ESMTP id D4EBB400D5; Fri, 25 Jul 2025 21:04:03 +0200 (CEST) Received: from mail-pl1-f228.google.com (mail-pl1-f228.google.com [209.85.214.228]) by mails.dpdk.org (Postfix) with ESMTP id A62C7400D5 for ; Fri, 25 Jul 2025 21:04:02 +0200 (CEST) Received: by mail-pl1-f228.google.com with SMTP id d9443c01a7336-23636167afeso22640025ad.3 for ; Fri, 25 Jul 2025 12:04:02 -0700 (PDT) DKIM-Signature: v=1; a=rsa-sha256; c=relaxed/relaxed; d=iol.unh.edu; s=unh-iol; t=1753470242; x=1754075042; darn=dpdk.org; h=references:in-reply-to:cc:to:from:subject:message-id:date:from:to :cc:subject:date:message-id:reply-to; bh=szXAlRPflOuuH/TORZF9P/WLp9fbiZB7vTONHH+HPA8=; b=RQAhV7Zym3HChBKI6+qtc5TiWAULAmIWy3IHdeBaINk7WMxwzTyRtsR3ZAMUF4VjGS t4tYAxuBsC93BOmtPApHcvsUiXzTPazOn53rOV9AamBaGoVSgCYofji3NaGQeC3AIp9y zoQkifi/624sTHPBERp4Hac16RDmwHPKMtMf0= X-Google-DKIM-Signature: v=1; a=rsa-sha256; c=relaxed/relaxed; d=1e100.net; s=20230601; t=1753470242; x=1754075042; h=references:in-reply-to:cc:to:from:subject:message-id:date :x-gm-message-state:from:to:cc:subject:date:message-id:reply-to; bh=szXAlRPflOuuH/TORZF9P/WLp9fbiZB7vTONHH+HPA8=; b=T/n8ha8XJha8LALi4dgUfLY+8oBBjyAWDPzzETq6EpB97WMn/xMaj+Sd6KylahfCCp L56Y5osskTl7dbSk2LOEiB0AdaUWxkaM3ptdWbRm0ruAgRJ+xsac6SGobu140DBWIRRE gFV+ThugRHQ0vGyQ9G31ks7z89/1gltL5qsCV0bdPShSEJQq6b2EB5G2G+tGlGEry000 qn9qc9wS8VGVtslHT5inZkQOsew3Q9UUzzgxNelpynH6QKZb7tyyXqn52NSeUJwmYi1U yerKoxMmSRlyAOcyaIHh1Iug5ktFGTrFCvZm1/B2l/6DXJWLddbYf5eS0VMfvW/DPF9+ htMQ== X-Gm-Message-State: AOJu0Yyy1fI4sFYTYBOcyYPlNvcdnExEVRgqJZ2ESezUQx2zsHdwroXL bacoj52MimtqsiQ1C9BQHIwiPjem8vE/tqJQmN8JvGP3VWzBrbhVYeFvhFIqAQFOR9sqci/bVYr lBR6T3xFMYjtNumM/Oib/ceQHSG7gTjRLMa1BqXK8f12p X-Gm-Gg: ASbGnctjNr89TFy+pqylCk3FsBYmYAoIrkDg/ufDK7Bsxv9NodcuzaueJg4gqCv02GV cUpXoF/bSZ1GS3wX5WdyhiJApbufqxUT115lHaTTTsC7oib5dmbbkQcatfb33wPNZwBGOz6xE/c DK/sEn0cPhGZFk2qyzIhj0nxWlUO4+SaWatSQt9eRphwkmsWPXuWOiCk1nAeJhmwNMw0EIn9GWm B9tKB6YwVHq/5uzfZeOkkaE0KdmeQrpPol2e8rT9iZGlJ260wlYLjOnWWxUvCmINZzlnLEISC5F Iq7JJTKnF86E33hNp9DVWr8BtkoDOmzCUk1QDhhM9J62rLklI5Yxv/qqCoddFInAayFvaxZZ X-Google-Smtp-Source: AGHT+IF9ArHq3eapNWa3jeEih3TOMrLOUKkIrpvv7C+axzzExyBaVS+8snFHi7w8DgMJ/OZm9HXRRFhULfQR X-Received: by 2002:a17:902:ea0f:b0:23f:8d6a:8e45 with SMTP id d9443c01a7336-23fb307a084mr51633745ad.4.1753470241702; Fri, 25 Jul 2025 12:04:01 -0700 (PDT) Received: from postal.iol.unh.edu (postal.iol.unh.edu. [132.177.123.84]) by smtp-relay.gmail.com with ESMTPS id d9443c01a7336-23fbe514174sm231155ad.50.2025.07.25.12.03.58 (version=TLS1_2 cipher=ECDHE-ECDSA-AES128-GCM-SHA256 bits=128/128); Fri, 25 Jul 2025 12:03:59 -0700 (PDT) X-Relaying-Domain: iol.unh.edu Date: Fri, 25 Jul 2025 12:03:59 -0700 (PDT) Message-ID: <6883d51f.170a0220.2c208f.1319SMTPIN_ADDED_MISSING@mx.google.com> Received: from [172.21.0.2] (unknown [172.18.0.240]) by postal.iol.unh.edu (Postfix) with ESMTP id 4B69B604D420; Fri, 25 Jul 2025 15:03:58 -0400 (EDT) Subject: |SUCCESS| pw155519-155532 [PATCH] [RFC,14/14] net/i40e: use the comm From: dpdklab@iol.unh.edu To: Test Report Cc: dpdk-test-reports@iol.unh.edu In-Reply-To: <20250725124919.3564890-15-ciara.loftus@intel.com> References: <20250725124919.3564890-15-ciara.loftus@intel.com> Content-Type: text/plain X-BeenThere: test-report@dpdk.org X-Mailman-Version: 2.1.29 Precedence: list List-Id: automatic DPDK test reports List-Unsubscribe: , List-Archive: List-Post: List-Help: List-Subscribe: , Errors-To: test-report-bounces@dpdk.org Test-Label: iol-compile-arm64-testing Test-Status: SUCCESS http://dpdk.org/patch/155532 _Testing PASS_ Submitter: Ciara Loftus Date: Friday, July 25 2025 12:49:19 DPDK git baseline: Repo:dpdk Branch: master CommitID:e3183a6edafdc41bfd71de1517f9e9ec85eb1276 155519-155532 --> testing pass Upstream job id: Generic-DPDK-Compile-Meson#412348 Test environment and result as below: +------------------------------+--------------------+ | Environment | dpdk_meson_compile | +==============================+====================+ | Red Hat Enterprise Linux 9.5 | PASS | +------------------------------+--------------------+ | Ubuntu 20.04 | PASS | +------------------------------+--------------------+ | Debian GNU/Linux 12 | PASS | +------------------------------+--------------------+ | Fedora Linux 40 | PASS | +------------------------------+--------------------+ | Fedora Linux 41 | PASS | +------------------------------+--------------------+ | CentOS Stream 10 | PASS | +------------------------------+--------------------+ | CentOS Stream 9 | PASS | +------------------------------+--------------------+ | Ubuntu 22.04 | PASS | +------------------------------+--------------------+ | Ubuntu 24.04 | PASS | +------------------------------+--------------------+ Red Hat Enterprise Linux 9.5 Kernel: 5.4 Compiler: gcc gcc (GCC) 11.5.0 20240719 (Red Hat 11.5.0-2) Ubuntu 20.04 Kernel: 5.15 Compiler: aarch64-linux-gnu-gcc gcc (Ubuntu 9.4.0-1ubuntu1~20.04.2) 9.4.0 Debian GNU/Linux 12 Kernel: 5.4 Compiler: gcc gcc (Debian 12.2.0-14+deb12u1) 12.2.0 Fedora Linux 40 Kernel: 5.4 Compiler: gcc gcc (GCC) 14.2.1 20240912 (Red Hat 14.2.1-3) Fedora Linux 41 Kernel: 5.4 Compiler: clang gcc (GCC) 14.3.1 20250523 (Red Hat 14.3.1-1) CentOS Stream 10 Kernel: 5.4 Compiler: gcc gcc (GCC) 14.2.1 20250110 (Red Hat 14.2.1-8) CentOS Stream 9 Kernel: 5.4 Compiler: gcc gcc (GCC) 11.5.0 20240719 (Red Hat 11.5.0-7) Ubuntu 22.04 Kernel: 5.4 Compiler: gcc gcc (Ubuntu 11.4.0-1ubuntu1~22.04) 11.4.0 Ubuntu 24.04 Kernel: 5.4 Compiler: gcc gcc (Ubuntu 13.3.0-6ubuntu2~24.04) 13.3.0 To view detailed results, visit: https://lab.dpdk.org/results/dashboard/patchsets/33751/ UNH-IOL DPDK Community Lab To manage your email subscriptions, visit: https://lab.dpdk.org/results/dashboard/preferences/subscriptions/