From mboxrd@z Thu Jan 1 00:00:00 1970 Return-Path: Received: from mails.dpdk.org (mails.dpdk.org [217.70.189.124]) by inbox.dpdk.org (Postfix) with ESMTP id C1D0346C10 for ; Fri, 25 Jul 2025 21:14:12 +0200 (CEST) Received: from mails.dpdk.org (localhost [127.0.0.1]) by mails.dpdk.org (Postfix) with ESMTP id A7110400D5; Fri, 25 Jul 2025 21:14:12 +0200 (CEST) Received: from mail-pl1-f227.google.com (mail-pl1-f227.google.com [209.85.214.227]) by mails.dpdk.org (Postfix) with ESMTP id D125B400D5 for ; Fri, 25 Jul 2025 21:14:10 +0200 (CEST) Received: by mail-pl1-f227.google.com with SMTP id d9443c01a7336-2349f096605so29614235ad.3 for ; Fri, 25 Jul 2025 12:14:10 -0700 (PDT) DKIM-Signature: v=1; a=rsa-sha256; c=relaxed/relaxed; d=iol.unh.edu; s=unh-iol; t=1753470850; x=1754075650; darn=dpdk.org; h=references:in-reply-to:cc:to:from:subject:message-id:date:from:to :cc:subject:date:message-id:reply-to; bh=VyobOH+D47kA1JRFI3me26/T3fheKQMpg7cJ1cBcKec=; b=SNDXeaGAhRQ/QiBglz7yBCrlMN6cVe50e1qOybYH7d+nT8pONpku8fWO0xTGl2m15y JhFHndiAaYNSEchEF226satfAEwrOfEeo8TchnSRurmHhkrjb7RKtix/T4QmQXqmSAZS Y1uouZ83COBZb2dIE8augN2bToY8/sR9T+hTo= X-Google-DKIM-Signature: v=1; a=rsa-sha256; c=relaxed/relaxed; d=1e100.net; s=20230601; t=1753470850; x=1754075650; h=references:in-reply-to:cc:to:from:subject:message-id:date :x-gm-message-state:from:to:cc:subject:date:message-id:reply-to; bh=VyobOH+D47kA1JRFI3me26/T3fheKQMpg7cJ1cBcKec=; b=uoK15MY9c7Y9V6N+xXm5yz4aKb9++7dcBiozckTKwlY8BKYGi9/1fvCDzHFrU65RMQ hnQzOAR5QxKLCB9eXPhwb/s0yrWpR55/w2+2Lk0qj0ShgPsx23cuObk65LfQvf4OD5UO Py6ImHnlpIB3KkHWwl7mJn9ITFbleNdGTSkO427XVlEGMKSKcVvveaXPyNqPGkAhcTx+ BfP1TDkjOZYcL5OFH0ObhiRO7ELmJyTObxRUQiTkjTNULsxsXV9y0wipVLBJvPctP1Lm RGvlqU6kckaTpxt1VlwdXcPi4m9Ue0DUnZFje7c4X+C1YpMgzjQ7g3RrvKsQXNfKF/Jp kg4A== X-Gm-Message-State: AOJu0YwGVacXRZ1uSvWiGDZrpCmcRA1sOBacM2iIJk1326veXnwcCrT1 0Pgc54v0VH3LpWvWgRvT5CBsIPkyFgUgqSlG7oVDWQz3Gwcdjw1gcVABrhN92q8GAKTpb0zJBux 0BoTCBM6PkQ9ufdXNQWYTMkgMJJ8hRVSZ6KtRChZfxa82 X-Gm-Gg: ASbGncueaJ5SrwzpuDQU0UQQV7zOL5C9DXjNPIX4Aq/gzTDtg7T1APZD8S0cUgpkx7y 8G5N4B9/1ebV62gXBzZuywOd1nvqm/T0FqlK5/dwyX7hYj1Ye6eL+5sTu3Sf5ihGLJs9ifCkUXG rkpHgZ0/BUwwLgBnWSP5yNzsmHF2bd1BsLCQJmUxRZE6mudG4JRc1rzivPUuKhGeSPhW300Mxo9 mjUzMaorb442QCw++TMlZsUmtdgMq6y30SIIMmaA5tKjMfxLLa2tCEZFDfYDUBByqTCcGUixZ04 qTYAXUeOtl8NrpUym2H43bVxQU1zUWgF36E4+Vh1jFazMbaG3uBr6hnzm9sg7xBVaX/BjkzY X-Google-Smtp-Source: AGHT+IGPQI5kYbbg1NhsipAfH6K6/B597S5GfB7IZHa5Im4HsU/bil1FH3wBqfPBxk+f7eoE02auYmk9AvpH X-Received: by 2002:a17:903:2b10:b0:234:f580:a15 with SMTP id d9443c01a7336-23fb30be0abmr39305555ad.14.1753470849953; Fri, 25 Jul 2025 12:14:09 -0700 (PDT) Received: from postal.iol.unh.edu (postal.iol.unh.edu. [132.177.123.84]) by smtp-relay.gmail.com with ESMTPS id d9443c01a7336-23fbe493cc7sm270965ad.41.2025.07.25.12.14.09 (version=TLS1_2 cipher=ECDHE-ECDSA-AES128-GCM-SHA256 bits=128/128); Fri, 25 Jul 2025 12:14:09 -0700 (PDT) X-Relaying-Domain: iol.unh.edu Date: Fri, 25 Jul 2025 12:14:09 -0700 (PDT) Message-ID: <6883d781.170a0220.26fae1.16b1SMTPIN_ADDED_MISSING@mx.google.com> Received: from [172.21.0.2] (unknown [172.18.0.240]) by postal.iol.unh.edu (Postfix) with ESMTP id 30D8A604D420; Fri, 25 Jul 2025 15:14:09 -0400 (EDT) Subject: |SUCCESS| pw155534-155539 [PATCH] [6/6] dts: use artifacts in packet From: dpdklab@iol.unh.edu To: Test Report Cc: dpdk-test-reports@iol.unh.edu In-Reply-To: <20250725151503.87374-7-luca.vizzarro@arm.com> References: <20250725151503.87374-7-luca.vizzarro@arm.com> Content-Type: text/plain X-BeenThere: test-report@dpdk.org X-Mailman-Version: 2.1.29 Precedence: list List-Id: automatic DPDK test reports List-Unsubscribe: , List-Archive: List-Post: List-Help: List-Subscribe: , Errors-To: test-report-bounces@dpdk.org Test-Label: iol-compile-arm64-testing Test-Status: SUCCESS http://dpdk.org/patch/155539 _Testing PASS_ Submitter: Luca Vizzarro Date: Friday, July 25 2025 15:11:41 DPDK git baseline: Repo:dpdk Branch: master CommitID:4ca046f964fe358dc360c603f79f431beddfcab6 155534-155539 --> testing pass Upstream job id: Generic-DPDK-Compile-Meson#412396 Test environment and result as below: +------------------------------+--------------------+ | Environment | dpdk_meson_compile | +==============================+====================+ | Red Hat Enterprise Linux 9.5 | PASS | +------------------------------+--------------------+ | Ubuntu 20.04 | PASS | +------------------------------+--------------------+ | Fedora Linux 40 | PASS | +------------------------------+--------------------+ | Debian GNU/Linux 12 | PASS | +------------------------------+--------------------+ | Fedora Linux 41 | PASS | +------------------------------+--------------------+ | Ubuntu 22.04 | PASS | +------------------------------+--------------------+ | CentOS Stream 9 | PASS | +------------------------------+--------------------+ | CentOS Stream 10 | PASS | +------------------------------+--------------------+ | Ubuntu 24.04 | PASS | +------------------------------+--------------------+ Red Hat Enterprise Linux 9.5 Kernel: 5.4 Compiler: gcc gcc (GCC) 11.5.0 20240719 (Red Hat 11.5.0-2) Ubuntu 20.04 Kernel: 5.15 Compiler: aarch64-linux-gnu-gcc gcc (Ubuntu 9.4.0-1ubuntu1~20.04.2) 9.4.0 Fedora Linux 40 Kernel: 5.4 Compiler: gcc gcc (GCC) 14.2.1 20240912 (Red Hat 14.2.1-3) Debian GNU/Linux 12 Kernel: 5.4 Compiler: gcc gcc (Debian 12.2.0-14+deb12u1) 12.2.0 Fedora Linux 41 Kernel: 5.4 Compiler: clang gcc (GCC) 14.3.1 20250523 (Red Hat 14.3.1-1) Ubuntu 22.04 Kernel: 5.4 Compiler: gcc gcc (Ubuntu 11.4.0-1ubuntu1~22.04) 11.4.0 CentOS Stream 9 Kernel: 5.4 Compiler: gcc gcc (GCC) 11.5.0 20240719 (Red Hat 11.5.0-7) CentOS Stream 10 Kernel: 5.4 Compiler: gcc gcc (GCC) 14.2.1 20250110 (Red Hat 14.2.1-8) Ubuntu 24.04 Kernel: 5.4 Compiler: gcc gcc (Ubuntu 13.3.0-6ubuntu2~24.04) 13.3.0 To view detailed results, visit: https://lab.dpdk.org/results/dashboard/patchsets/33753/ UNH-IOL DPDK Community Lab To manage your email subscriptions, visit: https://lab.dpdk.org/results/dashboard/preferences/subscriptions/