From mboxrd@z Thu Jan 1 00:00:00 1970 Return-Path: Received: from mails.dpdk.org (mails.dpdk.org [217.70.189.124]) by inbox.dpdk.org (Postfix) with ESMTP id A21B646F25 for ; Wed, 17 Sep 2025 14:14:21 +0200 (CEST) Received: from mails.dpdk.org (localhost [127.0.0.1]) by mails.dpdk.org (Postfix) with ESMTP id 9CE9B402C3; Wed, 17 Sep 2025 14:14:21 +0200 (CEST) Received: from mail-pf1-f226.google.com (mail-pf1-f226.google.com [209.85.210.226]) by mails.dpdk.org (Postfix) with ESMTP id 152BD402C3 for ; Wed, 17 Sep 2025 14:14:20 +0200 (CEST) Received: by mail-pf1-f226.google.com with SMTP id d2e1a72fcca58-76e6cbb991aso6079579b3a.1 for ; Wed, 17 Sep 2025 05:14:20 -0700 (PDT) DKIM-Signature: v=1; a=rsa-sha256; c=relaxed/relaxed; d=iol.unh.edu; s=unh-iol; t=1758111259; x=1758716059; darn=dpdk.org; h=cc:to:from:subject:message-id:date:from:to:cc:subject:date :message-id:reply-to; bh=fSXM/3n3Ovcqjkx0C83395+p1IwwiWPA9LeazEh6N5s=; b=IXJmwKDkiVGfFAjjrBsE7MdrYpdY6QgmeJHyD9+EcCYVbmF3anypHdVWcry7Ft+H6x ABTzECw2Sflkm53Pw4L6GkC1vxxKPYap1zGHJSyz4CXuNezMvNI320cNunjD5RM5CKg3 GUxzPlGL5WYPBXsRXFKcSfiwdH9Is2BvWDGMs= X-Google-DKIM-Signature: v=1; a=rsa-sha256; c=relaxed/relaxed; d=1e100.net; s=20230601; t=1758111259; x=1758716059; h=cc:to:from:subject:message-id:date:x-gm-message-state:from:to:cc :subject:date:message-id:reply-to; bh=fSXM/3n3Ovcqjkx0C83395+p1IwwiWPA9LeazEh6N5s=; b=qVxsls+N6gRP54lhM0VF2/APzJNi2aeERpd/3Xj3b1YvyfuwvUvsNR4zP4CcYMeurR YhXsIz7J11/tcYl1APgMp7yZ5QJVVdLaMEt3M4wtG02HKtZHBrwHYnzsoC0e9dvxO+ZQ C0tij9kBjdA+OEu+XTd4z4lf5CAVI53ZaaY/q/i6IVjvG7l+gZ/HM+HaU4GmCby6r/eS uITnIcBQydUXCjV2cslbEeVlLCdL13amZqf4QnJ2idamInPg6t3mBn0TcQ41ny1iZFPb tRqT3cnlUP9305MRWDELU3LK5ESfm5/V0PDcFz7g7KU8EUds8+vKnvURggMS7aKHsujl /j+w== X-Gm-Message-State: AOJu0YxAzsAqZWowIRvaOvic6YjLKs/wvy3sIhLodIw7zSQqlR6yXIy+ cgFgAlhASBytO3FJFWo/Mw40xYZAw8znSJjYXpRuEIui/Zv4VOH/3KHRVoDxw3c7N94SeJv6f+y jG4SwyWVRIHCeqFfRif/j6FHXdh43rIqBaG+C X-Gm-Gg: ASbGnctlBehKU7O2j5LzFhmucHACrM1oOmY89o/tx3d4yrR/Xei9efR9whH7LJEWc2T FvssFhS8flxHPjwkqofpoKkrnSUb/hHrZmYeqcy1Xl8Nz4GQ06GrL5qQiVnPnMfbntoT2+rz8gD Hav016ZbUtm8GnXMRPSFWZJu0zphpjlbatWru6zyUL6sVGiNI+ON7hjKBk3CC6evhvhdeMfRxmU wnTUa1t4a4/FpWY89gHnPSCzlobmxrBHw7zk7d1eO7YclRdcXB109h9O3zvwpDekJx2ITIr/H+L b2Y0SSNLtHWwQ43YzIIVYJVRFgdV/FtlNFjj4GLwSC5hq5YWw7oPzThU9ENq+b1Oi3kjTVfX X-Google-Smtp-Source: AGHT+IErmd9o/VUx1FzT/ApiEwnfEhZpA+2JzhAB8S1tHAbgvC+vmNewBNe5Z7eFSwXq+qZwCRLUuides46Y X-Received: by 2002:a05:6a00:4fc8:b0:776:14f1:4951 with SMTP id d2e1a72fcca58-77bf6be1e82mr2575166b3a.6.1758111259203; Wed, 17 Sep 2025 05:14:19 -0700 (PDT) Received: from postal.iol.unh.edu (postal.iol.unh.edu. [132.177.123.84]) by smtp-relay.gmail.com with ESMTPS id d2e1a72fcca58-77607803820sm1232684b3a.0.2025.09.17.05.14.19 (version=TLS1_2 cipher=ECDHE-ECDSA-AES128-GCM-SHA256 bits=128/128); Wed, 17 Sep 2025 05:14:19 -0700 (PDT) X-Relaying-Domain: iol.unh.edu Date: Wed, 17 Sep 2025 05:14:19 -0700 (PDT) Message-ID: <68caa61b.050a0220.1fa838.667bSMTPIN_ADDED_MISSING@mx.google.com> Received: from [172.21.0.2] (unknown [172.18.0.240]) by postal.iol.unh.edu (Postfix) with ESMTP id 6CFC56051830; Wed, 17 Sep 2025 08:14:18 -0400 (EDT) Subject: |WARNING| [GIT MASTER] 62f583c49bf67dd4d6733ece14e55fe6839e66d1 From: dpdklab@iol.unh.edu To: Test Report Cc: dpdk-test-reports@iol.unh.edu, Xueming Li , Christian Ehrhardt , Kevin Traynor , Luca Boccassi Content-Type: text/plain X-BeenThere: test-report@dpdk.org X-Mailman-Version: 2.1.29 Precedence: list List-Id: automatic DPDK test reports List-Unsubscribe: , List-Archive: List-Post: List-Help: List-Subscribe: , Errors-To: test-report-bounces@dpdk.org _Testing issues_ Branch: tags/v23.11 62f583c49bf67dd4d6733ece14e55fe6839e66d1 --> testing issues Upstream job id: Generic-Unit-Test-DPDK#372161 Test environment and result as below: +------------------------------+--------------+------------------------------+---------------------------+----------------+ | Environment | lpm_autotest | cryptodev_sw_snow3g_autotest | cryptodev_sw_zuc_autotest | dpdk_unit_test | +==============================+==============+==============================+===========================+================+ | Ubuntu 20.04 | PASS | SKIPPED | SKIPPED | PASS | +------------------------------+--------------+------------------------------+---------------------------+----------------+ | Debian 12 (arm) | SKIPPED | PASS | PASS | SKIPPED | +------------------------------+--------------+------------------------------+---------------------------+----------------+ | CentOS Stream 9 | SKIPPED | SKIPPED | SKIPPED | PASS | +------------------------------+--------------+------------------------------+---------------------------+----------------+ | CentOS Stream 10 | SKIPPED | SKIPPED | SKIPPED | PASS | +------------------------------+--------------+------------------------------+---------------------------+----------------+ | Fedora Linux 40 | SKIPPED | SKIPPED | SKIPPED | PASS | +------------------------------+--------------+------------------------------+---------------------------+----------------+ | Debian GNU/Linux 12 | SKIPPED | SKIPPED | SKIPPED | PASS | +------------------------------+--------------+------------------------------+---------------------------+----------------+ | Ubuntu 22.04 | SKIPPED | SKIPPED | SKIPPED | PASS | +------------------------------+--------------+------------------------------+---------------------------+----------------+ | Fedora Linux 41 | SKIPPED | SKIPPED | SKIPPED | PASS | +------------------------------+--------------+------------------------------+---------------------------+----------------+ | Fedora Linux 42 | SKIPPED | SKIPPED | SKIPPED | PASS | +------------------------------+--------------+------------------------------+---------------------------+----------------+ | Red Hat Enterprise Linux 9.5 | SKIPPED | SKIPPED | SKIPPED | PASS | +------------------------------+--------------+------------------------------+---------------------------+----------------+ | Ubuntu 24.04 | SKIPPED | SKIPPED | SKIPPED | PASS | +------------------------------+--------------+------------------------------+---------------------------+----------------+ Ubuntu 20.04 Kernel: 5.4 Compiler: gcc gcc (Ubuntu 9.4.0-1ubuntu1~20.04.2) 9.4.0 Debian 12 (arm) Kernel: Depends on container host Compiler: gcc (Debian 12.2.0-14) 12.2.0 CentOS Stream 9 Kernel: 5.4 Compiler: gcc gcc (GCC) 11.5.0 20240719 (Red Hat 11.5.0-11) CentOS Stream 10 Kernel: 5.4 Compiler: gcc gcc (GCC) 14.2.1 20250110 (Red Hat 14.2.1-8) Fedora Linux 40 Kernel: 5.4 Compiler: clang gcc (GCC) 14.2.1 20240912 (Red Hat 14.2.1-3) Debian GNU/Linux 12 Kernel: 5.4 Compiler: gcc gcc (Debian 12.2.0-14+deb12u1) 12.2.0 Ubuntu 22.04 Kernel: 5.4 Compiler: gcc gcc (Ubuntu 11.4.0-1ubuntu1~22.04) 11.4.0 Fedora Linux 41 Kernel: 5.4 Compiler: gcc gcc (GCC) 14.3.1 20250523 (Red Hat 14.3.1-1) Fedora Linux 42 Kernel: 5.4 Compiler: gcc gcc (GCC) 15.2.1 20250808 (Red Hat 15.2.1-1) Red Hat Enterprise Linux 9.5 Kernel: 5.4 Compiler: gcc gcc (GCC) 11.5.0 20240719 (Red Hat 11.5.0-2) Ubuntu 24.04 Kernel: 5.4 Compiler: gcc gcc (Ubuntu 13.3.0-6ubuntu2~24.04) 13.3.0 To view detailed results, visit: https://lab.dpdk.org/results/dashboard/tarballs/34904/ UNH-IOL DPDK Community Lab To manage your email subscriptions, visit: https://lab.dpdk.org/results/dashboard/preferences/subscriptions/