From mboxrd@z Thu Jan 1 00:00:00 1970 Return-Path: Received: from mails.dpdk.org (mails.dpdk.org [217.70.189.124]) by inbox.dpdk.org (Postfix) with ESMTP id B3BD646F18 for ; Thu, 18 Sep 2025 06:57:09 +0200 (CEST) Received: from mails.dpdk.org (localhost [127.0.0.1]) by mails.dpdk.org (Postfix) with ESMTP id A92114027A; Thu, 18 Sep 2025 06:57:09 +0200 (CEST) Received: from mail-qv1-f97.google.com (mail-qv1-f97.google.com [209.85.219.97]) by mails.dpdk.org (Postfix) with ESMTP id 43E2F4027A for ; Thu, 18 Sep 2025 06:57:08 +0200 (CEST) Received: by mail-qv1-f97.google.com with SMTP id 6a1803df08f44-78eba712e89so4169796d6.3 for ; Wed, 17 Sep 2025 21:57:08 -0700 (PDT) DKIM-Signature: v=1; a=rsa-sha256; c=relaxed/relaxed; d=iol.unh.edu; s=unh-iol; t=1758171427; x=1758776227; darn=dpdk.org; h=cc:to:from:subject:message-id:date:from:to:cc:subject:date :message-id:reply-to; bh=4mhluEhtlMbiWA0mxXu3hSKFEGPnix/S5eczw9+r/I4=; b=Bq5x5r6zxWAbv02itgTiNMyP7c4OSJbB3C3eznA3ftBg+wWF4+WSQxm+m1loRoDtor xsK0sewh6RLym4fIQ8Jtuyjgsx/IPi+h7aPjClURh/3bmPc653hPWitR7ESSYv2E0zvX 4QOXK1Mi8pwCfFvOr4y0pOEVzTtcW3OuWGlQ4= X-Google-DKIM-Signature: v=1; a=rsa-sha256; c=relaxed/relaxed; d=1e100.net; s=20230601; t=1758171427; x=1758776227; h=cc:to:from:subject:message-id:date:x-gm-message-state:from:to:cc :subject:date:message-id:reply-to; bh=4mhluEhtlMbiWA0mxXu3hSKFEGPnix/S5eczw9+r/I4=; b=cevpgl2UipRzsMm6En15bJNdv9NxICKAm/UA7yjmE/Zvac8YKDRs0GGIMta31dhWJc U+z6m0LEMFvwZn/EjReKbdQ0bvKhoVQaFb9m2AmJSXI7FEqxYxzsoRb0ZSEsAQq2iWN9 jV3VMnoPAU5jGrs2W3B4xG+IIIrcOh49bdgVW7ObmGhTIwadw73LplojZBNMMt77LuIi x0I9Vf2+g8QJhvJTbX54srkpv5+awZKJbHUhky0REH0k3zdIHSCxmtQI1qDMRylmBGGT p7Ppsry5qLyLPVq41awsdDlxHX627B0j5aQyJtQDyWVTjtxVdDW68PvcKf5hs5JD1NaE 2ucQ== X-Gm-Message-State: AOJu0YxO4opH43JvDyD1KRPBsS458/ueRCAV1nfd5IpZoJ6z+o57VdZM r1W4bxgyJouw7R0HUdmqN3X2/pG0zuC1aj4wpd3ldC3nbGy6eTimfl/p+v/FXFN+55Rx/Y6YNff qWRbQYbxr2khP+Xmh7VBINnfHPWX3M3kXY8AN X-Gm-Gg: ASbGncsNfOusAkmbQmdaswK/8tdnYT6/begwVEZjnqlb/QJwhcOnN5L1OKqahf2UWFd w/mAP+EMyGQMVNRl2Ql391UZZKwyFcRkVWs4QwsG7UZ/aB1aDtlvArOUx8VeV3ZEeSAFTozx85V iQThvKBAYv3SjlAaHQ4QmTWWEr1Q8Dn3tIP/Pq3gAVx5OuA35WESXy7hss9QiScoq/jhT7vUHcL h7phE8f84ebvRG9+WlN/VxBa4oWL41O6Xja2SaTN8ioNXWAal+91gRtanWmVv+kPQ1fw2syW0O7 hi1W7hieqL05SU9zx+elf0yRjX6P3KPQCwr1eb5PzUCrrlc/a3NYnChwg984QuuUSNl6SUZQ X-Google-Smtp-Source: AGHT+IGD5ALh4yPNWHgoq73udgiCiDe3Noj++gZfzxiVUjDke3LxnDVd1/VaKfzOBLyWY+OiwyAajRt/fMwT X-Received: by 2002:a05:6214:29ca:b0:772:d8b4:8a1e with SMTP id 6a1803df08f44-78eccc0a2c8mr54092326d6.17.1758171427522; Wed, 17 Sep 2025 21:57:07 -0700 (PDT) Received: from postal.iol.unh.edu (postal.iol.unh.edu. [132.177.123.84]) by smtp-relay.gmail.com with ESMTPS id 6a1803df08f44-79350a538c8sm985436d6.33.2025.09.17.21.57.07 (version=TLS1_2 cipher=ECDHE-ECDSA-AES128-GCM-SHA256 bits=128/128); Wed, 17 Sep 2025 21:57:07 -0700 (PDT) X-Relaying-Domain: iol.unh.edu Date: Wed, 17 Sep 2025 21:57:07 -0700 (PDT) Message-ID: <68cb9123.d40a0220.72a32.5317SMTPIN_ADDED_MISSING@mx.google.com> Received: from [172.21.0.2] (unknown [172.18.0.240]) by postal.iol.unh.edu (Postfix) with ESMTP id 3F6DA6051830; Thu, 18 Sep 2025 00:57:07 -0400 (EDT) Subject: |SUCCESS| [GIT MASTER] b287e404643aeab5bb5db084c142789df187844e From: dpdklab@iol.unh.edu To: Test Report Cc: dpdk-test-reports@iol.unh.edu, Xueming Li , Christian Ehrhardt , Kevin Traynor , Luca Boccassi Content-Type: text/plain X-BeenThere: test-report@dpdk.org X-Mailman-Version: 2.1.29 Precedence: list List-Id: automatic DPDK test reports List-Unsubscribe: , List-Archive: List-Post: List-Help: List-Subscribe: , Errors-To: test-report-bounces@dpdk.org _Testing PASS_ Branch: tags/v24.11 b287e404643aeab5bb5db084c142789df187844e --> testing pass Upstream job id: Generic-Unit-Test-DPDK#372496 Test environment and result as below: +-------------------------------+----------------+ | Environment | dpdk_unit_test | +===============================+================+ | CentOS Stream 9 | PASS | +-------------------------------+----------------+ | CentOS Stream 10 | PASS | +-------------------------------+----------------+ | Fedora Linux 41 | PASS | +-------------------------------+----------------+ | Fedora Linux 40 | PASS | +-------------------------------+----------------+ | Fedora Linux 42 | PASS | +-------------------------------+----------------+ | Red Hat Enterprise Linux 8.10 | PASS | +-------------------------------+----------------+ | Debian GNU/Linux 12 | PASS | +-------------------------------+----------------+ | Ubuntu 24.04 | PASS | +-------------------------------+----------------+ | Red Hat Enterprise Linux 9.5 | PASS | +-------------------------------+----------------+ | Ubuntu 20.04 | PASS | +-------------------------------+----------------+ | Ubuntu 22.04 | PASS | +-------------------------------+----------------+ | Windows Server 2022 | PASS | +-------------------------------+----------------+ CentOS Stream 9 Kernel: 5.15 Compiler: gcc gcc (GCC) 11.5.0 20240719 (Red Hat 11.5.0-11) CentOS Stream 10 Kernel: 5.15 Compiler: gcc gcc (GCC) 14.2.1 20250110 (Red Hat 14.2.1-8) Fedora Linux 41 Kernel: 5.15 Compiler: clang gcc (GCC) 14.3.1 20250523 (Red Hat 14.3.1-1) Fedora Linux 40 Kernel: 5.15 Compiler: clang gcc (GCC) 14.2.1 20240912 (Red Hat 14.2.1-3) Fedora Linux 42 Kernel: 5.15 Compiler: clang gcc (GCC) 15.2.1 20250808 (Red Hat 15.2.1-1) Red Hat Enterprise Linux 8.10 Kernel: 5.15 Compiler: gcc gcc (GCC) 8.5.0 20210514 (Red Hat 8.5.0-22) Debian GNU/Linux 12 Kernel: 5.15 Compiler: gcc gcc (Debian 12.2.0-14+deb12u1) 12.2.0 Ubuntu 24.04 Kernel: 5.15 Compiler: gcc gcc (Ubuntu 13.3.0-6ubuntu2~24.04) 13.3.0 Red Hat Enterprise Linux 9.5 Kernel: 5.15 Compiler: gcc gcc (GCC) 11.5.0 20240719 (Red Hat 11.5.0-2) Ubuntu 20.04 Kernel: 5.15 Compiler: gcc gcc (Ubuntu 9.4.0-1ubuntu1~20.04.2) 9.4.0 Ubuntu 22.04 Kernel: 5.15 Compiler: gcc gcc (Ubuntu 11.4.0-1ubuntu1~22.04) 11.4.0 Windows Server 2022 Kernel: 10.0.20348.2031 Compiler: clang 15.0.7, gcc 14.1.0 (MinGW), and MSVC VS 19.39.33521 To view detailed results, visit: https://lab.dpdk.org/results/dashboard/tarballs/34917/ UNH-IOL DPDK Community Lab To manage your email subscriptions, visit: https://lab.dpdk.org/results/dashboard/preferences/subscriptions/