From mboxrd@z Thu Jan 1 00:00:00 1970 Return-Path: Received: from mails.dpdk.org (mails.dpdk.org [217.70.189.124]) by inbox.dpdk.org (Postfix) with ESMTP id BABBD46F2B for ; Thu, 18 Sep 2025 10:05:31 +0200 (CEST) Received: from mails.dpdk.org (localhost [127.0.0.1]) by mails.dpdk.org (Postfix) with ESMTP id B55D54027A; Thu, 18 Sep 2025 10:05:31 +0200 (CEST) Received: from mail-il1-f226.google.com (mail-il1-f226.google.com [209.85.166.226]) by mails.dpdk.org (Postfix) with ESMTP id 40FF14027A for ; Thu, 18 Sep 2025 10:05:30 +0200 (CEST) Received: by mail-il1-f226.google.com with SMTP id e9e14a558f8ab-42408762dc3so3120905ab.2 for ; Thu, 18 Sep 2025 01:05:30 -0700 (PDT) DKIM-Signature: v=1; a=rsa-sha256; c=relaxed/relaxed; d=iol.unh.edu; s=unh-iol; t=1758182729; x=1758787529; darn=dpdk.org; h=cc:to:from:subject:message-id:date:from:to:cc:subject:date :message-id:reply-to; bh=jffksRhjIxWK5N+8wnp1Wf8eeHsrx7rIvlEhmF4wvNY=; b=cyMo6letTGwAPfv49HuDmBo2YWI2e+VdgQeLAVePN4/Vu94Dk2xvyxz6N/j3iOWY18 6ea6vtai+rFtcEEpOlav08oDoweIwzNwUbGLNtlhEVYm8ZAT+TLsBl2RkkUtLeQWVIWb 1ww9+vTSDLTI2agAjl1yeEIpp7BTfH3P82Vvc= X-Google-DKIM-Signature: v=1; a=rsa-sha256; c=relaxed/relaxed; d=1e100.net; s=20230601; t=1758182729; x=1758787529; h=cc:to:from:subject:message-id:date:x-gm-message-state:from:to:cc :subject:date:message-id:reply-to; bh=jffksRhjIxWK5N+8wnp1Wf8eeHsrx7rIvlEhmF4wvNY=; b=ojX/bczO/rzA80uJFy6Pz6sfsDo7LZMPqHQX3uy6Euseg0b6EdYHwuUHHBtoMZamCg 8djhTW+rJRCR0qbPzKodYG+hewg/X2CWgbCETq5yoT1Hl5vZ/DRuT0laP2iTXH4QU8qx UoPKzmuB7gfSr+ws40suNcw/+UfVJ2EITnqNK5PrQUKC6omYoxWKmDPueO9HZ/LADUhs wJFR1XJGx/EqpZzw+fWsL35p0GR4/V53inZf4HOC7roxJ/uVUD8iRq6I/c1WuYF/uMKB V+Iteouck/aCNVJjFWgfnLU1tdFeOmIvSwW2NXW1f5n3lUpJKuFbamBsvWtmS41/ebJJ LEQw== X-Gm-Message-State: AOJu0YxnCHMNvHh6KQlYzmrLSsDVjjtdt9ikPk8VspsWqTo2HHV+Jync c568sHyhqF4X4luZ8R3pwJ0bopknBBZF6Yv8/jhypxnXi3uJ0Wsk7i4e6SB3VJsSyryyaxiSrqI DjIZ0R/TA/bYKmR7LHy1iXAg6GEhcOstz9Tu1 X-Gm-Gg: ASbGncu/X0kOE3vtHBRgf47Lwtk43JcuQDfkW+Q4LcLijdj49tr5scNWLdHf3O+ZQip UOJawiP7dgEct/Pjh9WTzjwE85bR0TIz8L0JtCP3D25j+IF6tiR+scwPnC8NTq4sfx6dz542N0Z IQOYxp1+Y5EB0tdwG5jsdhpQ+PFJ7fr4lUt9MslAYtoCIVBEcVETpzc6VMl/DrtiqOOtw60p7NW Ss7pCQA1R5YSiZzi9dyd6xQ95eOPu5PMGwMdqxNUt4diukRcQJeeLbCsY0BPsy2sWaMVydBk+L8 clcVz54Io2SqxVrSPJayyZxMPKNrjUgRo83qNzTfsEWbvb8AXcm3U/POEgFzjIO553HXN+9p X-Google-Smtp-Source: AGHT+IFGbULhcLXqFNL0ClFiePJrpLtQpisAJ/yvI6KGLkoAXk/ybv7OIT7qb1X8C4/V0Er++lSGHt/ao1h5 X-Received: by 2002:a92:cd84:0:b0:423:fd07:d3f0 with SMTP id e9e14a558f8ab-4241a5263d1mr60689285ab.26.1758182729527; Thu, 18 Sep 2025 01:05:29 -0700 (PDT) Received: from postal.iol.unh.edu (postal.iol.unh.edu. [132.177.123.84]) by smtp-relay.gmail.com with ESMTPS id e9e14a558f8ab-4244b5aaa63sm1285245ab.41.2025.09.18.01.05.29 (version=TLS1_2 cipher=ECDHE-ECDSA-AES128-GCM-SHA256 bits=128/128); Thu, 18 Sep 2025 01:05:29 -0700 (PDT) X-Relaying-Domain: iol.unh.edu Date: Thu, 18 Sep 2025 01:05:29 -0700 (PDT) Message-ID: <68cbbd49.050a0220.30f77.6bbfSMTPIN_ADDED_MISSING@mx.google.com> Received: from [172.21.0.3] (unknown [172.18.0.240]) by postal.iol.unh.edu (Postfix) with ESMTP id 27DB26051830; Thu, 18 Sep 2025 04:05:29 -0400 (EDT) Subject: |SUCCESS| [GIT MASTER] b287e404643aeab5bb5db084c142789df187844e From: dpdklab@iol.unh.edu To: Test Report Cc: dpdk-test-reports@iol.unh.edu, Xueming Li , Christian Ehrhardt , Kevin Traynor , Luca Boccassi Content-Type: text/plain X-BeenThere: test-report@dpdk.org X-Mailman-Version: 2.1.29 Precedence: list List-Id: automatic DPDK test reports List-Unsubscribe: , List-Archive: List-Post: List-Help: List-Subscribe: , Errors-To: test-report-bounces@dpdk.org _Testing PASS_ Branch: tags/v24.11 b287e404643aeab5bb5db084c142789df187844e --> testing pass Upstream job id: Generic-Unit-Test-DPDK#372501 Test environment and result as below: +------------------------------+------------------------------+--------------+---------------------------+----------------+ | Environment | cryptodev_sw_snow3g_autotest | lpm_autotest | cryptodev_sw_zuc_autotest | dpdk_unit_test | +==============================+==============================+==============+===========================+================+ | Debian 12 (arm) | PASS | SKIPPED | PASS | SKIPPED | +------------------------------+------------------------------+--------------+---------------------------+----------------+ | Ubuntu 20.04 | SKIPPED | PASS | SKIPPED | PASS | +------------------------------+------------------------------+--------------+---------------------------+----------------+ | CentOS Stream 9 | SKIPPED | SKIPPED | SKIPPED | PASS | +------------------------------+------------------------------+--------------+---------------------------+----------------+ | Debian GNU/Linux 12 | SKIPPED | SKIPPED | SKIPPED | PASS | +------------------------------+------------------------------+--------------+---------------------------+----------------+ | CentOS Stream 10 | SKIPPED | SKIPPED | SKIPPED | PASS | +------------------------------+------------------------------+--------------+---------------------------+----------------+ | Fedora Linux 41 | SKIPPED | SKIPPED | SKIPPED | PASS | +------------------------------+------------------------------+--------------+---------------------------+----------------+ | Fedora Linux 40 | SKIPPED | SKIPPED | SKIPPED | PASS | +------------------------------+------------------------------+--------------+---------------------------+----------------+ | Red Hat Enterprise Linux 9.5 | SKIPPED | SKIPPED | SKIPPED | PASS | +------------------------------+------------------------------+--------------+---------------------------+----------------+ | Fedora Linux 42 | SKIPPED | SKIPPED | SKIPPED | PASS | +------------------------------+------------------------------+--------------+---------------------------+----------------+ | Ubuntu 22.04 | SKIPPED | SKIPPED | SKIPPED | PASS | +------------------------------+------------------------------+--------------+---------------------------+----------------+ | Ubuntu 24.04 | SKIPPED | SKIPPED | SKIPPED | PASS | +------------------------------+------------------------------+--------------+---------------------------+----------------+ Debian 12 (arm) Kernel: Depends on container host Compiler: gcc (Debian 12.2.0-14) 12.2.0 Ubuntu 20.04 Kernel: 5.4 Compiler: gcc gcc (Ubuntu 9.4.0-1ubuntu1~20.04.2) 9.4.0 CentOS Stream 9 Kernel: 5.4 Compiler: gcc gcc (GCC) 11.5.0 20240719 (Red Hat 11.5.0-11) Debian GNU/Linux 12 Kernel: 5.4 Compiler: gcc gcc (Debian 12.2.0-14+deb12u1) 12.2.0 CentOS Stream 10 Kernel: 5.4 Compiler: gcc gcc (GCC) 14.2.1 20250110 (Red Hat 14.2.1-8) Fedora Linux 41 Kernel: 5.4 Compiler: clang gcc (GCC) 14.3.1 20250523 (Red Hat 14.3.1-1) Fedora Linux 40 Kernel: 5.4 Compiler: gcc gcc (GCC) 14.2.1 20240912 (Red Hat 14.2.1-3) Red Hat Enterprise Linux 9.5 Kernel: 5.4 Compiler: gcc gcc (GCC) 11.5.0 20240719 (Red Hat 11.5.0-2) Fedora Linux 42 Kernel: 5.4 Compiler: clang gcc (GCC) 15.2.1 20250808 (Red Hat 15.2.1-1) Ubuntu 22.04 Kernel: 5.4 Compiler: gcc gcc (Ubuntu 11.4.0-1ubuntu1~22.04) 11.4.0 Ubuntu 24.04 Kernel: 5.4 Compiler: gcc gcc (Ubuntu 13.3.0-6ubuntu2~24.04) 13.3.0 To view detailed results, visit: https://lab.dpdk.org/results/dashboard/tarballs/34917/ UNH-IOL DPDK Community Lab To manage your email subscriptions, visit: https://lab.dpdk.org/results/dashboard/preferences/subscriptions/