From mboxrd@z Thu Jan 1 00:00:00 1970 Return-Path: Received: from mails.dpdk.org (mails.dpdk.org [217.70.189.124]) by inbox.dpdk.org (Postfix) with ESMTP id 3868146F2B for ; Thu, 18 Sep 2025 10:14:16 +0200 (CEST) Received: from mails.dpdk.org (localhost [127.0.0.1]) by mails.dpdk.org (Postfix) with ESMTP id 019854027A; Thu, 18 Sep 2025 10:14:16 +0200 (CEST) Received: from mail-ot1-f98.google.com (mail-ot1-f98.google.com [209.85.210.98]) by mails.dpdk.org (Postfix) with ESMTP id 1F2DB4027A for ; Thu, 18 Sep 2025 10:14:15 +0200 (CEST) Received: by mail-ot1-f98.google.com with SMTP id 46e09a7af769-750b77699b4so516838a34.2 for ; Thu, 18 Sep 2025 01:14:15 -0700 (PDT) DKIM-Signature: v=1; a=rsa-sha256; c=relaxed/relaxed; d=iol.unh.edu; s=unh-iol; t=1758183254; x=1758788054; darn=dpdk.org; h=cc:to:from:subject:message-id:date:from:to:cc:subject:date :message-id:reply-to; bh=5MHpFziXzdoMUEpkGFU06uEQ6dyAFblB4CJ1LT4lNzw=; b=igj7MkiHuHD6NXAgGlbX183cQ1Rzikx69EUqcoln+aLVgyAZJgnkGMKIKYQDQ0SKkW rQgWpV6qUW7DXJhKKpY2I9mkB3Q9d643lqnG2CnoBzAnj40F25iEakRbqD6lWuMTTORB xfK/EnZSa1sA/gvyaycoU4Y76y+xllU4YqL5E= X-Google-DKIM-Signature: v=1; a=rsa-sha256; c=relaxed/relaxed; d=1e100.net; s=20230601; t=1758183254; x=1758788054; h=cc:to:from:subject:message-id:date:x-gm-message-state:from:to:cc :subject:date:message-id:reply-to; bh=5MHpFziXzdoMUEpkGFU06uEQ6dyAFblB4CJ1LT4lNzw=; b=eLNEJ2MJxkF35cBATXriWUfslmsmw6hMnDW6Hb4y6DhTD8uuZrQ/LZJeAgkpCcORDD Xbu3lW43ld6IhHb47mozx2oA1XDkQ8TmOUqfxHe7vLFtX0OvZegwyGjyZuW2ntbNF6CV vgIvSYCBLf9sxbfD2rP1g85RjqVaeZkQ3MkpH8KKBMIeUYw8d6kNVTGKbcSziPL4ZE5V gxEr1SBdFO00lI0dwG+aJ229QB4lRBKo9gJ3XD+qSpb342j+kFQg9bzswCsFdyDNs6yu CthK9sjA9mKv3nuwVG8Bmgio8LCrq2eRcQ0719ayf0hQlVmVYU8KPa/Sm709MUOoR5qd +BPw== X-Gm-Message-State: AOJu0YwZn+kh5bpnmBQ02qZ5bkXTCtpkW0++w/z1u7txDUf0hlze/iWp eMpMcPo4godPvZIhuYJw8EMddL17wkWjTlv0Qb3shzOX+v2jzqWDXDaFqv7SN09l5sMlxIIuYpn I417QzK7xk2rceo4e8Odctvl3MT1a61pL/k49 X-Gm-Gg: ASbGncuUCj16vQ9LzW89A6yEQLh/5TI7wcXA70nouVe3GoZOPumUGXlgh67OXSkxmZt i2INDypvpZ+W3Vnd1EhV0Zy7gH4MTx95ngDNJm5vvNY+ksXTiBVp9fagDvTtUHKiCQlWbapsHSc QcqNyIOnL4bZEMrxrbgXe5Ums1otTsHcQjkJOr79RbTmLYd5qlSROVDxv38w/fSfURBBZ34a8wM rmLVWEIqIZ56USCC9RbsqPaGGuWKQneNJ4qjG9WTZVRmhGo972S2kDaZLjAUOnj6fEGllTHgPcl UZ30LYZWOcQ4n/NRTwDFdbahS92rX3g+mq8D4tYLkaxjEJgBaqUMsL9d3BoaDyV8y6M6lN5r X-Google-Smtp-Source: AGHT+IF3czxd7NlpJQpS5Znq2sNRrwusQdbJ/1zwbHWu965/ma2ufRot6kMtKtrue0+j3ZlwsqBFk3G/PFwi X-Received: by 2002:a05:6830:6a94:b0:757:aee6:4a59 with SMTP id 46e09a7af769-7631deee8e2mr2655138a34.18.1758183254360; Thu, 18 Sep 2025 01:14:14 -0700 (PDT) Received: from postal.iol.unh.edu (postal.iol.unh.edu. [132.177.123.84]) by smtp-relay.gmail.com with ESMTPS id 46e09a7af769-76925ae960bsm123220a34.6.2025.09.18.01.14.14 (version=TLS1_2 cipher=ECDHE-ECDSA-AES128-GCM-SHA256 bits=128/128); Thu, 18 Sep 2025 01:14:14 -0700 (PDT) X-Relaying-Domain: iol.unh.edu Date: Thu, 18 Sep 2025 01:14:14 -0700 (PDT) Message-ID: <68cbbf56.050a0220.1c57c1.60abSMTPIN_ADDED_MISSING@mx.google.com> Received: from [172.21.0.2] (unknown [172.18.0.240]) by postal.iol.unh.edu (Postfix) with ESMTP id CE8CE6051830; Thu, 18 Sep 2025 04:14:13 -0400 (EDT) Subject: |SUCCESS| [GIT MASTER] b287e404643aeab5bb5db084c142789df187844e From: dpdklab@iol.unh.edu To: Test Report Cc: dpdk-test-reports@iol.unh.edu, Xueming Li , Christian Ehrhardt , Kevin Traynor , Luca Boccassi Content-Type: text/plain X-BeenThere: test-report@dpdk.org X-Mailman-Version: 2.1.29 Precedence: list List-Id: automatic DPDK test reports List-Unsubscribe: , List-Archive: List-Post: List-Help: List-Subscribe: , Errors-To: test-report-bounces@dpdk.org _Testing PASS_ Branch: tags/v24.11 b287e404643aeab5bb5db084c142789df187844e --> testing pass Upstream job id: Generic-DPDK-Compile-Meson#426304 Test environment and result as below: +------------------------------+--------------------+ | Environment | dpdk_meson_compile | +==============================+====================+ | Red Hat Enterprise Linux 9.5 | PASS | +------------------------------+--------------------+ | Ubuntu 20.04 | PASS | +------------------------------+--------------------+ | Debian GNU/Linux 12 | PASS | +------------------------------+--------------------+ | Fedora Linux 42 | PASS | +------------------------------+--------------------+ | Ubuntu 22.04 | PASS | +------------------------------+--------------------+ | Ubuntu 24.04 | PASS | +------------------------------+--------------------+ | CentOS Stream 9 | PASS | +------------------------------+--------------------+ | CentOS Stream 10 | PASS | +------------------------------+--------------------+ Red Hat Enterprise Linux 9.5 Kernel: 5.4 Compiler: gcc gcc (GCC) 11.5.0 20240719 (Red Hat 11.5.0-2) Ubuntu 20.04 Kernel: 5.4 Compiler: gcc gcc (Ubuntu 9.4.0-1ubuntu1~20.04.2) 9.4.0 Debian GNU/Linux 12 Kernel: 5.4 Compiler: gcc gcc (Debian 12.2.0-14+deb12u1) 12.2.0 Fedora Linux 42 Kernel: 5.4 Compiler: clang gcc (GCC) 15.2.1 20250808 (Red Hat 15.2.1-1) Ubuntu 22.04 Kernel: 5.4 Compiler: gcc gcc (Ubuntu 11.4.0-1ubuntu1~22.04) 11.4.0 Ubuntu 24.04 Kernel: 5.4 Compiler: gcc gcc (Ubuntu 13.3.0-6ubuntu2~24.04) 13.3.0 CentOS Stream 9 Kernel: 5.4 Compiler: gcc gcc (GCC) 11.5.0 20240719 (Red Hat 11.5.0-11) CentOS Stream 10 Kernel: 5.4 Compiler: gcc gcc (GCC) 14.2.1 20250110 (Red Hat 14.2.1-8) To view detailed results, visit: https://lab.dpdk.org/results/dashboard/tarballs/34917/ UNH-IOL DPDK Community Lab To manage your email subscriptions, visit: https://lab.dpdk.org/results/dashboard/preferences/subscriptions/