From mboxrd@z Thu Jan 1 00:00:00 1970 Return-Path: Received: from mails.dpdk.org (mails.dpdk.org [217.70.189.124]) by inbox.dpdk.org (Postfix) with ESMTP id B695E46F43 for ; Fri, 19 Sep 2025 10:37:01 +0200 (CEST) Received: from mails.dpdk.org (localhost [127.0.0.1]) by mails.dpdk.org (Postfix) with ESMTP id B2B29402B7; Fri, 19 Sep 2025 10:37:01 +0200 (CEST) Received: from mail-pl1-f228.google.com (mail-pl1-f228.google.com [209.85.214.228]) by mails.dpdk.org (Postfix) with ESMTP id E8CDB402B7 for ; Fri, 19 Sep 2025 10:37:00 +0200 (CEST) Received: by mail-pl1-f228.google.com with SMTP id d9443c01a7336-24457f581aeso18966085ad.0 for ; Fri, 19 Sep 2025 01:37:00 -0700 (PDT) DKIM-Signature: v=1; a=rsa-sha256; c=relaxed/relaxed; d=iol.unh.edu; s=unh-iol; t=1758271020; x=1758875820; darn=dpdk.org; h=cc:to:from:subject:message-id:date:from:to:cc:subject:date :message-id:reply-to; bh=RecoBsupx+KiFkn2X7363nvkbYNfCNEqzx4z7KCWMOc=; b=IyVv3ltTIjDOJlVbHj11GEgrs8d7UFzMhnuvjuIk09rax20NGuUCjvG6r6LcO9sg23 oqb7j6yXkK7PvaCF3sQgenac1YrKVd+Zmd5F/uA+Apv0F2WQPqa+fW7CuTwEWH1S/6s9 HMgqqfAShFbHWZaq4dZEpiFeSZVDX+wdLo5Zc= X-Google-DKIM-Signature: v=1; a=rsa-sha256; c=relaxed/relaxed; d=1e100.net; s=20230601; t=1758271020; x=1758875820; h=cc:to:from:subject:message-id:date:x-gm-message-state:from:to:cc :subject:date:message-id:reply-to; bh=RecoBsupx+KiFkn2X7363nvkbYNfCNEqzx4z7KCWMOc=; b=QaeDZAzA3kFqbXQwIC+ILp9L32nXtHnwoPFbDwLoa39JinseJi/nKT65HsWEAe3xcv +1sbUD+OA7gqR5mouWeELNLI3NCsa1D3SzIqM2faqbX+AfTwkWtCo8h+uwEC/uPzkII/ uAl/CDlO70xGB1QUsWpcZpC6HvKkqCHcAjwM/l5FWO1r7KwrdpnhW5WSj7JNeV3qb23r n7JdLCEH6uTP2kXazH0tW1i+49E0CLwF+vQ8/z1neUmo8z26tOB3eYh8+qA81eF46Nu9 N5G31FEr5XQk/6WAk9HIJBNtwG0tUeMH8d6FFjJ7CeMfHEh2Uw2BiFoHLp8l0/slVafe 3/Tg== X-Gm-Message-State: AOJu0YyvrKe0O0RbcwPYldaATsncDYuCUVqCaqlSfVD69hiVq+ZhP+wL nE3KUp3jDNfK87b9HU1oG9Xnosvis1JzxPX8K1PHDVKAwOEHH0M65IKvdCyXVcqa74rSaYOQrex yIuwfeYqv+muwoKbXlmlqsvCqEqUwN+Frb8H4O+GZuXC9TdQF3rVQ X-Gm-Gg: ASbGncs5KtXbC9kOS8xfasHspHh6+HuD97VLLzSL1tV3mbFzwMTgXlmhGBWklM9FjWD DSnuHx1R7zG/ZLcb4NKDJf2hKaNjrvEei568fSdsjqFBJMOUnzdlDn+8f5NQEvfDd4TPqDYJjHX Gko8Xa2BbTChkvTJCQAn+St0zEPdi/sqWewFGoqNgSukKreF643zd93AYH8DCZ4riSETrTdSBFF 3e7ExL9Vs3IdNDStF6epa7FABFoOp4jrlYJQl6xRR/sjpiOMieneWfoF2wWvmPSY8uH6OLVe1ut Uf74He1QfkeW8kNNg9aNr7Lru0OIVqK/lIvvJxpwBgjTw9qj5g== X-Google-Smtp-Source: AGHT+IGZiAOD3M5Hv1wGZJbSHTX0WwmI7Q3vh1gMgp/KWYV4z2RpBEXFUuoybCoE65fq67y/hRZLiog1bNxu X-Received: by 2002:a17:903:90b:b0:24c:e9b8:c07 with SMTP id d9443c01a7336-269ba53a8c4mr35577335ad.43.1758271019985; Fri, 19 Sep 2025 01:36:59 -0700 (PDT) Received: from postal.iol.unh.edu (postal.iol.unh.edu. [2606:4100:3880:1234::84]) by smtp-relay.gmail.com with ESMTPS id d9443c01a7336-269802bbe62sm3316445ad.66.2025.09.19.01.36.59 (version=TLS1_2 cipher=ECDHE-ECDSA-AES128-GCM-SHA256 bits=128/128); Fri, 19 Sep 2025 01:36:59 -0700 (PDT) X-Relaying-Domain: iol.unh.edu Date: Fri, 19 Sep 2025 01:36:59 -0700 (PDT) Message-ID: <68cd162b.170a0220.310b5f.38edSMTPIN_ADDED_MISSING@mx.google.com> Received: from [172.21.0.4] (unknown [172.18.0.240]) by postal.iol.unh.edu (Postfix) with ESMTP id 435DC6051830; Fri, 19 Sep 2025 04:36:59 -0400 (EDT) Subject: |SUCCESS| [GIT MASTER] 3b43ce3f4a54468e7ef65760c2fd7b4d6ee6d9fc From: dpdklab@iol.unh.edu To: Test Report Cc: dpdk-test-reports@iol.unh.edu, Xueming Li , Christian Ehrhardt , Kevin Traynor , Luca Boccassi Content-Type: text/plain X-BeenThere: test-report@dpdk.org X-Mailman-Version: 2.1.29 Precedence: list List-Id: automatic DPDK test reports List-Unsubscribe: , List-Archive: List-Post: List-Help: List-Subscribe: , Errors-To: test-report-bounces@dpdk.org _Testing PASS_ Branch: tags/v22.11 3b43ce3f4a54468e7ef65760c2fd7b4d6ee6d9fc --> testing pass Upstream job id: Generic-DPDK-Compile-Meson#426670 Test environment and result as below: +------------------------------+--------------------+ | Environment | dpdk_meson_compile | +==============================+====================+ | Debian GNU/Linux 12 | PASS | +------------------------------+--------------------+ | Fedora Linux 42 | PASS | +------------------------------+--------------------+ | Ubuntu 20.04 | PASS | +------------------------------+--------------------+ | CentOS Stream 9 | PASS | +------------------------------+--------------------+ | Red Hat Enterprise Linux 9.5 | PASS | +------------------------------+--------------------+ | CentOS Stream 10 | PASS | +------------------------------+--------------------+ | Ubuntu 24.04 | PASS | +------------------------------+--------------------+ | Ubuntu 22.04 | PASS | +------------------------------+--------------------+ Debian GNU/Linux 12 Kernel: 5.4 Compiler: gcc gcc (Debian 12.2.0-14+deb12u1) 12.2.0 Fedora Linux 42 Kernel: 5.4 Compiler: clang gcc (GCC) 15.2.1 20250808 (Red Hat 15.2.1-1) Ubuntu 20.04 Kernel: 5.15 Compiler: aarch64-linux-gnu-gcc gcc (Ubuntu 9.4.0-1ubuntu1~20.04.2) 9.4.0 CentOS Stream 9 Kernel: 5.4 Compiler: gcc gcc (GCC) 11.5.0 20240719 (Red Hat 11.5.0-11) Red Hat Enterprise Linux 9.5 Kernel: 5.4 Compiler: gcc gcc (GCC) 11.5.0 20240719 (Red Hat 11.5.0-2) CentOS Stream 10 Kernel: 5.4 Compiler: gcc gcc (GCC) 14.2.1 20250110 (Red Hat 14.2.1-8) Ubuntu 24.04 Kernel: 5.4 Compiler: gcc gcc (Ubuntu 13.3.0-6ubuntu2~24.04) 13.3.0 Ubuntu 22.04 Kernel: 5.4 Compiler: gcc gcc (Ubuntu 11.4.0-1ubuntu1~22.04) 11.4.0 To view detailed results, visit: https://lab.dpdk.org/results/dashboard/tarballs/34929/ UNH-IOL DPDK Community Lab To manage your email subscriptions, visit: https://lab.dpdk.org/results/dashboard/preferences/subscriptions/