From mboxrd@z Thu Jan 1 00:00:00 1970 Return-Path: Received: from mails.dpdk.org (mails.dpdk.org [217.70.189.124]) by inbox.dpdk.org (Postfix) with ESMTP id D742946F97 for ; Sun, 21 Sep 2025 07:08:28 +0200 (CEST) Received: from mails.dpdk.org (localhost [127.0.0.1]) by mails.dpdk.org (Postfix) with ESMTP id D097040262; Sun, 21 Sep 2025 07:08:28 +0200 (CEST) Received: from mail-pg1-f225.google.com (mail-pg1-f225.google.com [209.85.215.225]) by mails.dpdk.org (Postfix) with ESMTP id F2BAA40262 for ; Sun, 21 Sep 2025 07:08:26 +0200 (CEST) Received: by mail-pg1-f225.google.com with SMTP id 41be03b00d2f7-b551b040930so1225056a12.2 for ; Sat, 20 Sep 2025 22:08:26 -0700 (PDT) DKIM-Signature: v=1; a=rsa-sha256; c=relaxed/relaxed; d=iol.unh.edu; s=unh-iol; t=1758431306; x=1759036106; darn=dpdk.org; h=cc:to:from:subject:message-id:date:from:to:cc:subject:date :message-id:reply-to; bh=IuICngWLPtkSdFmbBODU73ifiGjkcTxcGQCZRj123a0=; b=fAZxAbpYSHdYxdCFCqHnU6uJlLfevSJkN56G2sQRuehMch77TaDxv8+HvMfzO5dng8 Lu7hvspjwTXjQVAuzSc7WCFsj25WD+vxHegcY3tcF2UHeERa4o+m1LGxKFi+e1njEINx WdNW7bpS1862vXcJHirbBU0mc5JVcRGK78EfA= X-Google-DKIM-Signature: v=1; a=rsa-sha256; c=relaxed/relaxed; d=1e100.net; s=20230601; t=1758431306; x=1759036106; h=cc:to:from:subject:message-id:date:x-gm-message-state:from:to:cc :subject:date:message-id:reply-to; bh=IuICngWLPtkSdFmbBODU73ifiGjkcTxcGQCZRj123a0=; b=Y9ZlqUBROrwXu5f/ErqIQA66VRhYZz5IBfju1Peqq3VdJfTg5/6A4V8tgNNomhdcMM BMQ/gTJiSnBB3v6M/e7DAz5pM2UNW4HVprOq/hl+sL7HgzB6ZDAjTwkCOzJwfDknZziW pmrIyXkgynNdnaMR35Onahhcsa09JFP7kOaueMuObsDUHV1E6xpw8RVmrfALN6re0OD+ M/viVTVzmyFVFKKeMvmVxII1gFr1Yx2PLfMwzyN88TUVnLPSoW1i/ADfhe2BleSVsb7Q CrlIOfx1TyI2tJi9rM8LsO7RHG/XU5pMQgecqA4oUV33+QZdZXft+C9Kz/UVdMcG2efQ 7LVw== X-Gm-Message-State: AOJu0Yx6m5zT0KaBDqylSG6UmECAb14pUM3KywYBWFA6KiV5JIHEYsF4 DMAdOF/zHnq5Ziqm9htEOBra3w5ESr6JTxVG97xAMXUao9nSsXMulIKWICl4fo36eEfal2rr1jg BAvCpE0QcBXlYmWM88p+9Gywbc4VW+T7ssPMriwrVd8xtVNLR5Fgx X-Gm-Gg: ASbGncubHZbwpjuh6B1PfC+ZLRNXVFEmfjkodJ+q4pfjGYlMVlMUTw/iq/oPm9Rwvy+ CDmUotaCBMUWYWSWtJKyWOPaXWEEmHJzLiS12Wql9SPUlUSthffZhru0/UMNb9T+ycuuZDaCNCC lqX4AC+o8bYdllFdSjLYkiWJFRxPyaqW9HxKyY6xeHCuFjs6SsZ7f5Mx8bCpaOToShZMac7zy54 rPq/rXJ2Rk39Vlpi6eIyNA4usy/cZRLa3Gv2aVEE1Ee6Xf+kXKR/qt8K2K6lsloaLc6JSfOqLcY VXAizgAbpBFO461fakXbG3QFE3WzYOQc8g7HHPDA9bkMkz5kfg== X-Google-Smtp-Source: AGHT+IG5qXXvv6VpLHFVPn8mU57hppVAi+TMvwrP4r4FnAK2xdXopsht0mGoyWG7KQUvIra0cyA9wEM0zXAi X-Received: by 2002:a17:903:124a:b0:262:d081:96c with SMTP id d9443c01a7336-269ba441ba2mr120008805ad.17.1758431306185; Sat, 20 Sep 2025 22:08:26 -0700 (PDT) Received: from postal.iol.unh.edu (postal.iol.unh.edu. [2606:4100:3880:1234::84]) by smtp-relay.gmail.com with ESMTPS id d9443c01a7336-2698029dfecsm5948085ad.54.2025.09.20.22.08.26 (version=TLS1_2 cipher=ECDHE-ECDSA-AES128-GCM-SHA256 bits=128/128); Sat, 20 Sep 2025 22:08:26 -0700 (PDT) X-Relaying-Domain: iol.unh.edu Date: Sat, 20 Sep 2025 22:08:26 -0700 (PDT) Message-ID: <68cf884a.170a0220.2844c2.6685SMTPIN_ADDED_MISSING@mx.google.com> Received: from [172.21.0.2] (unknown [172.18.0.240]) by postal.iol.unh.edu (Postfix) with ESMTP id 9E2996051830; Sun, 21 Sep 2025 01:08:25 -0400 (EDT) Subject: |SUCCESS| [GIT MASTER] 3b43ce3f4a54468e7ef65760c2fd7b4d6ee6d9fc From: dpdklab@iol.unh.edu To: Test Report Cc: dpdk-test-reports@iol.unh.edu, Xueming Li , Christian Ehrhardt , Kevin Traynor , Luca Boccassi Content-Type: text/plain X-BeenThere: test-report@dpdk.org X-Mailman-Version: 2.1.29 Precedence: list List-Id: automatic DPDK test reports List-Unsubscribe: , List-Archive: List-Post: List-Help: List-Subscribe: , Errors-To: test-report-bounces@dpdk.org _Testing PASS_ Branch: tags/v22.11 3b43ce3f4a54468e7ef65760c2fd7b4d6ee6d9fc --> testing pass Upstream job id: Generic-DPDK-Compile-Meson#427298 Test environment and result as below: +-------------------------------+--------------------+-------------------------+----------------------+ | Environment | dpdk_meson_compile | dpdk_llvm_clang_compile | dpdk_mingw64_compile | +===============================+====================+=========================+======================+ | Debian GNU/Linux 12 | PASS | SKIPPED | SKIPPED | +-------------------------------+--------------------+-------------------------+----------------------+ | CentOS Stream 10 | PASS | SKIPPED | SKIPPED | +-------------------------------+--------------------+-------------------------+----------------------+ | CentOS Stream 9 | PASS | SKIPPED | SKIPPED | +-------------------------------+--------------------+-------------------------+----------------------+ | Fedora Linux 42 | PASS | SKIPPED | SKIPPED | +-------------------------------+--------------------+-------------------------+----------------------+ | Ubuntu 20.04 | PASS | SKIPPED | SKIPPED | +-------------------------------+--------------------+-------------------------+----------------------+ | Ubuntu 24.04 | PASS | SKIPPED | SKIPPED | +-------------------------------+--------------------+-------------------------+----------------------+ | openSUSE Leap 15.6 | PASS | SKIPPED | SKIPPED | +-------------------------------+--------------------+-------------------------+----------------------+ | Red Hat Enterprise Linux 8.10 | PASS | SKIPPED | SKIPPED | +-------------------------------+--------------------+-------------------------+----------------------+ | Red Hat Enterprise Linux 9.5 | PASS | SKIPPED | SKIPPED | +-------------------------------+--------------------+-------------------------+----------------------+ | Ubuntu 22.04 | PASS | SKIPPED | SKIPPED | +-------------------------------+--------------------+-------------------------+----------------------+ | FreeBSD 14.2 | PASS | SKIPPED | SKIPPED | +-------------------------------+--------------------+-------------------------+----------------------+ | Windows Server 2022 | SKIPPED | PASS | PASS | +-------------------------------+--------------------+-------------------------+----------------------+ Debian GNU/Linux 12 Kernel: 5.15 Compiler: gcc gcc (Debian 12.2.0-14+deb12u1) 12.2.0 CentOS Stream 10 Kernel: 5.15 Compiler: gcc gcc (GCC) 14.2.1 20250110 (Red Hat 14.2.1-8) CentOS Stream 9 Kernel: 5.15 Compiler: gcc gcc (GCC) 11.5.0 20240719 (Red Hat 11.5.0-11) Fedora Linux 42 Kernel: 5.15 Compiler: clang gcc (GCC) 15.2.1 20250808 (Red Hat 15.2.1-1) Ubuntu 20.04 Kernel: 4.19 Compiler: gcc gcc (Ubuntu 9.4.0-1ubuntu1~20.04.2) 9.4.0 Ubuntu 24.04 Kernel: 5.15 Compiler: gcc gcc (Ubuntu 13.3.0-6ubuntu2~24.04) 13.3.0 openSUSE Leap 15.6 Kernel: 5.15 Compiler: gcc gcc (SUSE Linux) 7.5.0 Red Hat Enterprise Linux 8.10 Kernel: 5.15 Compiler: gcc gcc (GCC) 8.5.0 20210514 (Red Hat 8.5.0-22) Red Hat Enterprise Linux 9.5 Kernel: 5.15 Compiler: gcc gcc (GCC) 11.5.0 20240719 (Red Hat 11.5.0-2) Ubuntu 22.04 Kernel: 5.15 Compiler: gcc gcc (Ubuntu 11.4.0-1ubuntu1~22.04) 11.4.0 FreeBSD 14.2 Kernel: 14.2-RELEASE Compiler: clang 18.1.6 Windows Server 2022 Kernel: 10.0.20348.2031 Compiler: clang 15.0.7, gcc 14.1.0 (MinGW), and MSVC VS 19.39.33521 To view detailed results, visit: https://lab.dpdk.org/results/dashboard/tarballs/34952/ UNH-IOL DPDK Community Lab To manage your email subscriptions, visit: https://lab.dpdk.org/results/dashboard/preferences/subscriptions/