From mboxrd@z Thu Jan 1 00:00:00 1970 Return-Path: Received: from mails.dpdk.org (mails.dpdk.org [217.70.189.124]) by inbox.dpdk.org (Postfix) with ESMTP id 429C846F97 for ; Sun, 21 Sep 2025 07:28:18 +0200 (CEST) Received: from mails.dpdk.org (localhost [127.0.0.1]) by mails.dpdk.org (Postfix) with ESMTP id 2472040280; Sun, 21 Sep 2025 07:28:18 +0200 (CEST) Received: from mail-oa1-f100.google.com (mail-oa1-f100.google.com [209.85.160.100]) by mails.dpdk.org (Postfix) with ESMTP id 4F20F40280 for ; Sun, 21 Sep 2025 07:28:17 +0200 (CEST) Received: by mail-oa1-f100.google.com with SMTP id 586e51a60fabf-30ccea94438so2581407fac.2 for ; Sat, 20 Sep 2025 22:28:17 -0700 (PDT) DKIM-Signature: v=1; a=rsa-sha256; c=relaxed/relaxed; d=iol.unh.edu; s=unh-iol; t=1758432496; x=1759037296; darn=dpdk.org; h=cc:to:from:subject:message-id:date:from:to:cc:subject:date :message-id:reply-to; bh=xxW37YkbA+xGKn0wxsUkDIEIiOO3jZW/8cJ1+tB9wTk=; b=B39B6DOnVNXZeT7qsnOPPQVINyjX7HhREYKxIoDJYTvp4HJXcy1G8SFLzD6hnW3JV7 UyPxASIQdqyqar9AakjieCCZ+cK5fTSrHSwpE9QxypuCtiOPOBoAy9ybKAwY5WPYcU8N qq9atcTuux30IEOz97OuUloXh8nGJZ9aOPzEg= X-Google-DKIM-Signature: v=1; a=rsa-sha256; c=relaxed/relaxed; d=1e100.net; s=20230601; t=1758432496; x=1759037296; h=cc:to:from:subject:message-id:date:x-gm-message-state:from:to:cc :subject:date:message-id:reply-to; bh=xxW37YkbA+xGKn0wxsUkDIEIiOO3jZW/8cJ1+tB9wTk=; b=IEKXG0yf6wWr3m/BVOHmY8ciJfx1Wh9YHrffNCIYzkDI8K394cvl/FLBEVaz5xyIFA 3t8pxkljNySM663601UH1XGf+l2uWXARrp1hj4W0XMsRmLJo3EmNCzE4kpsk2EJbuG5L xGxS5MUfhHTVWTOsOdcu1DeWg4WNo4gDY4Sul85lyZ1ck23PQObCMY+uK044uDdgRRhp PWdf0uCAjgL58tpT1L86uRA2hY+BC6P8ZWYBI/LXBJt9SP6A9YOv7lPiCyGtGCWxt3W4 kHxkM0jY7EEzugP5y2YdcJL0+IDw/loPJLO5kRGGWxexG6pC0rq8XboTqpaC8S2oVaA6 gULw== X-Gm-Message-State: AOJu0Yywn6GGiLk/UKQTH8D9MjBJl/3ZHd34FacdjJjZ5tFm9iGwIziv 24wXrTjDw5IiWUI0y5odHoCJlE0AbtoGfE/dbBGCa46i86E+p53JYId92cHoAl3v2M5lnRPo3zs fpAzdCRXHgPgVVKtlIMetOGwdQbzxEyLRSqDq X-Gm-Gg: ASbGncu7r5PnxXmbjxFiMvOC22Hw6mssKUZS8NjyWDzSYFgNvApkwupLNh82wpZAu3q QT5BmNjZXIPut7fvlvzjkUOEQc2pFQEoxGYItKOPLB7UT2ByKI9tnsj2DYCgHSp4mi4iYtcEcXd t93bFQsI0lPPdifugMMjB68dKSOB8z3BlaqsqbhBR0eNTGu5u3P7udU235pir9y7/pG8LG2dTC6 pqxnHPNZtMziH91jNTJ83wSn7+gGprKs1m3Zof8vz7MUSS3PkA8Gqpwe3uO59rso5ElRn0yCLA/ tfVpBx5fHq5n987i3tIiV3cufEKvg/6xQ9dBiw38pwEyxkRKFff/fnbLTmuidFuzmKOzMdgg X-Google-Smtp-Source: AGHT+IGgpmTHBl0mktnfm9/i+2ao1AnVtQQdqI/eKODYlFfEphdrH8ES7r7N/DrKSsoOUkU0kfPUasq9zNzG X-Received: by 2002:a05:6808:6617:b0:43c:8714:fe3c with SMTP id 5614622812f47-43d6c2d5221mr3771294b6e.51.1758432496462; Sat, 20 Sep 2025 22:28:16 -0700 (PDT) Received: from postal.iol.unh.edu (postal.iol.unh.edu. [132.177.123.84]) by smtp-relay.gmail.com with ESMTPS id 586e51a60fabf-336e488f760sm823589fac.8.2025.09.20.22.28.16 (version=TLS1_2 cipher=ECDHE-ECDSA-AES128-GCM-SHA256 bits=128/128); Sat, 20 Sep 2025 22:28:16 -0700 (PDT) X-Relaying-Domain: iol.unh.edu Date: Sat, 20 Sep 2025 22:28:16 -0700 (PDT) Message-ID: <68cf8cf0.050a0220.3c945f.3e89SMTPIN_ADDED_MISSING@mx.google.com> Received: from [172.21.0.3] (unknown [172.18.0.240]) by postal.iol.unh.edu (Postfix) with ESMTP id F0D096051830; Sun, 21 Sep 2025 01:28:15 -0400 (EDT) Subject: |SUCCESS| [GIT MASTER] 3b43ce3f4a54468e7ef65760c2fd7b4d6ee6d9fc From: dpdklab@iol.unh.edu To: Test Report Cc: dpdk-test-reports@iol.unh.edu, Xueming Li , Christian Ehrhardt , Kevin Traynor , Luca Boccassi Content-Type: text/plain X-BeenThere: test-report@dpdk.org X-Mailman-Version: 2.1.29 Precedence: list List-Id: automatic DPDK test reports List-Unsubscribe: , List-Archive: List-Post: List-Help: List-Subscribe: , Errors-To: test-report-bounces@dpdk.org _Testing PASS_ Branch: tags/v22.11 3b43ce3f4a54468e7ef65760c2fd7b4d6ee6d9fc --> testing pass Upstream job id: Generic-Unit-Test-DPDK#373589 Test environment and result as below: +-----------------+------------------------------+--------------+---------------------------+----------------+ | Environment | cryptodev_sw_snow3g_autotest | lpm_autotest | cryptodev_sw_zuc_autotest | dpdk_unit_test | +=================+==============================+==============+===========================+================+ | Debian 12 (arm) | PASS | SKIPPED | PASS | SKIPPED | +-----------------+------------------------------+--------------+---------------------------+----------------+ | Ubuntu 20.04 | SKIPPED | PASS | SKIPPED | SKIPPED | +-----------------+------------------------------+--------------+---------------------------+----------------+ | Ubuntu 22.04 | SKIPPED | SKIPPED | SKIPPED | PASS | +-----------------+------------------------------+--------------+---------------------------+----------------+ Debian 12 (arm) Kernel: Depends on container host Compiler: gcc (Debian 12.2.0-14) 12.2.0 Ubuntu 20.04 Kernel: 5.4 Compiler: gcc gcc (Ubuntu 9.4.0-1ubuntu1~20.04.2) 9.4.0 Ubuntu 22.04 Kernel: 5.15 Compiler: gcc gcc (Ubuntu 11.4.0-1ubuntu1~22.04.2) 11.4.0 To view detailed results, visit: https://lab.dpdk.org/results/dashboard/tarballs/34952/ UNH-IOL DPDK Community Lab To manage your email subscriptions, visit: https://lab.dpdk.org/results/dashboard/preferences/subscriptions/