From mboxrd@z Thu Jan 1 00:00:00 1970 Return-Path: Received: from mails.dpdk.org (mails.dpdk.org [217.70.189.124]) by inbox.dpdk.org (Postfix) with ESMTP id 57C2646F97 for ; Sun, 21 Sep 2025 07:40:48 +0200 (CEST) Received: from mails.dpdk.org (localhost [127.0.0.1]) by mails.dpdk.org (Postfix) with ESMTP id 4216D40280; Sun, 21 Sep 2025 07:40:48 +0200 (CEST) Received: from mail-pf1-f227.google.com (mail-pf1-f227.google.com [209.85.210.227]) by mails.dpdk.org (Postfix) with ESMTP id 512E140280 for ; Sun, 21 Sep 2025 07:40:47 +0200 (CEST) Received: by mail-pf1-f227.google.com with SMTP id d2e1a72fcca58-77f1f8a114bso472032b3a.0 for ; Sat, 20 Sep 2025 22:40:47 -0700 (PDT) DKIM-Signature: v=1; a=rsa-sha256; c=relaxed/relaxed; d=iol.unh.edu; s=unh-iol; t=1758433246; x=1759038046; darn=dpdk.org; h=cc:to:from:subject:message-id:date:from:to:cc:subject:date :message-id:reply-to; bh=aedl4hDN6AedxIc63ioQkKvRVBYjqxvulUUqpudq9PA=; b=EWD6bfCJpOTZ+7JiF7RUFlVyRVFZzqBgoukRXxNWV6qQ00ZoiMID81VVMDpoXewvvs /+fCcLMxv/dJEKtK7BHG+mQmi34H4e5JOo2199J/pvhRYkbglMMKo7jRJYVoWlZ3bYcb 6kbbCwUvE1NZFgJDNk2miUqNqhFs8IlD+LmpE= X-Google-DKIM-Signature: v=1; a=rsa-sha256; c=relaxed/relaxed; d=1e100.net; s=20230601; t=1758433246; x=1759038046; h=cc:to:from:subject:message-id:date:x-gm-message-state:from:to:cc :subject:date:message-id:reply-to; bh=aedl4hDN6AedxIc63ioQkKvRVBYjqxvulUUqpudq9PA=; b=EaydMOowfEIsj7BlPxUptYPKyL1jiGl9YscBH3MFEQLx193JOwH8xWlTnSJcL41BbU /8g+Rj3uSDmNS+lvl7lsPea4CVL7DAPT8raVFvHnrURpItztChnB7CjI71qd9bkOo/N7 5QgHZEXTCiugLgN0h8IZJEBs8esQ9m0trvMl+Oyg70ohWM3JH7MqZJ8wlMUcOay7/mol JxU0DjmWOr1hDuR1/71RdqwLcn4BcW8mo5VzTAkXfN1AFZo8E5/2dKD9vTOtgYFGAAVf Xld1tBp/hmLBovz7oX6Ok56WYBQsYMCvWHbFTczDteYIr4xPQYKPYVaiwnlBxznaDuHU 6now== X-Gm-Message-State: AOJu0Yyi17qR+IZhrln65ekYIDzWgrd7Hz1bo/+gB8RNz+d+Vo5EgI3d 0UyWzhjIIdpVLqdansfQmN+UINpmGvdprKajv9hy6bOuE/ea5HtdfzOkpW5xdZL9X+/5SSt6Ig6 D4/vEzVidKVXHllPD09DKSQETfHP1YVZnMsCk/sm2ILxz5+4c84aF X-Gm-Gg: ASbGncv3/F81efPgonDwH69x9mwCInwoaI7y3GQXj3Hw4KYMZCup5j9C0gXP0uVJP2N Z0BId8IneGfpvhGS+vnWR4p0J4gy71NF4VONdvg0wUg4lRBosjdAVqJGegekvQ8AeGfqhueZooB OV/bCsaej7wSFI9Ye20MvmplROn8bo/GB+FNmOib/TOwqtx2naKu3/VamlFr2Itb41RnQdK0brA 6xUIVAAmBWSqL6NjNAwZlDkQDw+DZ7r1bb1c7zpXeAPN5dhYD/Lwba9ccDfuwb8gwCL+fuN0SJq nzknQ49HPixpfpNiBbWnZqAOaEzXbUBDibPZJPhTmdFp4sdEug== X-Google-Smtp-Source: AGHT+IFYw2yGOs2fihs3Quwu/eVO1PZj25MgurQjvTr6T74B+mOoDVN3kSoWVKBIbd17qq6mg2b8krE1dhqr X-Received: by 2002:a05:6a00:1249:b0:772:6856:e663 with SMTP id d2e1a72fcca58-77e352b6f36mr10249129b3a.8.1758433246354; Sat, 20 Sep 2025 22:40:46 -0700 (PDT) Received: from postal.iol.unh.edu (postal.iol.unh.edu. [2606:4100:3880:1234::84]) by smtp-relay.gmail.com with ESMTPS id d2e1a72fcca58-77f343ddd05sm5562b3a.3.2025.09.20.22.40.46 (version=TLS1_2 cipher=ECDHE-ECDSA-AES128-GCM-SHA256 bits=128/128); Sat, 20 Sep 2025 22:40:46 -0700 (PDT) X-Relaying-Domain: iol.unh.edu Date: Sat, 20 Sep 2025 22:40:46 -0700 (PDT) Message-ID: <68cf8fde.050a0220.4b530.0610SMTPIN_ADDED_MISSING@mx.google.com> Received: from [172.21.0.2] (unknown [172.18.0.240]) by postal.iol.unh.edu (Postfix) with ESMTP id 970586051830; Sun, 21 Sep 2025 01:40:45 -0400 (EDT) Subject: |SUCCESS| [GIT MASTER] b287e404643aeab5bb5db084c142789df187844e From: dpdklab@iol.unh.edu To: Test Report Cc: dpdk-test-reports@iol.unh.edu, Xueming Li , Christian Ehrhardt , Kevin Traynor , Luca Boccassi Content-Type: text/plain X-BeenThere: test-report@dpdk.org X-Mailman-Version: 2.1.29 Precedence: list List-Id: automatic DPDK test reports List-Unsubscribe: , List-Archive: List-Post: List-Help: List-Subscribe: , Errors-To: test-report-bounces@dpdk.org _Testing PASS_ Branch: tags/v24.11 b287e404643aeab5bb5db084c142789df187844e --> testing pass Upstream job id: Generic-DPDK-Compile-Meson#427317 Test environment and result as below: +-------------------------------+--------------------+------------------+-------------------+-------------------+-------------------------+----------------------+ | Environment | dpdk_meson_compile | dpdk_compile_ovs | dpdk_compile_spdk | dpdk_msvc_compile | dpdk_llvm_clang_compile | dpdk_mingw64_compile | +===============================+====================+==================+===================+===================+=========================+======================+ | Fedora Linux 42 | PASS | PASS | PASS | SKIPPED | SKIPPED | SKIPPED | +-------------------------------+--------------------+------------------+-------------------+-------------------+-------------------------+----------------------+ | CentOS Stream 9 | PASS | SKIPPED | PASS | SKIPPED | SKIPPED | SKIPPED | +-------------------------------+--------------------+------------------+-------------------+-------------------+-------------------------+----------------------+ | CentOS Stream 10 | PASS | SKIPPED | SKIPPED | SKIPPED | SKIPPED | SKIPPED | +-------------------------------+--------------------+------------------+-------------------+-------------------+-------------------------+----------------------+ | Debian GNU/Linux 12 | PASS | SKIPPED | PASS | SKIPPED | SKIPPED | SKIPPED | +-------------------------------+--------------------+------------------+-------------------+-------------------+-------------------------+----------------------+ | openSUSE Leap 15.6 | PASS | SKIPPED | SKIPPED | SKIPPED | SKIPPED | SKIPPED | +-------------------------------+--------------------+------------------+-------------------+-------------------+-------------------------+----------------------+ | Red Hat Enterprise Linux 9.5 | PASS | SKIPPED | SKIPPED | SKIPPED | SKIPPED | SKIPPED | +-------------------------------+--------------------+------------------+-------------------+-------------------+-------------------------+----------------------+ | Ubuntu 22.04 | PASS | SKIPPED | PASS | SKIPPED | SKIPPED | SKIPPED | +-------------------------------+--------------------+------------------+-------------------+-------------------+-------------------------+----------------------+ | Ubuntu 24.04 | PASS | PASS | PASS | SKIPPED | SKIPPED | SKIPPED | +-------------------------------+--------------------+------------------+-------------------+-------------------+-------------------------+----------------------+ | Ubuntu 20.04 | PASS | SKIPPED | SKIPPED | SKIPPED | SKIPPED | SKIPPED | +-------------------------------+--------------------+------------------+-------------------+-------------------+-------------------------+----------------------+ | Red Hat Enterprise Linux 8.10 | PASS | SKIPPED | SKIPPED | SKIPPED | SKIPPED | SKIPPED | +-------------------------------+--------------------+------------------+-------------------+-------------------+-------------------------+----------------------+ | Alpine Linux 3.22.0 | PASS | SKIPPED | SKIPPED | SKIPPED | SKIPPED | SKIPPED | +-------------------------------+--------------------+------------------+-------------------+-------------------+-------------------------+----------------------+ | FreeBSD 14.2 | PASS | SKIPPED | SKIPPED | SKIPPED | SKIPPED | SKIPPED | +-------------------------------+--------------------+------------------+-------------------+-------------------+-------------------------+----------------------+ | Windows Server 2022 | SKIPPED | SKIPPED | SKIPPED | PASS | PASS | PASS | +-------------------------------+--------------------+------------------+-------------------+-------------------+-------------------------+----------------------+ Fedora Linux 42 Kernel: 5.15 Compiler: clang gcc (GCC) 15.2.1 20250808 (Red Hat 15.2.1-1) CentOS Stream 9 Kernel: 5.15 Compiler: gcc gcc (GCC) 11.5.0 20240719 (Red Hat 11.5.0-11) CentOS Stream 10 Kernel: 5.15 Compiler: gcc gcc (GCC) 14.2.1 20250110 (Red Hat 14.2.1-8) Debian GNU/Linux 12 Kernel: 5.15 Compiler: gcc gcc (Debian 12.2.0-14+deb12u1) 12.2.0 openSUSE Leap 15.6 Kernel: 5.15 Compiler: gcc gcc (SUSE Linux) 7.5.0 Red Hat Enterprise Linux 9.5 Kernel: 5.15 Compiler: gcc gcc (GCC) 11.5.0 20240719 (Red Hat 11.5.0-2) Ubuntu 22.04 Kernel: 5.15 Compiler: gcc gcc (Ubuntu 11.4.0-1ubuntu1~22.04) 11.4.0 Ubuntu 24.04 Kernel: 5.15 Compiler: gcc gcc (Ubuntu 13.3.0-6ubuntu2~24.04) 13.3.0 Ubuntu 20.04 Kernel: 5.15 Compiler: gcc gcc (Ubuntu 9.4.0-1ubuntu1~20.04.2) 9.4.0 Red Hat Enterprise Linux 8.10 Kernel: 5.15 Compiler: gcc gcc (GCC) 8.5.0 20210514 (Red Hat 8.5.0-22) Alpine Linux 3.22.0 Kernel: 5.15 Compiler: gcc gcc (Alpine 14.2.0) 14.2.0 FreeBSD 14.2 Kernel: 14.2-RELEASE Compiler: clang 18.1.6 Windows Server 2022 Kernel: 10.0.20348.2031 Compiler: clang 15.0.7, gcc 14.1.0 (MinGW), and MSVC VS 19.39.33521 To view detailed results, visit: https://lab.dpdk.org/results/dashboard/tarballs/34954/ UNH-IOL DPDK Community Lab To manage your email subscriptions, visit: https://lab.dpdk.org/results/dashboard/preferences/subscriptions/