From mboxrd@z Thu Jan 1 00:00:00 1970 Return-Path: Received: from mails.dpdk.org (mails.dpdk.org [217.70.189.124]) by inbox.dpdk.org (Postfix) with ESMTP id C934F46F97 for ; Sun, 21 Sep 2025 07:45:17 +0200 (CEST) Received: from mails.dpdk.org (localhost [127.0.0.1]) by mails.dpdk.org (Postfix) with ESMTP id A6608402CA; Sun, 21 Sep 2025 07:45:17 +0200 (CEST) Received: from mail-pg1-f226.google.com (mail-pg1-f226.google.com [209.85.215.226]) by mails.dpdk.org (Postfix) with ESMTP id 3E3FA40280 for ; Sun, 21 Sep 2025 07:45:16 +0200 (CEST) Received: by mail-pg1-f226.google.com with SMTP id 41be03b00d2f7-b54a74f9150so2545890a12.0 for ; Sat, 20 Sep 2025 22:45:16 -0700 (PDT) DKIM-Signature: v=1; a=rsa-sha256; c=relaxed/relaxed; d=iol.unh.edu; s=unh-iol; t=1758433515; x=1759038315; darn=dpdk.org; h=cc:to:from:subject:message-id:date:from:to:cc:subject:date :message-id:reply-to; bh=g+NslFGv0n57nwBsmxhs/HG/9Zx7dj/MnYMGdZ9+QwY=; b=ee5+LldPfH6aVLDcp02jxNctHK1Xy2YR1HCeE0qIgI/4vh7/UK5koIKLTngXzp0d7p vabG+2FVCYDhAVElk1ex3M05yIJwzgybn0N+w5hIOEieAaqVZW/f8jKJJfgAfRM1Mlmx p2zLjpJRPtW+njUGCqCRR6+6VdriyTIZVzWZo= X-Google-DKIM-Signature: v=1; a=rsa-sha256; c=relaxed/relaxed; d=1e100.net; s=20230601; t=1758433515; x=1759038315; h=cc:to:from:subject:message-id:date:x-gm-message-state:from:to:cc :subject:date:message-id:reply-to; bh=g+NslFGv0n57nwBsmxhs/HG/9Zx7dj/MnYMGdZ9+QwY=; b=KndVchzjr8Ha+yvGJtNuDwCY1GG7BEhABykWHx7Q+TRE1mAJ95qUCKuGGN7RqAZbas eOmSev1TRR/QbV70RzuR/xSIFdinNwR+trxPhk4yqCmNu5jpQJwm2x4nUGlI5FrHxZY6 tKFlkVNGm2enUIO9mvVy7eXxzuqWAyYNkIs0ljtYHRvvRg3LGX+KF6Q5YHJW0xd3fN6Q /MbXWXtHI5xf4sOypde1lb5VM7wE9cWBV7dX+UZAROKk09VLI3eWEc5olfId1K+NmWYL Vl9ukkO456rJqJ/pQdXwEz1ZDXEq/mOphk7/B3X8SQkuzTiqC+LW6x8XqtxVs1mA0DmM DbGA== X-Gm-Message-State: AOJu0YzWt5pB0UGNgkWPlrX2VPVL+tqPS6QG3rAYxNuwE2x2IPhTVOkI uyJyQN+Oc9nk/++hTE0BLQJNK/hX/+LL3n71KqxSvMaTpivRhyzlJZ8xe8qFOrPRzb1jxJ45CRz ojqd6tgjrpzPI7O6lhOX26olHtJAET+/kIS6ufVB78X+x6XLbjfBk X-Gm-Gg: ASbGncs8d80EwBU/NT/EVb/obx6I9gpzvHnOzrSjaZCtoudV9i8qRaLtr4+9PoF3R27 doqygIN8Gy/bTgmw2E5hhWKmLwqKwIdsJVgHlCQN7JAzvRBKRssetviOx5nY1eWJ2UQPwbbfND7 l3STu2gZ7Nvv4iGbj4Gs2BEQoXYWNmHA84PmPjfgIxBmPCH/Mb7/+eoBZvoeQxdcr65P5eV/HgR AjjhTVK7Qq+PgeCTYjFBCUCzsLKvzSC0Tt0P/vOmyme+rMxFRZQjQ9CMH3XhdYdAa9sI4iv7OCn 8pkxF1Yr0jO5qSfljyza6axRvKQFFKqn8oAW3zxapZhpRFLLEA== X-Google-Smtp-Source: AGHT+IHtQT+uYzbdblRsLafhW3IGFguNiH3NuSXowyxcgg7IytUH7d+4FNCxx7Lg0NnJvvI5UFRdcmdcGMXc X-Received: by 2002:a17:902:db10:b0:24b:1625:5fa5 with SMTP id d9443c01a7336-269ba4021eamr130775735ad.11.1758433515365; Sat, 20 Sep 2025 22:45:15 -0700 (PDT) Received: from postal.iol.unh.edu (postal.iol.unh.edu. [2606:4100:3880:1234::84]) by smtp-relay.gmail.com with ESMTPS id d9443c01a7336-269802738f8sm6802455ad.42.2025.09.20.22.45.15 (version=TLS1_2 cipher=ECDHE-ECDSA-AES128-GCM-SHA256 bits=128/128); Sat, 20 Sep 2025 22:45:15 -0700 (PDT) X-Relaying-Domain: iol.unh.edu Date: Sat, 20 Sep 2025 22:45:15 -0700 (PDT) Message-ID: <68cf90eb.170a0220.8d9b4.c7e6SMTPIN_ADDED_MISSING@mx.google.com> Received: from [172.21.0.2] (unknown [172.18.0.240]) by postal.iol.unh.edu (Postfix) with ESMTP id 96F7A6051830; Sun, 21 Sep 2025 01:45:14 -0400 (EDT) Subject: |SUCCESS| [GIT MASTER] b287e404643aeab5bb5db084c142789df187844e From: dpdklab@iol.unh.edu To: Test Report Cc: dpdk-test-reports@iol.unh.edu, Xueming Li , Christian Ehrhardt , Kevin Traynor , Luca Boccassi Content-Type: text/plain X-BeenThere: test-report@dpdk.org X-Mailman-Version: 2.1.29 Precedence: list List-Id: automatic DPDK test reports List-Unsubscribe: , List-Archive: List-Post: List-Help: List-Subscribe: , Errors-To: test-report-bounces@dpdk.org _Testing PASS_ Branch: tags/v24.11 b287e404643aeab5bb5db084c142789df187844e --> testing pass Upstream job id: Generic-Unit-Test-DPDK#373602 Test environment and result as below: +-------------------------------+----------------+ | Environment | dpdk_unit_test | +===============================+================+ | CentOS Stream 10 | PASS | +-------------------------------+----------------+ | Fedora Linux 40 | PASS | +-------------------------------+----------------+ | Red Hat Enterprise Linux 8.10 | PASS | +-------------------------------+----------------+ | Fedora Linux 42 | PASS | +-------------------------------+----------------+ | CentOS Stream 9 | PASS | +-------------------------------+----------------+ | Ubuntu 22.04 | PASS | +-------------------------------+----------------+ | Ubuntu 20.04 | PASS | +-------------------------------+----------------+ | Fedora Linux 41 | PASS | +-------------------------------+----------------+ | Red Hat Enterprise Linux 9.5 | PASS | +-------------------------------+----------------+ | Debian GNU/Linux 12 | PASS | +-------------------------------+----------------+ | Ubuntu 24.04 | PASS | +-------------------------------+----------------+ | Windows Server 2022 | PASS | +-------------------------------+----------------+ CentOS Stream 10 Kernel: 5.15 Compiler: gcc gcc (GCC) 14.2.1 20250110 (Red Hat 14.2.1-8) Fedora Linux 40 Kernel: 5.15 Compiler: gcc gcc (GCC) 14.2.1 20240912 (Red Hat 14.2.1-3) Red Hat Enterprise Linux 8.10 Kernel: 5.15 Compiler: gcc gcc (GCC) 8.5.0 20210514 (Red Hat 8.5.0-22) Fedora Linux 42 Kernel: 5.15 Compiler: clang gcc (GCC) 15.2.1 20250808 (Red Hat 15.2.1-1) CentOS Stream 9 Kernel: 5.15 Compiler: gcc gcc (GCC) 11.5.0 20240719 (Red Hat 11.5.0-11) Ubuntu 22.04 Kernel: 5.15 Compiler: gcc gcc (Ubuntu 11.4.0-1ubuntu1~22.04) 11.4.0 Ubuntu 20.04 Kernel: 5.15 Compiler: gcc gcc (Ubuntu 9.4.0-1ubuntu1~20.04.2) 9.4.0 Fedora Linux 41 Kernel: 5.15 Compiler: clang gcc (GCC) 14.3.1 20250523 (Red Hat 14.3.1-1) Red Hat Enterprise Linux 9.5 Kernel: 5.15 Compiler: gcc gcc (GCC) 11.5.0 20240719 (Red Hat 11.5.0-2) Debian GNU/Linux 12 Kernel: 5.15 Compiler: gcc gcc (Debian 12.2.0-14+deb12u1) 12.2.0 Ubuntu 24.04 Kernel: 5.15 Compiler: gcc gcc (Ubuntu 13.3.0-6ubuntu2~24.04) 13.3.0 Windows Server 2022 Kernel: 10.0.20348.2031 Compiler: clang 15.0.7, gcc 14.1.0 (MinGW), and MSVC VS 19.39.33521 To view detailed results, visit: https://lab.dpdk.org/results/dashboard/tarballs/34954/ UNH-IOL DPDK Community Lab To manage your email subscriptions, visit: https://lab.dpdk.org/results/dashboard/preferences/subscriptions/