From mboxrd@z Thu Jan 1 00:00:00 1970 Return-Path: Received: from mails.dpdk.org (mails.dpdk.org [217.70.189.124]) by inbox.dpdk.org (Postfix) with ESMTP id BB2D946F97 for ; Sun, 21 Sep 2025 07:45:35 +0200 (CEST) Received: from mails.dpdk.org (localhost [127.0.0.1]) by mails.dpdk.org (Postfix) with ESMTP id B7AF2402B5; Sun, 21 Sep 2025 07:45:35 +0200 (CEST) Received: from mail-il1-f226.google.com (mail-il1-f226.google.com [209.85.166.226]) by mails.dpdk.org (Postfix) with ESMTP id 2C9C5402B5 for ; Sun, 21 Sep 2025 07:45:35 +0200 (CEST) Received: by mail-il1-f226.google.com with SMTP id e9e14a558f8ab-4242bb22132so33984335ab.3 for ; Sat, 20 Sep 2025 22:45:35 -0700 (PDT) DKIM-Signature: v=1; a=rsa-sha256; c=relaxed/relaxed; d=iol.unh.edu; s=unh-iol; t=1758433534; x=1759038334; darn=dpdk.org; h=cc:to:from:subject:message-id:date:from:to:cc:subject:date :message-id:reply-to; bh=DIFx7TRLp2ZSq+C7908TTY4tarBO+4VFmaa0u9623D0=; b=UR1N/Kya4dA9SBncuCR5oYUlnXY2EmeYi2jf0PnrL85do0fvoSX5SrgbT0iohfSDwO xdXvJYUQ5JR9wCTBxUn4Na4limCqqURELdB0etdhc9JGhnAErSpAiXr2ggwgNUmhB8XK v5pzw5CCSMfkn4SdLDKfDNtrVBrP7w1vjTwjM= X-Google-DKIM-Signature: v=1; a=rsa-sha256; c=relaxed/relaxed; d=1e100.net; s=20230601; t=1758433534; x=1759038334; h=cc:to:from:subject:message-id:date:x-gm-message-state:from:to:cc :subject:date:message-id:reply-to; bh=DIFx7TRLp2ZSq+C7908TTY4tarBO+4VFmaa0u9623D0=; b=U5mWY8uqwUHBw2TxmQqsAbrk2wdCH8R/yEJs12NAsiH1EE9ZbGf6sHdeUOcim7uH9f pwfuRGEAPhoDCWkVQPb7FRAthiSlno4x7T4xIA0+v5vWVA7hs+QCKaSa3ZZzNFQPYbiD 5XO1A3qNnRGtDA+V+Ki+m4Nvc+TZlxkyUbsylNi9IxUaETZkmi3Gms+jsCjKmdBOcsse usFRvent1RVIcgINoR8l6IpKHh/HHg++hm7pZxUJi5pZh2EQEEK+HqX44qrpqDKHtU1Q wrVjaze+Tez6px0wUnxyW41iGaxd0LALbYNI+FnpjQKzXruKYW054a2FFNXEpDFol+0f Q3Pg== X-Gm-Message-State: AOJu0YyYzvzLJxwm85DWzag5HETZJBs9p5PS1cGUou32eDujPjckWRyj JFExatTAMekjs9R+J3YOYrqtbLRBl7Zcqu8DGxGly4PhSp/6xbYdpbciIkEacdrs7G8pUUI/j5U 9voICJY5cmy4Pa0hwUNO07q5NcPoUE0neY0pYMrnWbGWwbDAI3QzS X-Gm-Gg: ASbGncv5A6mmqBUXl2gHiWVrfeZlgwl4ePf6OdRgFN8EZnO1pazwFX+UdExBaeiAx4+ j/OCjfRlDhaG1tSA0Bn9cl6uTSlDu4U1XQO/UENEx6OhotTffDfoW6zHIeYJWGz2wGqISqmRkUj W+ZYlMInYtKFW59tcZSwcIFHZ/CSuu/0cYyyT58jsaZODUFv259mMiXkvDe3wqTD6S8izp0JMCf 9AUxLZfjpZ1QGwVDiotw8t/P+I50Rq/C2QyDJhmb9y/zAK3PmrxJogTMIkxhMoRfntsbD85ViXb 5zJjghvqhu0JNfuE8gb8q4UIZMAjeu7/Ro5QFGKIuusDjOlIag== X-Google-Smtp-Source: AGHT+IHj4tlcBC/mVNW+g8aU0AA5QBOJWwxOB/rwiOX92HcKBbOnRPHPDCS/5di2mwd6+WZO0CpSj+dPwhgG X-Received: by 2002:a05:6e02:1c24:b0:423:fb83:6958 with SMTP id e9e14a558f8ab-4248190b42bmr142248225ab.2.1758433534492; Sat, 20 Sep 2025 22:45:34 -0700 (PDT) Received: from postal.iol.unh.edu (postal.iol.unh.edu. [2606:4100:3880:1234::84]) by smtp-relay.gmail.com with ESMTPS id 8926c6da1cb9f-554a3a4672asm135734173.13.2025.09.20.22.45.34 (version=TLS1_2 cipher=ECDHE-ECDSA-AES128-GCM-SHA256 bits=128/128); Sat, 20 Sep 2025 22:45:34 -0700 (PDT) X-Relaying-Domain: iol.unh.edu Date: Sat, 20 Sep 2025 22:45:34 -0700 (PDT) Message-ID: <68cf90fe.050a0220.15e87.9842SMTPIN_ADDED_MISSING@mx.google.com> Received: from [172.21.0.2] (unknown [172.18.0.240]) by postal.iol.unh.edu (Postfix) with ESMTP id 149F86051830; Sun, 21 Sep 2025 01:45:34 -0400 (EDT) Subject: |WARNING| [GIT MASTER] 62f583c49bf67dd4d6733ece14e55fe6839e66d1 From: dpdklab@iol.unh.edu To: Test Report Cc: dpdk-test-reports@iol.unh.edu, Xueming Li , Christian Ehrhardt , Kevin Traynor , Luca Boccassi Content-Type: text/plain X-BeenThere: test-report@dpdk.org X-Mailman-Version: 2.1.29 Precedence: list List-Id: automatic DPDK test reports List-Unsubscribe: , List-Archive: List-Post: List-Help: List-Subscribe: , Errors-To: test-report-bounces@dpdk.org _Testing issues_ Branch: tags/v23.11 62f583c49bf67dd4d6733ece14e55fe6839e66d1 --> testing issues Upstream job id: Generic-Unit-Test-DPDK#373561 Test environment and result as below: +------------------------------+----------------+--------------+---------------------------+------------------------------+ | Environment | dpdk_unit_test | lpm_autotest | cryptodev_sw_zuc_autotest | cryptodev_sw_snow3g_autotest | +==============================+================+==============+===========================+==============================+ | Ubuntu 20.04 | PASS | PASS | SKIPPED | SKIPPED | +------------------------------+----------------+--------------+---------------------------+------------------------------+ | Fedora Linux 40 | PASS | SKIPPED | SKIPPED | SKIPPED | +------------------------------+----------------+--------------+---------------------------+------------------------------+ | Ubuntu 24.04 | PASS | SKIPPED | SKIPPED | SKIPPED | +------------------------------+----------------+--------------+---------------------------+------------------------------+ | Fedora Linux 42 | PASS | SKIPPED | SKIPPED | SKIPPED | +------------------------------+----------------+--------------+---------------------------+------------------------------+ | CentOS Stream 9 | PASS | SKIPPED | SKIPPED | SKIPPED | +------------------------------+----------------+--------------+---------------------------+------------------------------+ | Debian GNU/Linux 12 | PASS | SKIPPED | SKIPPED | SKIPPED | +------------------------------+----------------+--------------+---------------------------+------------------------------+ | Red Hat Enterprise Linux 9.5 | PASS | SKIPPED | SKIPPED | SKIPPED | +------------------------------+----------------+--------------+---------------------------+------------------------------+ | Fedora Linux 41 | PASS | SKIPPED | SKIPPED | SKIPPED | +------------------------------+----------------+--------------+---------------------------+------------------------------+ | CentOS Stream 10 | PASS | SKIPPED | SKIPPED | SKIPPED | +------------------------------+----------------+--------------+---------------------------+------------------------------+ | Ubuntu 22.04 | PASS | SKIPPED | SKIPPED | SKIPPED | +------------------------------+----------------+--------------+---------------------------+------------------------------+ | Debian 12 (arm) | SKIPPED | SKIPPED | PASS | PASS | +------------------------------+----------------+--------------+---------------------------+------------------------------+ Ubuntu 20.04 Kernel: 5.4 Compiler: gcc gcc (Ubuntu 9.4.0-1ubuntu1~20.04.2) 9.4.0 Fedora Linux 40 Kernel: 5.4 Compiler: clang gcc (GCC) 14.2.1 20240912 (Red Hat 14.2.1-3) Ubuntu 24.04 Kernel: 5.4 Compiler: gcc gcc (Ubuntu 13.3.0-6ubuntu2~24.04) 13.3.0 Fedora Linux 42 Kernel: 5.4 Compiler: gcc gcc (GCC) 15.2.1 20250808 (Red Hat 15.2.1-1) CentOS Stream 9 Kernel: 5.4 Compiler: gcc gcc (GCC) 11.5.0 20240719 (Red Hat 11.5.0-11) Debian GNU/Linux 12 Kernel: 5.4 Compiler: gcc gcc (Debian 12.2.0-14+deb12u1) 12.2.0 Red Hat Enterprise Linux 9.5 Kernel: 5.4 Compiler: gcc gcc (GCC) 11.5.0 20240719 (Red Hat 11.5.0-2) Fedora Linux 41 Kernel: 5.4 Compiler: clang gcc (GCC) 14.3.1 20250523 (Red Hat 14.3.1-1) CentOS Stream 10 Kernel: 5.4 Compiler: gcc gcc (GCC) 14.2.1 20250110 (Red Hat 14.2.1-8) Ubuntu 22.04 Kernel: 5.4 Compiler: gcc gcc (Ubuntu 11.4.0-1ubuntu1~22.04) 11.4.0 Debian 12 (arm) Kernel: Depends on container host Compiler: gcc (Debian 12.2.0-14) 12.2.0 To view detailed results, visit: https://lab.dpdk.org/results/dashboard/tarballs/34953/ UNH-IOL DPDK Community Lab To manage your email subscriptions, visit: https://lab.dpdk.org/results/dashboard/preferences/subscriptions/