From mboxrd@z Thu Jan 1 00:00:00 1970 Return-Path: Received: from mails.dpdk.org (mails.dpdk.org [217.70.189.124]) by inbox.dpdk.org (Postfix) with ESMTP id 57B7E46F9F for ; Sun, 21 Sep 2025 09:15:30 +0200 (CEST) Received: from mails.dpdk.org (localhost [127.0.0.1]) by mails.dpdk.org (Postfix) with ESMTP id 2CA08402B5; Sun, 21 Sep 2025 09:15:30 +0200 (CEST) Received: from mail-pg1-f228.google.com (mail-pg1-f228.google.com [209.85.215.228]) by mails.dpdk.org (Postfix) with ESMTP id ADDB7402B5 for ; Sun, 21 Sep 2025 09:15:28 +0200 (CEST) Received: by mail-pg1-f228.google.com with SMTP id 41be03b00d2f7-b4f7053cc38so2526596a12.2 for ; Sun, 21 Sep 2025 00:15:28 -0700 (PDT) DKIM-Signature: v=1; a=rsa-sha256; c=relaxed/relaxed; d=iol.unh.edu; s=unh-iol; t=1758438927; x=1759043727; darn=dpdk.org; h=cc:to:from:subject:message-id:date:from:to:cc:subject:date :message-id:reply-to; bh=1tM6pUVMqLQvP336T/GXDH+zY15ydzpxf7toGcDY23o=; b=SjANWdvKi08EQnQlL9ZcU8lFJ7aWwg5IENFoEL/4F4SohvHzeb5HYT8FghmBI7Swb/ UMMpZSE1VZbBNZYH+7eCwIVtWr7ttdNpBcUGZmsjFd98Jk3OSFoB0YHm26oEZiK6g6aN kKVyy+M3UMngElMiohWBbcsHB/VE0bwcprhB4= X-Google-DKIM-Signature: v=1; a=rsa-sha256; c=relaxed/relaxed; d=1e100.net; s=20230601; t=1758438927; x=1759043727; h=cc:to:from:subject:message-id:date:x-gm-message-state:from:to:cc :subject:date:message-id:reply-to; bh=1tM6pUVMqLQvP336T/GXDH+zY15ydzpxf7toGcDY23o=; b=pfG1kpIBDZ4OcQAN3EUSxTPS3taU+Wd6tkquzzyfkFr/DR+ZWeWX0GyMooxFKUNUuI mBL+1EcHfvhftuJUtsEIThmmfkwAT80LFDbQoGUy051B+bENN8DyOFYZuy+mTXvpaHCo Cp7vaj5HA0eHZ9d3NBAsXHj13jBFr94RHZ0Cyt5hzVYJUMyKh4XRJceMPiHHRrpTV03h 6jP7sBQWdcI0++wfZqIKF8I9RMHhqEjEzJiosuksh1tO5623Hl1sElNVhlwQ1DCfOc+r YsJoWq91Tl956gTTw+ESm3jXqbglS4AtvcnsBg4mAc2rQlc5Db1W10qe2eOPPvByauEg iEkA== X-Gm-Message-State: AOJu0YxLDj4LaP6z8AtSkT3zSN+Y+QIJs+e4cGcHD/p6vCUuW5FEKxzg 1UYC/W3PEF2+JnuORol1ZwLeqZ1v6kz+Zq+n5SBbw7rtoE7aaLmbMOJFzK04Fbn/EAUrRmGipxS DqbnHd3owTg8iDoGtJ3aT6VB2JU8p+2/z9Mw07IHXJ+98YHWrABGC X-Gm-Gg: ASbGnct1zrnF+m8n3bE1zm7lnasaHbGpcHiVYUkZBoFCYrBHcK31OEu7zZflWq3cFnS i7mkIqz7WjdctSNvjhi2i/Q84U/xlBAxNMwYaDNN1Nm7t5Ck09CmWk97gQwodO9UwHfn4M7MQzF m67GPiguna6ih5I02mAl41kslhOfjG1s8oD+n4OYY51L2b6G3X88uJCSVzBmTsucLZOvkyAU2j2 W7ZXGrMYBUWQ3s90YOZVhfF2gXwI0tWM8IjafUYVvmyUPMiBJQ2tKmX2tzwOidmC/3xQBcg4tCe yyBURbb5kCu9S6yIZL2doqoO26BJt8OS048QERB+zyhvb/nQjA== X-Google-Smtp-Source: AGHT+IHzVSiiaNXPQF0kGR+PNRs2RaevT8tLz8ubGXtQl06g2cJnwFYVVZ8oFLYV27FUEPjHFbQdsPJ5mc7u X-Received: by 2002:a05:6a21:3397:b0:246:1c:488 with SMTP id adf61e73a8af0-29274061dcemr12694842637.53.1758438927610; Sun, 21 Sep 2025 00:15:27 -0700 (PDT) Received: from postal.iol.unh.edu (postal.iol.unh.edu. [2606:4100:3880:1234::84]) by smtp-relay.gmail.com with ESMTPS id 41be03b00d2f7-b54ff40935fsm564362a12.19.2025.09.21.00.15.27 (version=TLS1_2 cipher=ECDHE-ECDSA-AES128-GCM-SHA256 bits=128/128); Sun, 21 Sep 2025 00:15:27 -0700 (PDT) X-Relaying-Domain: iol.unh.edu Date: Sun, 21 Sep 2025 00:15:27 -0700 (PDT) Message-ID: <68cfa60f.630a0220.3a469.351dSMTPIN_ADDED_MISSING@mx.google.com> Received: from [172.21.0.2] (unknown [172.18.0.240]) by postal.iol.unh.edu (Postfix) with ESMTP id C78B560003EA; Sun, 21 Sep 2025 03:15:26 -0400 (EDT) Subject: |SUCCESS| [GIT MASTER] 3b43ce3f4a54468e7ef65760c2fd7b4d6ee6d9fc From: dpdklab@iol.unh.edu To: Test Report Cc: dpdk-test-reports@iol.unh.edu, Xueming Li , Christian Ehrhardt , Kevin Traynor , Luca Boccassi Content-Type: text/plain X-BeenThere: test-report@dpdk.org X-Mailman-Version: 2.1.29 Precedence: list List-Id: automatic DPDK test reports List-Unsubscribe: , List-Archive: List-Post: List-Help: List-Subscribe: , Errors-To: test-report-bounces@dpdk.org _Testing PASS_ Branch: tags/v22.11 3b43ce3f4a54468e7ef65760c2fd7b4d6ee6d9fc --> testing pass Upstream job id: Generic-DPDK-Compile-Meson#427288 Test environment and result as below: +------------------------------+--------------------+ | Environment | dpdk_meson_compile | +==============================+====================+ | Red Hat Enterprise Linux 9.5 | PASS | +------------------------------+--------------------+ | Ubuntu 20.04 | PASS | +------------------------------+--------------------+ | Fedora Linux 42 | PASS | +------------------------------+--------------------+ | Debian GNU/Linux 12 | PASS | +------------------------------+--------------------+ | Ubuntu 22.04 | PASS | +------------------------------+--------------------+ | CentOS Stream 9 | PASS | +------------------------------+--------------------+ | CentOS Stream 10 | PASS | +------------------------------+--------------------+ | Ubuntu 24.04 | PASS | +------------------------------+--------------------+ Red Hat Enterprise Linux 9.5 Kernel: 5.4 Compiler: gcc gcc (GCC) 11.5.0 20240719 (Red Hat 11.5.0-2) Ubuntu 20.04 Kernel: 5.15 Compiler: aarch64-linux-gnu-gcc gcc (Ubuntu 9.4.0-1ubuntu1~20.04.2) 9.4.0 Fedora Linux 42 Kernel: 5.4 Compiler: gcc gcc (GCC) 15.2.1 20250808 (Red Hat 15.2.1-1) Debian GNU/Linux 12 Kernel: 5.4 Compiler: gcc gcc (Debian 12.2.0-14+deb12u1) 12.2.0 Ubuntu 22.04 Kernel: 5.4 Compiler: gcc gcc (Ubuntu 11.4.0-1ubuntu1~22.04) 11.4.0 CentOS Stream 9 Kernel: 5.4 Compiler: gcc gcc (GCC) 11.5.0 20240719 (Red Hat 11.5.0-11) CentOS Stream 10 Kernel: 5.4 Compiler: gcc gcc (GCC) 14.2.1 20250110 (Red Hat 14.2.1-8) Ubuntu 24.04 Kernel: 5.4 Compiler: gcc gcc (Ubuntu 13.3.0-6ubuntu2~24.04) 13.3.0 To view detailed results, visit: https://lab.dpdk.org/results/dashboard/tarballs/34952/ UNH-IOL DPDK Community Lab To manage your email subscriptions, visit: https://lab.dpdk.org/results/dashboard/preferences/subscriptions/