From mboxrd@z Thu Jan 1 00:00:00 1970 Return-Path: Received: from mails.dpdk.org (mails.dpdk.org [217.70.189.124]) by inbox.dpdk.org (Postfix) with ESMTP id 3151A46F9F for ; Sun, 21 Sep 2025 09:53:25 +0200 (CEST) Received: from mails.dpdk.org (localhost [127.0.0.1]) by mails.dpdk.org (Postfix) with ESMTP id 07717402CA; Sun, 21 Sep 2025 09:53:25 +0200 (CEST) Received: from mail-pl1-f228.google.com (mail-pl1-f228.google.com [209.85.214.228]) by mails.dpdk.org (Postfix) with ESMTP id 17A42402CA for ; Sun, 21 Sep 2025 09:53:24 +0200 (CEST) Received: by mail-pl1-f228.google.com with SMTP id d9443c01a7336-26058a9e3b5so26419535ad.2 for ; Sun, 21 Sep 2025 00:53:24 -0700 (PDT) DKIM-Signature: v=1; a=rsa-sha256; c=relaxed/relaxed; d=iol.unh.edu; s=unh-iol; t=1758441203; x=1759046003; darn=dpdk.org; h=cc:to:from:subject:message-id:date:from:to:cc:subject:date :message-id:reply-to; bh=mieL72BjHGNdm4y2BoNcPp7qEfCfAJMSGpiR4oa7tTQ=; b=hnnwmCM8ymVmbeuCA2/4X9De+ZYcw5DxxRZXZQ/pLnf4oifmurgQOO1RO3Oe4YLrTK pKU1dM0AgbxoNrtY3u2clBNRmlNiLTYOnW85HwmpgB/2/Lg+k8PgksuT3cSTy4d7ttPr Go+DG3YrCeiphAJpoUTlHuSttSsHeQZB7FRFA= X-Google-DKIM-Signature: v=1; a=rsa-sha256; c=relaxed/relaxed; d=1e100.net; s=20230601; t=1758441203; x=1759046003; h=cc:to:from:subject:message-id:date:x-gm-message-state:from:to:cc :subject:date:message-id:reply-to; bh=mieL72BjHGNdm4y2BoNcPp7qEfCfAJMSGpiR4oa7tTQ=; b=koFTFY35oDTewSfEzb8TNBySSApVKFjQQ+uYJU2lQJLA2AzPfpSakv7CE3nwtm6fGS oH9V1bNUf5Ww/qR/N7zCw3BG+uwlhEw9kgmbLd8mp06cNNbt/yhcSJJBVf0hZf4taoi+ NGxU2yHeLoD1OW39KzFXHGpRWeSXVbdsh3gMg0NUsaq6P+KUJncltKJunTbJRH0D2lrm YBVFjH37/39W1xLTyw83mW2JHZBPhSoCWxe4lotJRhp0KDkVrC7kA3wjfUFdKX7o2Gur tKP0MKudzA54akkwQlGjVObIP0oNab1KmmaZAaSd7E0e87Jw2FNgb33ZATJ65CnIslmh Nkmw== X-Gm-Message-State: AOJu0YyC1ij+9HIFevjgTA7qc6H95faiyj+y1f+5s13GowQaICa/euF+ Qp+KyNuvvDyJ/KJlfO9J7qIzpp7WshCHqBNH63xUXGKBvywuEhd3sUtlMLIPdZN3rZ1oLX8ul22 Mpnrr2kg6PV0Fj9RedxxSzeT1hKwHaQB0Jum3t9syX3rhwfl4/cKT X-Gm-Gg: ASbGncvuCfj7VsjuHKrmaXr336KEW/liCVvpWk7Prh94LpS/2MqGspvRiZH0ankKyn8 gg4JF4ebB4BBnyZhBDwAPccpD6Pz1Ysfu2VVlJqyNE/DSaXQ6o8C0Jw9/twkPGrdt/Oclo5cvu+ i95tODJLxaowLazDj4+IBpxB5lwMUbqqI9QZbnG73T4Gwr1oIPYcWr0iOFUOQLhgzznDhb8Bwue DACUpdIcFGoDBF6FujHpAAsjiLr+jC1BeG5GEDyPrrWisViMt+duIPqtz89cLtwV2PU9qWpM4Zk gPXs3lt5Hv3BqzvIf/UAQ1hmfhYmnC17sBe3yX5gnIHhU7CnWA== X-Google-Smtp-Source: AGHT+IG0v1i8WLtfgmaRmw3Lf5XN9yu0dwoPvG1ep/cbzWlr3WZaGrmNercu7pAG6U82Z3rnbAEgyiaYVQMm X-Received: by 2002:a17:902:e743:b0:24c:cca1:7cfc with SMTP id d9443c01a7336-269ba59def1mr120348255ad.59.1758441203108; Sun, 21 Sep 2025 00:53:23 -0700 (PDT) Received: from postal.iol.unh.edu (postal.iol.unh.edu. [2606:4100:3880:1234::84]) by smtp-relay.gmail.com with ESMTPS id d2e1a72fcca58-77f0eca7319sm334027b3a.9.2025.09.21.00.53.22 (version=TLS1_2 cipher=ECDHE-ECDSA-AES128-GCM-SHA256 bits=128/128); Sun, 21 Sep 2025 00:53:23 -0700 (PDT) X-Relaying-Domain: iol.unh.edu Date: Sun, 21 Sep 2025 00:53:23 -0700 (PDT) Message-ID: <68cfaef3.050a0220.1dada.71d9SMTPIN_ADDED_MISSING@mx.google.com> Received: from [172.21.0.3] (unknown [172.18.0.240]) by postal.iol.unh.edu (Postfix) with ESMTP id 5422E6051830; Sun, 21 Sep 2025 03:53:22 -0400 (EDT) Subject: |SUCCESS| [GIT MASTER] b287e404643aeab5bb5db084c142789df187844e From: dpdklab@iol.unh.edu To: Test Report Cc: dpdk-test-reports@iol.unh.edu, Xueming Li , Christian Ehrhardt , Kevin Traynor , Luca Boccassi Content-Type: text/plain X-BeenThere: test-report@dpdk.org X-Mailman-Version: 2.1.29 Precedence: list List-Id: automatic DPDK test reports List-Unsubscribe: , List-Archive: List-Post: List-Help: List-Subscribe: , Errors-To: test-report-bounces@dpdk.org _Testing PASS_ Branch: tags/v24.11 b287e404643aeab5bb5db084c142789df187844e --> testing pass Upstream job id: Generic-Unit-Test-DPDK#373611 Test environment and result as below: +------------------------------+---------------------------+--------------+------------------------------+----------------+ | Environment | cryptodev_sw_zuc_autotest | lpm_autotest | cryptodev_sw_snow3g_autotest | dpdk_unit_test | +==============================+===========================+==============+==============================+================+ | Debian 12 (arm) | PASS | SKIPPED | PASS | SKIPPED | +------------------------------+---------------------------+--------------+------------------------------+----------------+ | Ubuntu 20.04 | SKIPPED | PASS | SKIPPED | PASS | +------------------------------+---------------------------+--------------+------------------------------+----------------+ | Ubuntu 22.04 | SKIPPED | SKIPPED | SKIPPED | PASS | +------------------------------+---------------------------+--------------+------------------------------+----------------+ | CentOS Stream 9 | SKIPPED | SKIPPED | SKIPPED | PASS | +------------------------------+---------------------------+--------------+------------------------------+----------------+ | Fedora Linux 41 | SKIPPED | SKIPPED | SKIPPED | PASS | +------------------------------+---------------------------+--------------+------------------------------+----------------+ | Debian GNU/Linux 12 | SKIPPED | SKIPPED | SKIPPED | PASS | +------------------------------+---------------------------+--------------+------------------------------+----------------+ | Fedora Linux 40 | SKIPPED | SKIPPED | SKIPPED | PASS | +------------------------------+---------------------------+--------------+------------------------------+----------------+ | Ubuntu 24.04 | SKIPPED | SKIPPED | SKIPPED | PASS | +------------------------------+---------------------------+--------------+------------------------------+----------------+ | Fedora Linux 42 | SKIPPED | SKIPPED | SKIPPED | PASS | +------------------------------+---------------------------+--------------+------------------------------+----------------+ | CentOS Stream 10 | SKIPPED | SKIPPED | SKIPPED | PASS | +------------------------------+---------------------------+--------------+------------------------------+----------------+ | Red Hat Enterprise Linux 9.5 | SKIPPED | SKIPPED | SKIPPED | PASS | +------------------------------+---------------------------+--------------+------------------------------+----------------+ Debian 12 (arm) Kernel: Depends on container host Compiler: gcc (Debian 12.2.0-14) 12.2.0 Ubuntu 20.04 Kernel: 5.4 Compiler: gcc gcc (Ubuntu 9.4.0-1ubuntu1~20.04.2) 9.4.0 Ubuntu 22.04 Kernel: 5.4 Compiler: gcc gcc (Ubuntu 11.4.0-1ubuntu1~22.04) 11.4.0 CentOS Stream 9 Kernel: 5.4 Compiler: gcc gcc (GCC) 11.5.0 20240719 (Red Hat 11.5.0-11) Fedora Linux 41 Kernel: 5.4 Compiler: gcc gcc (GCC) 14.3.1 20250523 (Red Hat 14.3.1-1) Debian GNU/Linux 12 Kernel: 5.4 Compiler: gcc gcc (Debian 12.2.0-14+deb12u1) 12.2.0 Fedora Linux 40 Kernel: 5.4 Compiler: gcc gcc (GCC) 14.2.1 20240912 (Red Hat 14.2.1-3) Ubuntu 24.04 Kernel: 5.4 Compiler: gcc gcc (Ubuntu 13.3.0-6ubuntu2~24.04) 13.3.0 Fedora Linux 42 Kernel: 5.4 Compiler: gcc gcc (GCC) 15.2.1 20250808 (Red Hat 15.2.1-1) CentOS Stream 10 Kernel: 5.4 Compiler: gcc gcc (GCC) 14.2.1 20250110 (Red Hat 14.2.1-8) Red Hat Enterprise Linux 9.5 Kernel: 5.4 Compiler: gcc gcc (GCC) 11.5.0 20240719 (Red Hat 11.5.0-2) To view detailed results, visit: https://lab.dpdk.org/results/dashboard/tarballs/34954/ UNH-IOL DPDK Community Lab To manage your email subscriptions, visit: https://lab.dpdk.org/results/dashboard/preferences/subscriptions/