From mboxrd@z Thu Jan 1 00:00:00 1970 Return-Path: Received: from mails.dpdk.org (mails.dpdk.org [217.70.189.124]) by inbox.dpdk.org (Postfix) with ESMTP id 8FB2646F9F for ; Sun, 21 Sep 2025 09:57:54 +0200 (CEST) Received: from mails.dpdk.org (localhost [127.0.0.1]) by mails.dpdk.org (Postfix) with ESMTP id 677FA402CA; Sun, 21 Sep 2025 09:57:54 +0200 (CEST) Received: from mail-yw1-f225.google.com (mail-yw1-f225.google.com [209.85.128.225]) by mails.dpdk.org (Postfix) with ESMTP id 22311402CA for ; Sun, 21 Sep 2025 09:57:53 +0200 (CEST) Received: by mail-yw1-f225.google.com with SMTP id 00721157ae682-71d603a9cfaso25707127b3.1 for ; Sun, 21 Sep 2025 00:57:53 -0700 (PDT) DKIM-Signature: v=1; a=rsa-sha256; c=relaxed/relaxed; d=iol.unh.edu; s=unh-iol; t=1758441472; x=1759046272; darn=dpdk.org; h=cc:to:from:subject:message-id:date:from:to:cc:subject:date :message-id:reply-to; bh=NRmjYyO1/iaT5ZDBNZMXiMnVegUtrOmFz/y4U0XkQDY=; b=UCuzZkENTlyzQJoaDBDQ3l3EM5Xk1QA4i50nO/Rb1iVHCs/FTrgTWHm0fJSlElLTv9 aakDYPhcatpamQ3CfHBxs49ksoCZAb1iO+R1wG/5muVwcAR1lQkT3qzNaYFrbDOtwzq7 OkJe3cU0O95WE7mRbBqHXOxPngdci+W9b2kE0= X-Google-DKIM-Signature: v=1; a=rsa-sha256; c=relaxed/relaxed; d=1e100.net; s=20230601; t=1758441472; x=1759046272; h=cc:to:from:subject:message-id:date:x-gm-message-state:from:to:cc :subject:date:message-id:reply-to; bh=NRmjYyO1/iaT5ZDBNZMXiMnVegUtrOmFz/y4U0XkQDY=; b=skdpGxtgOw2nxqx1rg8iivUeoR+6b3bHBNzXnIpAOkoIe1A7F9Y6A1Ncz2pBZEYgkX J6ONBp/VDv9+IUuLNWpy4thAZqqZevhEmAfBXDoxRRAGhRfSV5/lpuvR1lOI37alAFWq /p2AisH2/AFKYy67cqxfMPFO3aEBp0LiRUMmySGaWmD561O6tHrlgd0kEC84m8opHWij R0gh1tysbJEaYRSMuUbHjF65m0XmkdDarq4BLhsPI0oyuhDc5kEEqDoF827obCMqGM7u 9rQ6eBimvVk5e9Hz9z8K+DK6rZTBCNifnuq7y6jL5Yn0kv0o/u2sffwrnDty8Cyooknn U9+g== X-Gm-Message-State: AOJu0Yw2VDKM1aISmxy4TJMzemVf+TJiPAO306pHLGZWrHKz932yXcFw umQzVuQ6nsIzs2N/M/UbP47wHlNIrFZbgRVxkrDq8OBVAo8mnjC0TzzkrCB2efQfmfDgCcaBAru nPWliqjRFhkaBP+CY+JN1tK1pCd0lnb84DBiU X-Gm-Gg: ASbGncsHpa/52fZxBlb4KBwnpLd2quR72Pd3E8wUBnB/e20AFM01dUAjWlHJiiydxSF xXtF3MXhscla8yMZlLF/yQw7CHKdYuIi6QykJKnZjaidITxtqpiiJzFnzkg+xSdUb8nvZlTexBJ x/V0yvtvlwniI4hlnyaWSpPI5PqQbm6i3D3Y8FijEDtU1VfD4YEiB4GNHbQFIQjOlQdeDUITSZE eUlAU7mkznnhrcaQgensdXSln3F7vcS2ep6w/8BFD+lbVUhCsU2o92MICjSU3IQEwGPiLJRHUFk 2uKo41ac/Xz2IyMU07cv/57F9m1Ey4Cwx/wMqxy0jZ9uNIGNN7YW0NH9T7m0ZlKhGiVvbwdy X-Google-Smtp-Source: AGHT+IHBFQVRPpFOCjuTxiZu3RHXw8ba/atzocGoVm8MnovrGM14ME8uelTWYXdiCv++nHhJC/2iChLgVf7x X-Received: by 2002:a05:690c:c82:b0:722:77b9:705f with SMTP id 00721157ae682-73d3c0157a2mr75404487b3.39.1758441472444; Sun, 21 Sep 2025 00:57:52 -0700 (PDT) Received: from postal.iol.unh.edu (postal.iol.unh.edu. [132.177.123.84]) by smtp-relay.gmail.com with ESMTPS id 00721157ae682-7397197a0fasm4299377b3.37.2025.09.21.00.57.52 (version=TLS1_2 cipher=ECDHE-ECDSA-AES128-GCM-SHA256 bits=128/128); Sun, 21 Sep 2025 00:57:52 -0700 (PDT) X-Relaying-Domain: iol.unh.edu Date: Sun, 21 Sep 2025 00:57:52 -0700 (PDT) Message-ID: <68cfb000.050a0220.1b4b0a.abf1SMTPIN_ADDED_MISSING@mx.google.com> Received: from [172.21.0.2] (unknown [172.18.0.240]) by postal.iol.unh.edu (Postfix) with ESMTP id 29BE56051830; Sun, 21 Sep 2025 03:57:52 -0400 (EDT) Subject: |SUCCESS| [GIT MASTER] b287e404643aeab5bb5db084c142789df187844e From: dpdklab@iol.unh.edu To: Test Report Cc: dpdk-test-reports@iol.unh.edu, Xueming Li , Christian Ehrhardt , Kevin Traynor , Luca Boccassi Content-Type: text/plain X-BeenThere: test-report@dpdk.org X-Mailman-Version: 2.1.29 Precedence: list List-Id: automatic DPDK test reports List-Unsubscribe: , List-Archive: List-Post: List-Help: List-Subscribe: , Errors-To: test-report-bounces@dpdk.org _Testing PASS_ Branch: tags/v24.11 b287e404643aeab5bb5db084c142789df187844e --> testing pass Upstream job id: Generic-DPDK-Compile-Meson#427324 Test environment and result as below: +------------------------------+--------------------+ | Environment | dpdk_meson_compile | +==============================+====================+ | Ubuntu 20.04 | PASS | +------------------------------+--------------------+ | Red Hat Enterprise Linux 9.5 | PASS | +------------------------------+--------------------+ | Ubuntu 24.04 | PASS | +------------------------------+--------------------+ | Debian GNU/Linux 12 | PASS | +------------------------------+--------------------+ | Fedora Linux 42 | PASS | +------------------------------+--------------------+ | Ubuntu 22.04 | PASS | +------------------------------+--------------------+ | CentOS Stream 10 | PASS | +------------------------------+--------------------+ | CentOS Stream 9 | PASS | +------------------------------+--------------------+ Ubuntu 20.04 Kernel: 5.15 Compiler: aarch64-linux-gnu-gcc gcc (Ubuntu 9.4.0-1ubuntu1~20.04.2) 9.4.0 Red Hat Enterprise Linux 9.5 Kernel: 5.4 Compiler: gcc gcc (GCC) 11.5.0 20240719 (Red Hat 11.5.0-2) Ubuntu 24.04 Kernel: 5.4 Compiler: gcc gcc (Ubuntu 13.3.0-6ubuntu2~24.04) 13.3.0 Debian GNU/Linux 12 Kernel: 5.4 Compiler: gcc gcc (Debian 12.2.0-14+deb12u1) 12.2.0 Fedora Linux 42 Kernel: 5.4 Compiler: gcc gcc (GCC) 15.2.1 20250808 (Red Hat 15.2.1-1) Ubuntu 22.04 Kernel: 5.4 Compiler: gcc gcc (Ubuntu 11.4.0-1ubuntu1~22.04) 11.4.0 CentOS Stream 10 Kernel: 5.4 Compiler: gcc gcc (GCC) 14.2.1 20250110 (Red Hat 14.2.1-8) CentOS Stream 9 Kernel: 5.4 Compiler: gcc gcc (GCC) 11.5.0 20240719 (Red Hat 11.5.0-11) To view detailed results, visit: https://lab.dpdk.org/results/dashboard/tarballs/34954/ UNH-IOL DPDK Community Lab To manage your email subscriptions, visit: https://lab.dpdk.org/results/dashboard/preferences/subscriptions/