From mboxrd@z Thu Jan 1 00:00:00 1970 Return-Path: Received: from mails.dpdk.org (mails.dpdk.org [217.70.189.124]) by inbox.dpdk.org (Postfix) with ESMTP id 90B3C46F39 for ; Mon, 22 Sep 2025 03:02:43 +0200 (CEST) Received: from mails.dpdk.org (localhost [127.0.0.1]) by mails.dpdk.org (Postfix) with ESMTP id 6C22A402C0; Mon, 22 Sep 2025 03:02:43 +0200 (CEST) Received: from mail-qk1-f226.google.com (mail-qk1-f226.google.com [209.85.222.226]) by mails.dpdk.org (Postfix) with ESMTP id 22379402C0 for ; Mon, 22 Sep 2025 03:02:42 +0200 (CEST) Received: by mail-qk1-f226.google.com with SMTP id af79cd13be357-812bc4ff723so424814785a.0 for ; Sun, 21 Sep 2025 18:02:42 -0700 (PDT) DKIM-Signature: v=1; a=rsa-sha256; c=relaxed/relaxed; d=iol.unh.edu; s=unh-iol; t=1758502961; x=1759107761; darn=dpdk.org; h=cc:to:from:subject:message-id:date:from:to:cc:subject:date :message-id:reply-to; bh=2mlmSXSEz3iJ0UCCHyo8NJLU1V3X+UZ5ryoUhH/c6n4=; b=Lbj0g7mmSf+RFTpSuoUzBIhCMBud8mZ0ScfMKXRKpN//U70qJ40l9qu9otU9esrYNT pPs7gc4oUix0oh3KBB0jnjPKa19TB3jdXeHXX6Z95FU+TlOFry++f3TdESVDV/kVi1XT Yejyoyf6GvMizvLA59pqjzg00sAaTpuShYIYA= X-Google-DKIM-Signature: v=1; a=rsa-sha256; c=relaxed/relaxed; d=1e100.net; s=20230601; t=1758502961; x=1759107761; h=cc:to:from:subject:message-id:date:x-gm-message-state:from:to:cc :subject:date:message-id:reply-to; bh=2mlmSXSEz3iJ0UCCHyo8NJLU1V3X+UZ5ryoUhH/c6n4=; b=UFrP2zAGSh2dwu5KNCFMohvViEr3CcUTHIUYTt6IswJOg841JSzTC3qjyWstemk0+p rrVn/E4b53z4cX0LWimlcXQYfic4om8XK+KzxG79pBPwxkephKm/9WPCeFQlXGw2T8MO IyvjOu7tIcJSd0oAgNMu6ocCsHqsBoL7/RKIwi15S9XEcQUu8I+8lh40iHdB6XB1oRF4 v4+vZHKwt6rdEJaFmrRt++edZL/7kNO5VN7FkeAiqMxM/AQxLbocaR1c1AtBj6YPhRPI N6/bNdU7hMSP5MmDkHGmNnlmjwIFn5J7529s+haRRzBnodbRwi7BoDg2PgaDL/iNVZ9D RslQ== X-Gm-Message-State: AOJu0YwmI8V9jdCdvkrogH3Q9DaqsaAXXp3dkP3C/qQzBepbmqFRyJMu LCRVFfsJwf2+D2YazzSksUD6qyXp98LIfWFHHP1hfoZJGEGEIqkaRjHpHyrb1DdGNOjo1+zCzl8 3EIDK3JzQBPmpst+WIfRON8m4NFEViJseJGFvCiFEeOZw X-Gm-Gg: ASbGncvdSzVahglR5p8Nsao0SO/aWRXxCoPX56dUelAS2potw6wYiDi6PRH/T+yorF6 2a4okipubdQUBkdk3BcMlY8AXsfIZyZHmCrrenlIp6vCCHhQT9Un5/5e29kXXF6omedLNG3+iVi 0xKTuA6t37t6xLfSYULBEeqnXlEhxbSedQAhFZUCx+veoC3LRcoJEI6x81mlERkDtJI5DL+OUbg 0qBl4FBmB7iEVDYyvborkiCPUr9d+mb0fXKiDsbFnfNM3vm3JUoKf+x1XIpLOXi4Nza7mT6JP7A lk53xi78KisXnwoGrQFPNT+t+Vv3JCKWoo+NYE1uqsbxcDVKGo6fGZh7GzO3qH+hSWucWWKi X-Google-Smtp-Source: AGHT+IGK2eQAgw5SsHbzOQPxflCr/6WKidEXfhe6tJ1bHLWwgMDDC6T1Uane53y+tgK//kP2H2ptwusPcGVq X-Received: by 2002:a05:620a:4ad6:b0:834:99c8:48e4 with SMTP id af79cd13be357-83ba29b6c34mr1109552085a.9.1758502961224; Sun, 21 Sep 2025 18:02:41 -0700 (PDT) Received: from postal.iol.unh.edu (postal.iol.unh.edu. [132.177.123.84]) by smtp-relay.gmail.com with ESMTPS id af79cd13be357-84ab6c311e2sm7833385a.1.2025.09.21.18.02.41 (version=TLS1_2 cipher=ECDHE-ECDSA-AES128-GCM-SHA256 bits=128/128); Sun, 21 Sep 2025 18:02:41 -0700 (PDT) X-Relaying-Domain: iol.unh.edu Date: Sun, 21 Sep 2025 18:02:41 -0700 (PDT) Message-ID: <68d0a031.050a0220.1dfabe.53b5SMTPIN_ADDED_MISSING@mx.google.com> Received: from [172.21.0.2] (unknown [172.18.0.240]) by postal.iol.unh.edu (Postfix) with ESMTP id E6E5F6051830; Sun, 21 Sep 2025 21:02:40 -0400 (EDT) Subject: |SUCCESS| [GIT MASTER] 9e36adf88c49b437c4c5ffa46158e53d96bef82c From: dpdklab@iol.unh.edu To: Test Report Cc: dpdk-test-reports@iol.unh.edu Content-Type: text/plain X-BeenThere: test-report@dpdk.org X-Mailman-Version: 2.1.29 Precedence: list List-Id: automatic DPDK test reports List-Unsubscribe: , List-Archive: List-Post: List-Help: List-Subscribe: , Errors-To: test-report-bounces@dpdk.org _Testing PASS_ Branch: dpdk 9e36adf88c49b437c4c5ffa46158e53d96bef82c --> testing pass Upstream job id: Generic-DPDK-Compile-Meson#427335 Test environment and result as below: +-------------------------------+--------------------+-------------------+------------------+-------------------------+-------------------+----------------------+ | Environment | dpdk_meson_compile | dpdk_compile_spdk | dpdk_compile_ovs | dpdk_llvm_clang_compile | dpdk_msvc_compile | dpdk_mingw64_compile | +===============================+====================+===================+==================+=========================+===================+======================+ | Red Hat Enterprise Linux 8.10 | PASS | SKIPPED | SKIPPED | SKIPPED | SKIPPED | SKIPPED | +-------------------------------+--------------------+-------------------+------------------+-------------------------+-------------------+----------------------+ | CentOS Stream 10 | PASS | SKIPPED | SKIPPED | SKIPPED | SKIPPED | SKIPPED | +-------------------------------+--------------------+-------------------+------------------+-------------------------+-------------------+----------------------+ | Debian GNU/Linux 12 | PASS | PASS | SKIPPED | SKIPPED | SKIPPED | SKIPPED | +-------------------------------+--------------------+-------------------+------------------+-------------------------+-------------------+----------------------+ | FreeBSD 14.2 | PASS | SKIPPED | SKIPPED | SKIPPED | SKIPPED | SKIPPED | +-------------------------------+--------------------+-------------------+------------------+-------------------------+-------------------+----------------------+ | Fedora Linux 42 | PASS | PASS | PASS | SKIPPED | SKIPPED | SKIPPED | +-------------------------------+--------------------+-------------------+------------------+-------------------------+-------------------+----------------------+ | openSUSE Leap 15.6 | PASS | SKIPPED | SKIPPED | SKIPPED | SKIPPED | SKIPPED | +-------------------------------+--------------------+-------------------+------------------+-------------------------+-------------------+----------------------+ | Red Hat Enterprise Linux 9.5 | PASS | SKIPPED | SKIPPED | SKIPPED | SKIPPED | SKIPPED | +-------------------------------+--------------------+-------------------+------------------+-------------------------+-------------------+----------------------+ | CentOS Stream 9 | PASS | PASS | SKIPPED | SKIPPED | SKIPPED | SKIPPED | +-------------------------------+--------------------+-------------------+------------------+-------------------------+-------------------+----------------------+ | Ubuntu 20.04 | PASS | SKIPPED | SKIPPED | SKIPPED | SKIPPED | SKIPPED | +-------------------------------+--------------------+-------------------+------------------+-------------------------+-------------------+----------------------+ | Ubuntu 22.04 | PASS | PASS | SKIPPED | SKIPPED | SKIPPED | SKIPPED | +-------------------------------+--------------------+-------------------+------------------+-------------------------+-------------------+----------------------+ | Ubuntu 24.04 | PASS | PASS | PASS | SKIPPED | SKIPPED | SKIPPED | +-------------------------------+--------------------+-------------------+------------------+-------------------------+-------------------+----------------------+ | Alpine Linux 3.22.0 | PASS | SKIPPED | SKIPPED | SKIPPED | SKIPPED | SKIPPED | +-------------------------------+--------------------+-------------------+------------------+-------------------------+-------------------+----------------------+ | Arch Linux 20250613.0.365270 | PASS | SKIPPED | SKIPPED | SKIPPED | SKIPPED | SKIPPED | +-------------------------------+--------------------+-------------------+------------------+-------------------------+-------------------+----------------------+ | Windows Server 2022 | SKIPPED | SKIPPED | SKIPPED | PASS | PASS | PASS | +-------------------------------+--------------------+-------------------+------------------+-------------------------+-------------------+----------------------+ Red Hat Enterprise Linux 8.10 Kernel: 5.15 Compiler: gcc gcc (GCC) 8.5.0 20210514 (Red Hat 8.5.0-22) CentOS Stream 10 Kernel: 5.15 Compiler: gcc gcc (GCC) 14.2.1 20250110 (Red Hat 14.2.1-8) Debian GNU/Linux 12 Kernel: 5.15 Compiler: gcc gcc (Debian 12.2.0-14+deb12u1) 12.2.0 FreeBSD 14.2 Kernel: 14.2-RELEASE Compiler: clang 18.1.6 Fedora Linux 42 Kernel: 5.15 Compiler: gcc gcc (GCC) 15.2.1 20250808 (Red Hat 15.2.1-1) openSUSE Leap 15.6 Kernel: 5.15 Compiler: gcc gcc (SUSE Linux) 7.5.0 Red Hat Enterprise Linux 9.5 Kernel: 5.15 Compiler: gcc gcc (GCC) 11.5.0 20240719 (Red Hat 11.5.0-2) CentOS Stream 9 Kernel: 5.15 Compiler: gcc gcc (GCC) 11.5.0 20240719 (Red Hat 11.5.0-11) Ubuntu 20.04 Kernel: 5.15 Compiler: gcc gcc (Ubuntu 9.4.0-1ubuntu1~20.04.2) 9.4.0 Ubuntu 22.04 Kernel: 5.15 Compiler: gcc gcc (Ubuntu 11.4.0-1ubuntu1~22.04) 11.4.0 Ubuntu 24.04 Kernel: 5.15 Compiler: gcc gcc (Ubuntu 13.3.0-6ubuntu2~24.04) 13.3.0 Alpine Linux 3.22.0 Kernel: 5.15 Compiler: gcc gcc (Alpine 14.2.0) 14.2.0 Arch Linux 20250613.0.365270 Kernel: 5.15 Compiler: gcc gcc (GCC) 15.1.1 20250425 Windows Server 2022 Kernel: 10.0.20348.2031 Compiler: clang 15.0.7, gcc 14.1.0 (MinGW), and MSVC VS 19.39.33521 To view detailed results, visit: https://lab.dpdk.org/results/dashboard/tarballs/34955/ UNH-IOL DPDK Community Lab To manage your email subscriptions, visit: https://lab.dpdk.org/results/dashboard/preferences/subscriptions/