From mboxrd@z Thu Jan 1 00:00:00 1970 Return-Path: Received: from mails.dpdk.org (mails.dpdk.org [217.70.189.124]) by inbox.dpdk.org (Postfix) with ESMTP id 5C13B46F39 for ; Mon, 22 Sep 2025 03:58:42 +0200 (CEST) Received: from mails.dpdk.org (localhost [127.0.0.1]) by mails.dpdk.org (Postfix) with ESMTP id 37704402C0; Mon, 22 Sep 2025 03:58:42 +0200 (CEST) Received: from mail-pl1-f225.google.com (mail-pl1-f225.google.com [209.85.214.225]) by mails.dpdk.org (Postfix) with ESMTP id D0029402C0 for ; Mon, 22 Sep 2025 03:58:40 +0200 (CEST) Received: by mail-pl1-f225.google.com with SMTP id d9443c01a7336-2681660d604so35421615ad.0 for ; Sun, 21 Sep 2025 18:58:40 -0700 (PDT) DKIM-Signature: v=1; a=rsa-sha256; c=relaxed/relaxed; d=iol.unh.edu; s=unh-iol; t=1758506320; x=1759111120; darn=dpdk.org; h=cc:to:from:subject:message-id:date:from:to:cc:subject:date :message-id:reply-to; bh=Y8Kg/nTzs11LnM0FKpXthJ/VJ2pQp3UHCzhgiWUmkOo=; b=C5NCVTcUyosaLOH4ThnH+HQX8RaT9BHv8o8lm1Xns4B1Qgk5t1crmSDKwzllBXcsTM /JcMIWFke+QLDkNFHQTrnpUymEBInblFUMqRf1x+Y8iprIIT5QXckOBSxofkdQr6KIPY BWDUsijV7MQE8fh28NkwRIGXaygGyOxJWoqi8= X-Google-DKIM-Signature: v=1; a=rsa-sha256; c=relaxed/relaxed; d=1e100.net; s=20230601; t=1758506320; x=1759111120; h=cc:to:from:subject:message-id:date:x-gm-message-state:from:to:cc :subject:date:message-id:reply-to; bh=Y8Kg/nTzs11LnM0FKpXthJ/VJ2pQp3UHCzhgiWUmkOo=; b=mLlCHFLNpLCspwR7os0gB4O5wxnGaQhD3M7Y4zhw9PG8kMmEsNBM1HWRTv+9mIO85E 48oJy8DJAx3vLzWux86lqaejAvVEElQW99Lg67KQgrCAgQZXtg1aAMrNpkEY/jwT+VEk fLnYHqFnAUvzd/BP+RDLtegn56xUcTeSP7PuqsZuAOBidQGDUs5TZJGRBOCQGauC8oBo jrV2yYlrbFkke9Jz8x6EfQOCmHWGiyXpg31SAU3Fo3FNmyi4YtQ1gsNQ8d4p88me2lHK 7fZwXuySEctJ70Ld92S0u1Fbf7QWKnmkY4N8t8hR3Wzdq2dRmMJ/bYhtWHbLyHFIYzps /kLg== X-Gm-Message-State: AOJu0YzbcGNupcasQWmKFn92wKOk6z3LaRUt0UzryupRPxZGxx2FGKKd vKj6HDwLaxgBQcOUxpheNuiwat5zk/EKsShyd052sWE2hWi4Yv8w+29o6pRWo9at3UXh0/LmL72 OChT1x8HL38JY+0MXeAiVjTzEimbMTmL9uwke/BLJzVAH X-Gm-Gg: ASbGncs4S06atz+0WIUiTKHTz6nO6c576cZONBgZfwccfrcVEK6mHPTMGB8ipgTVQ21 Nrh2hGxEIRFH9AJMxJ1dQH5jDKGqoxQUM9mCDey0mEp1bSADYrN0H4vAUYKPj6bME5d3vDoo1Fc /I83j2OnkNCb+SkNMKGm37UG9aPXzBi2hXrpHoe2h/4xfraecT/w8M9fkN9n5YJjqbMmi7f1DHU 5bFBBLNakROKFeKeVQtOQk4cI0N/jb6ms4WmdaX4dqpqHaYlp0LXNDyiv5zX9Z/JRUbqT2LO4/h VulW/p5SdhVF+AwVs+MQjtVaqHnbmpsPNtkAO1V6CN2CXp36oNZ8k7dfR7GDoPGUlZxIZMeG X-Google-Smtp-Source: AGHT+IFA+5aKoCZgIeGsUCaZVibPCysbV2KyZ0ZaEXaGaDomghcp72AuwhweplP4mmg9ZNG0aRqoreR/gPCB X-Received: by 2002:a17:902:ec82:b0:269:a23e:9fd7 with SMTP id d9443c01a7336-269ba483271mr157341085ad.26.1758506319833; Sun, 21 Sep 2025 18:58:39 -0700 (PDT) Received: from postal.iol.unh.edu (postal.iol.unh.edu. [132.177.123.84]) by smtp-relay.gmail.com with ESMTPS id d9443c01a7336-269800456afsm6383885ad.11.2025.09.21.18.58.39 (version=TLS1_2 cipher=ECDHE-ECDSA-AES128-GCM-SHA256 bits=128/128); Sun, 21 Sep 2025 18:58:39 -0700 (PDT) X-Relaying-Domain: iol.unh.edu Date: Sun, 21 Sep 2025 18:58:39 -0700 (PDT) Message-ID: <68d0ad4f.170a0220.19ab98.89fcSMTPIN_ADDED_MISSING@mx.google.com> Received: from [172.21.0.2] (unknown [172.18.0.240]) by postal.iol.unh.edu (Postfix) with ESMTP id 10DCB6051830; Sun, 21 Sep 2025 21:58:39 -0400 (EDT) Subject: |SUCCESS| [GIT MASTER] 9e36adf88c49b437c4c5ffa46158e53d96bef82c From: dpdklab@iol.unh.edu To: Test Report Cc: dpdk-test-reports@iol.unh.edu Content-Type: text/plain X-BeenThere: test-report@dpdk.org X-Mailman-Version: 2.1.29 Precedence: list List-Id: automatic DPDK test reports List-Unsubscribe: , List-Archive: List-Post: List-Help: List-Subscribe: , Errors-To: test-report-bounces@dpdk.org _Testing PASS_ Branch: dpdk 9e36adf88c49b437c4c5ffa46158e53d96bef82c --> testing pass Upstream job id: Generic-Unit-Test-DPDK#373642 Test environment and result as below: +------------------------------+--------------+------------------------------+---------------------------+----------------+ | Environment | lpm_autotest | cryptodev_sw_snow3g_autotest | cryptodev_sw_zuc_autotest | dpdk_unit_test | +==============================+==============+==============================+===========================+================+ | Ubuntu 20.04 | PASS | SKIPPED | SKIPPED | PASS | +------------------------------+--------------+------------------------------+---------------------------+----------------+ | Debian 12 (arm) | SKIPPED | PASS | PASS | SKIPPED | +------------------------------+--------------+------------------------------+---------------------------+----------------+ | Red Hat Enterprise Linux 9.5 | SKIPPED | SKIPPED | SKIPPED | PASS | +------------------------------+--------------+------------------------------+---------------------------+----------------+ | Debian GNU/Linux 12 | SKIPPED | SKIPPED | SKIPPED | PASS | +------------------------------+--------------+------------------------------+---------------------------+----------------+ | Ubuntu 22.04 | SKIPPED | SKIPPED | SKIPPED | PASS | +------------------------------+--------------+------------------------------+---------------------------+----------------+ | Fedora Linux 40 | SKIPPED | SKIPPED | SKIPPED | PASS | +------------------------------+--------------+------------------------------+---------------------------+----------------+ | Fedora Linux 42 | SKIPPED | SKIPPED | SKIPPED | PASS | +------------------------------+--------------+------------------------------+---------------------------+----------------+ | Ubuntu 24.04 | SKIPPED | SKIPPED | SKIPPED | PASS | +------------------------------+--------------+------------------------------+---------------------------+----------------+ | Fedora Linux 41 | SKIPPED | SKIPPED | SKIPPED | PASS | +------------------------------+--------------+------------------------------+---------------------------+----------------+ | CentOS Stream 10 | SKIPPED | SKIPPED | SKIPPED | PASS | +------------------------------+--------------+------------------------------+---------------------------+----------------+ | CentOS Stream 9 | SKIPPED | SKIPPED | SKIPPED | PASS | +------------------------------+--------------+------------------------------+---------------------------+----------------+ Ubuntu 20.04 Kernel: 5.4 Compiler: gcc gcc (Ubuntu 9.4.0-1ubuntu1~20.04.2) 9.4.0 Debian 12 (arm) Kernel: Depends on container host Compiler: gcc (Debian 12.2.0-14) 12.2.0 Red Hat Enterprise Linux 9.5 Kernel: 5.4 Compiler: gcc gcc (GCC) 11.5.0 20240719 (Red Hat 11.5.0-2) Debian GNU/Linux 12 Kernel: 5.4 Compiler: gcc gcc (Debian 12.2.0-14+deb12u1) 12.2.0 Ubuntu 22.04 Kernel: 5.4 Compiler: gcc gcc (Ubuntu 11.4.0-1ubuntu1~22.04) 11.4.0 Fedora Linux 40 Kernel: 5.4 Compiler: clang gcc (GCC) 14.2.1 20240912 (Red Hat 14.2.1-3) Fedora Linux 42 Kernel: 5.4 Compiler: gcc gcc (GCC) 15.2.1 20250808 (Red Hat 15.2.1-1) Ubuntu 24.04 Kernel: 5.4 Compiler: gcc gcc (Ubuntu 13.3.0-6ubuntu2~24.04) 13.3.0 Fedora Linux 41 Kernel: 5.4 Compiler: gcc gcc (GCC) 14.3.1 20250523 (Red Hat 14.3.1-1) CentOS Stream 10 Kernel: 5.4 Compiler: gcc gcc (GCC) 14.2.1 20250110 (Red Hat 14.2.1-8) CentOS Stream 9 Kernel: 5.4 Compiler: gcc gcc (GCC) 11.5.0 20240719 (Red Hat 11.5.0-11) To view detailed results, visit: https://lab.dpdk.org/results/dashboard/tarballs/34955/ UNH-IOL DPDK Community Lab To manage your email subscriptions, visit: https://lab.dpdk.org/results/dashboard/preferences/subscriptions/