From mboxrd@z Thu Jan 1 00:00:00 1970 Return-Path: Received: from mails.dpdk.org (mails.dpdk.org [217.70.189.124]) by inbox.dpdk.org (Postfix) with ESMTP id EB71146F3C for ; Mon, 22 Sep 2025 05:23:21 +0200 (CEST) Received: from mails.dpdk.org (localhost [127.0.0.1]) by mails.dpdk.org (Postfix) with ESMTP id BEBAE402C4; Mon, 22 Sep 2025 05:23:21 +0200 (CEST) Received: from mail-il1-f227.google.com (mail-il1-f227.google.com [209.85.166.227]) by mails.dpdk.org (Postfix) with ESMTP id 2B4E5402C4 for ; Mon, 22 Sep 2025 05:23:21 +0200 (CEST) Received: by mail-il1-f227.google.com with SMTP id e9e14a558f8ab-4248b13dc1eso23697035ab.3 for ; Sun, 21 Sep 2025 20:23:21 -0700 (PDT) DKIM-Signature: v=1; a=rsa-sha256; c=relaxed/relaxed; d=iol.unh.edu; s=unh-iol; t=1758511400; x=1759116200; darn=dpdk.org; h=cc:to:from:subject:message-id:date:from:to:cc:subject:date :message-id:reply-to; bh=SAO6wkaodL8No78GX9QAOUIVLBAdpbC47HN74PDs9Vc=; b=QYsC5sihY0EqfLQJ/D+SiQabAzkwOgZUKngtCzTAeMq3rN99TqXehqaGuMUhrXGJNN 3gyUVeyhfyndra1igZIj+sl/I9Z0t9m3uH9Jyp1rHZ3y28LrSHKdRiiFrV3nmQRLzsoT S1frWhMfUd3gvOW84KHCJSJx0qnplXti88Jlc= X-Google-DKIM-Signature: v=1; a=rsa-sha256; c=relaxed/relaxed; d=1e100.net; s=20230601; t=1758511400; x=1759116200; h=cc:to:from:subject:message-id:date:x-gm-message-state:from:to:cc :subject:date:message-id:reply-to; bh=SAO6wkaodL8No78GX9QAOUIVLBAdpbC47HN74PDs9Vc=; b=J0m56IgCqFHU3uiHJr63nivd8siEyu1CAsKviQk3gTAKLlXbvqLtmrE4v3iSfIk6RC vNzyttdT9odes6sazG+YJmWHkPHTjotxACeUAxb5ZjPi6C+u8H57qzDLtC02c6Bdygwt QmRvQlhZcKTqUx3ykyq3xllef94w8KhJJPjtGthyPI0MXzDVWHn+PeWFYhQdT1/fBWwH A1Q8RjYwxi9YP5qhZSGL4rhAghHW+pPYPYFHowT2JM/yALjEa1PFRvgxoVeOXcxvyjL5 ciOff8cg+OvgGNHThb2qIjcjcgyh7yF/qoJzZU2Zm9WMnCi1Otu+Q3SPwWPLVr6965mi mifQ== X-Gm-Message-State: AOJu0Yzdtg7aUG3AbjyMsdvxM5JiuI6jDAEU9PvSR/0abCH4O1X6Kd+G 0mQTAbZB5IlzbSBwunePh3+9WyMMgy4O4g7PL49jwXCMGuB4rioCHrlXOeoDGMBzJEn1tYN9Lnw 5crI3P3Wibr807c+SdhwCIZdUovHflGhXUAWQCgsXd0Bn X-Gm-Gg: ASbGncuol8uPtZ9ofGMhvWMMfCdd1GXgYce64ObzD9OxoUPJCZVfXvV/miUSDfdqlrF PSXmfCUnqujECvJ1sIkCPTij9L5v866qfzpqsXEMxVysBpit9lN8DIx8q+2GaR1Z6ix32dc4YmC igkQUzM8zIWzADoN6I625DMVaOsiLvkL5TOzVFlk2oTREBos0KwDk1t3+bFz3r98khYNYLd3eGB 75x7ie9zxp97sWR3GPyOWldfN5U9wh42AoW20Nmq7gp8H6FTVYOnHiJKbWx393eMd9L1/GIqEnc mu/nk8FY0HsJMV1YhiCQGJpdgzFq4VYkyOptOEsv0ZzKrIymlHqiX4jTSKBG4cEFktBqWF2O X-Google-Smtp-Source: AGHT+IGRswHLJddaU67lWrrzC0s00DPa+4MM267YV3d0giUyPlIfrzTUZbcSL4XulHROlORB2JqV9uWawCCE X-Received: by 2002:a05:6e02:1a2c:b0:423:5293:574f with SMTP id e9e14a558f8ab-42481968b5cmr179855035ab.18.1758511400328; Sun, 21 Sep 2025 20:23:20 -0700 (PDT) Received: from postal.iol.unh.edu (postal.iol.unh.edu. [132.177.123.84]) by smtp-relay.gmail.com with ESMTPS id e9e14a558f8ab-4248a97516dsm3556425ab.25.2025.09.21.20.23.20 (version=TLS1_2 cipher=ECDHE-ECDSA-AES128-GCM-SHA256 bits=128/128); Sun, 21 Sep 2025 20:23:20 -0700 (PDT) X-Relaying-Domain: iol.unh.edu Date: Sun, 21 Sep 2025 20:23:20 -0700 (PDT) Message-ID: <68d0c128.050a0220.3abf2e.9a05SMTPIN_ADDED_MISSING@mx.google.com> Received: from [172.21.0.2] (unknown [172.18.0.240]) by postal.iol.unh.edu (Postfix) with ESMTP id 6E2FE60003E8; Sun, 21 Sep 2025 23:23:19 -0400 (EDT) Subject: |SUCCESS| [GIT MASTER] 9e36adf88c49b437c4c5ffa46158e53d96bef82c From: dpdklab@iol.unh.edu To: Test Report Cc: dpdk-test-reports@iol.unh.edu Content-Type: text/plain X-BeenThere: test-report@dpdk.org X-Mailman-Version: 2.1.29 Precedence: list List-Id: automatic DPDK test reports List-Unsubscribe: , List-Archive: List-Post: List-Help: List-Subscribe: , Errors-To: test-report-bounces@dpdk.org _Testing PASS_ Branch: dpdk 9e36adf88c49b437c4c5ffa46158e53d96bef82c --> testing pass Upstream job id: Generic-DPDK-Compile-Meson#427350 Test environment and result as below: +------------------------------+--------------------+ | Environment | dpdk_meson_compile | +==============================+====================+ | Ubuntu 20.04 | PASS | +------------------------------+--------------------+ | Debian GNU/Linux 12 | PASS | +------------------------------+--------------------+ | CentOS Stream 10 | PASS | +------------------------------+--------------------+ | Red Hat Enterprise Linux 9.5 | PASS | +------------------------------+--------------------+ | CentOS Stream 9 | PASS | +------------------------------+--------------------+ | Fedora Linux 42 | PASS | +------------------------------+--------------------+ | Ubuntu 22.04 | PASS | +------------------------------+--------------------+ | Ubuntu 24.04 | PASS | +------------------------------+--------------------+ Ubuntu 20.04 Kernel: 5.15 Compiler: aarch64-linux-gnu-gcc gcc (Ubuntu 9.4.0-1ubuntu1~20.04.2) 9.4.0 Debian GNU/Linux 12 Kernel: 5.4 Compiler: gcc gcc (Debian 12.2.0-14+deb12u1) 12.2.0 CentOS Stream 10 Kernel: 5.4 Compiler: gcc gcc (GCC) 14.2.1 20250110 (Red Hat 14.2.1-8) Red Hat Enterprise Linux 9.5 Kernel: 5.4 Compiler: gcc gcc (GCC) 11.5.0 20240719 (Red Hat 11.5.0-2) CentOS Stream 9 Kernel: 5.4 Compiler: gcc gcc (GCC) 11.5.0 20240719 (Red Hat 11.5.0-11) Fedora Linux 42 Kernel: 5.4 Compiler: clang gcc (GCC) 15.2.1 20250808 (Red Hat 15.2.1-1) Ubuntu 22.04 Kernel: 5.4 Compiler: gcc gcc (Ubuntu 11.4.0-1ubuntu1~22.04) 11.4.0 Ubuntu 24.04 Kernel: 5.4 Compiler: gcc gcc (Ubuntu 13.3.0-6ubuntu2~24.04) 13.3.0 To view detailed results, visit: https://lab.dpdk.org/results/dashboard/tarballs/34955/ UNH-IOL DPDK Community Lab To manage your email subscriptions, visit: https://lab.dpdk.org/results/dashboard/preferences/subscriptions/