From mboxrd@z Thu Jan 1 00:00:00 1970 Return-Path: Received: from mails.dpdk.org (mails.dpdk.org [217.70.189.124]) by inbox.dpdk.org (Postfix) with ESMTP id AEC5746F3C for ; Mon, 22 Sep 2025 07:25:03 +0200 (CEST) Received: from mails.dpdk.org (localhost [127.0.0.1]) by mails.dpdk.org (Postfix) with ESMTP id 78380402C4; Mon, 22 Sep 2025 07:25:03 +0200 (CEST) Received: from mail-vk1-f225.google.com (mail-vk1-f225.google.com [209.85.221.225]) by mails.dpdk.org (Postfix) with ESMTP id 29339402C4 for ; Mon, 22 Sep 2025 07:24:57 +0200 (CEST) Received: by mail-vk1-f225.google.com with SMTP id 71dfb90a1353d-54aa789f9b5so503884e0c.1 for ; Sun, 21 Sep 2025 22:24:57 -0700 (PDT) DKIM-Signature: v=1; a=rsa-sha256; c=relaxed/relaxed; d=iol.unh.edu; s=unh-iol; t=1758518696; x=1759123496; darn=dpdk.org; h=cc:to:from:subject:message-id:date:from:to:cc:subject:date :message-id:reply-to; bh=zr/uHxWlU7qSrCa2ImxgPayC1mKIaPOitKFVLdKGHy8=; b=FewL2Dn4cEN1asmT2HEAbGOfUwK50blhIlrSWWtMOqq6l5UhIFnlttPNTW2AdWEG0o HtZhFgWvJJloX8ez/qPfGe70GW1TCrCXHWzm/1+uHvsZZXqUyDZw+QCJAudevrmIdT/t gBUF/Mzm/KHb4ikQkco9JNszH0qeTeefEbWH0= X-Google-DKIM-Signature: v=1; a=rsa-sha256; c=relaxed/relaxed; d=1e100.net; s=20230601; t=1758518696; x=1759123496; h=cc:to:from:subject:message-id:date:x-gm-message-state:from:to:cc :subject:date:message-id:reply-to; bh=zr/uHxWlU7qSrCa2ImxgPayC1mKIaPOitKFVLdKGHy8=; b=tiPTUPjNmu0TRhJIwr444aIOw0pFXt9x3Y0mURtk4uMZTZDmbPQeI/cB6P0zDwVnx5 s5BNd6UnKh5PId5wTtl2zW7MKmESG/CmTGJ7C9oSegRFQQoFPulJLxgi5USX5xRKSmtW Kw0Afg4WLUwVVZIEIaepT4TgSb0LxIQ08pODpm6X3rlQxOTLde6HhGgpadNOG2TzcAU1 /UdME9GRKutUJGgZtCdr2Q+IIpoAMGJwqsMN9hqjyefJI/fH+LO+tmyCe8CENKoOzkZu knXRDWLbhtQMTsUP8Bu61DBzsgIhQRdc1D2DpmjF3o4hn1URPAbsIOOY1v27irK3bQeL E0SQ== X-Gm-Message-State: AOJu0YyuzUKd4D2TLWLe1h+f7W2gkPO6jEQnQQDIc/PNP/gIQyYAaGCK PaWReIi+x8rkIiEkNMvGTWIi7cVPz0sXIazWyRvhnIp0KPcB2UNSbCas+ZBVUco4Bgs607cY1cn Fxu1SC4jLLRS7fpAr/YQxJuC4j3OqIpZ1aKts0rEPAJHbCAcwq09T X-Gm-Gg: ASbGncskeXhCEAHOEXcGIUgMWp2w9pFr4MKyrp0xYFQhU8wJmBf6LkeJ7yjLwoJFj4S Yt2dkjp37JjAnYuG0yxRdz/MLrXcU67Qy7mWHrcxV7QhVR+AKC/oE5JNFFmADkMmXFp0x2fvfZw B3LSCX7yw6/WUYuZrxPYskJBgedEK1D+/GyTIwa3f/3jz63SILPEM6xvx7x5/ky1Bq6Cw2v+oQL 4Xrhw+1bKcAe7lrIRKvg4q1Sn0iE7A1RMhVHDV6qAhGETZ5He3paA+w3Ra5ed/XdiVspQnB0nIp GaAeBOYL9p0+iBlbsrc9E5RKL7tLQuKOs1c29jeyS1jNcDXrGg== X-Google-Smtp-Source: AGHT+IF2zeQMJULYiCHb+i/qOS5aCIE3K8xOSqyiOkM3MmU84sfTFtKxlHwwlOeVh/XozPTFtUo8YNuM7q7u X-Received: by 2002:a05:6122:d92:b0:54a:1ec7:ab0f with SMTP id 71dfb90a1353d-54a83b2d690mr3689158e0c.16.1758518696536; Sun, 21 Sep 2025 22:24:56 -0700 (PDT) Received: from postal.iol.unh.edu (postal.iol.unh.edu. [2606:4100:3880:1234::84]) by smtp-relay.gmail.com with ESMTPS id 71dfb90a1353d-54a99277e02sm320866e0c.2.2025.09.21.22.24.56 (version=TLS1_2 cipher=ECDHE-ECDSA-AES128-GCM-SHA256 bits=128/128); Sun, 21 Sep 2025 22:24:56 -0700 (PDT) X-Relaying-Domain: iol.unh.edu Date: Sun, 21 Sep 2025 22:24:56 -0700 (PDT) Message-ID: <68d0dda8.050a0220.27463c.6621SMTPIN_ADDED_MISSING@mx.google.com> Received: from [172.21.0.2] (unknown [172.18.0.240]) by postal.iol.unh.edu (Postfix) with ESMTP id 425FC6051830; Mon, 22 Sep 2025 01:24:56 -0400 (EDT) Subject: |SUCCESS| [GIT MASTER] 3b43ce3f4a54468e7ef65760c2fd7b4d6ee6d9fc From: dpdklab@iol.unh.edu To: Test Report Cc: dpdk-test-reports@iol.unh.edu, Xueming Li , Christian Ehrhardt , Kevin Traynor , Luca Boccassi Content-Type: text/plain X-BeenThere: test-report@dpdk.org X-Mailman-Version: 2.1.29 Precedence: list List-Id: automatic DPDK test reports List-Unsubscribe: , List-Archive: List-Post: List-Help: List-Subscribe: , Errors-To: test-report-bounces@dpdk.org _Testing PASS_ Branch: tags/v22.11 3b43ce3f4a54468e7ef65760c2fd7b4d6ee6d9fc --> testing pass Upstream job id: Generic-Unit-Test-DPDK#373666 Test environment and result as below: +-----------------+------------------------------+---------------------------+--------------+----------------+ | Environment | cryptodev_sw_snow3g_autotest | cryptodev_sw_zuc_autotest | lpm_autotest | dpdk_unit_test | +=================+==============================+===========================+==============+================+ | Debian 12 (arm) | PASS | PASS | SKIPPED | SKIPPED | +-----------------+------------------------------+---------------------------+--------------+----------------+ | Ubuntu 20.04 | SKIPPED | SKIPPED | PASS | SKIPPED | +-----------------+------------------------------+---------------------------+--------------+----------------+ | Ubuntu 22.04 | SKIPPED | SKIPPED | SKIPPED | PASS | +-----------------+------------------------------+---------------------------+--------------+----------------+ Debian 12 (arm) Kernel: Depends on container host Compiler: gcc (Debian 12.2.0-14) 12.2.0 Ubuntu 20.04 Kernel: 5.4 Compiler: gcc gcc (Ubuntu 9.4.0-1ubuntu1~20.04.2) 9.4.0 Ubuntu 22.04 Kernel: 5.15 Compiler: gcc gcc (Ubuntu 11.4.0-1ubuntu1~22.04.2) 11.4.0 To view detailed results, visit: https://lab.dpdk.org/results/dashboard/tarballs/34956/ UNH-IOL DPDK Community Lab To manage your email subscriptions, visit: https://lab.dpdk.org/results/dashboard/preferences/subscriptions/