From mboxrd@z Thu Jan 1 00:00:00 1970 Return-Path: Received: from mails.dpdk.org (mails.dpdk.org [217.70.189.124]) by inbox.dpdk.org (Postfix) with ESMTP id B5F4146F4A for ; Mon, 22 Sep 2025 08:15:20 +0200 (CEST) Received: from mails.dpdk.org (localhost [127.0.0.1]) by mails.dpdk.org (Postfix) with ESMTP id 9A27A402EB; Mon, 22 Sep 2025 08:15:20 +0200 (CEST) Received: from mail-pg1-f225.google.com (mail-pg1-f225.google.com [209.85.215.225]) by mails.dpdk.org (Postfix) with ESMTP id 65891402EB for ; Mon, 22 Sep 2025 08:15:19 +0200 (CEST) Received: by mail-pg1-f225.google.com with SMTP id 41be03b00d2f7-b54dd647edcso3971223a12.1 for ; Sun, 21 Sep 2025 23:15:19 -0700 (PDT) DKIM-Signature: v=1; a=rsa-sha256; c=relaxed/relaxed; d=iol.unh.edu; s=unh-iol; t=1758521718; x=1759126518; darn=dpdk.org; h=cc:to:from:subject:message-id:date:from:to:cc:subject:date :message-id:reply-to; bh=AIzwc3+92u/vRfGKAzMXsWnA6EJBclq5YIVEjatblWc=; b=hXSULjXkG3Gyk8ofm/kr5mz8n7jAsdzmyX8Ix8l7R6OKKNINzp8UIDHq58GugYjqzy noW8fc2hLFMTEJcK4g3H575Q3PExpBKdwbKfGBbvsc1hLJ0stuRZLiRy8a3bVmKnDQHF 5o/TMfe56v8+i018PYO3LPSdPy0j+vo5BGtfU= X-Google-DKIM-Signature: v=1; a=rsa-sha256; c=relaxed/relaxed; d=1e100.net; s=20230601; t=1758521718; x=1759126518; h=cc:to:from:subject:message-id:date:x-gm-message-state:from:to:cc :subject:date:message-id:reply-to; bh=AIzwc3+92u/vRfGKAzMXsWnA6EJBclq5YIVEjatblWc=; b=TpQ2a7w8yc2X3fUwPqEuTS0/NXjTIxdo5HtpZCh8KvC+oo5/N4REW6/N1Km56wX71k zTG51PbQBwR7qXk/ng/ns3gereGu7oxnPX22UfZHLmyDw6Urx0HFxhf571a8mqMoKLLh rvb6woqb0eSkmjuRewteM7MMxkKA0FH1C7RoC3Fr0BOPco1UyAE0pXSQZWaW7jX+/4aJ wcodZqM6u+5vEjiOV7620uCF/9JT/HA3UVO4Ot1/V8+DPA7XIJb7s2YDP27twyF1lCbq o1eAOPdQN1+xKRJVXaJZlt1IyC7jPPc/EBnWNoomBoz/tI+PSQvKM9eB/jdL8NuqR3Wp Nr7A== X-Gm-Message-State: AOJu0Yyxe+nLVu+BcBVw3sIjPzS/BApReYY6W3VPE20bYxLHLqe23nHi j8/G41mtGTiBB77fLCfm1d38PwJdiN2Vhu6TEzwxQqm8WqYmHwb73MCImmnY4nh4X566z4n71nH g6pcHX85hsdy6Cv/UOd0y5S3i0N3Ov7/O6sXv X-Gm-Gg: ASbGncsNB5axk+KLrdGsxnWOxTP0zFo+lQUmtEAmxi/XUceZ5uzy6EdSBG1yu7E9elE mW2UvVt3rHKZjlqHCM9DO+xN+TDoeN+5EtF2eUNLIVFfgWOLvzBLeh2iKU13zBEuC8vu54lQtNJ xeLvqNyYL6rOGMXTD/0YCIph+19VMm49Wc4/jXp2oyr0TPOo3ZG1ko+M30EA0QvrR/YSXxd264w +DdDnk7X5c5ir1iUuRqGRjDYY9gIEyNBWqOzReH0N1CTJQkrz2g0Kh1vyqqSSvGIMqGShvceN7a k8zhjoUeXZ8WXB9M7COk67XrmjqmGtdsNJ99MKlQHp971dzl8FKe8jb4/ca7xfb94wK2Ub2B X-Google-Smtp-Source: AGHT+IGHRA81eP4SPHtXAJQN3UsKl7m64QW5OUQxGnXXjVxh9kEfmApk43hNBDDzPAbwmrpC5vmXb4QPMekO X-Received: by 2002:a17:903:f85:b0:26f:f489:bba6 with SMTP id d9443c01a7336-26ff489beb0mr80259245ad.50.1758521718517; Sun, 21 Sep 2025 23:15:18 -0700 (PDT) Received: from postal.iol.unh.edu (postal.iol.unh.edu. [132.177.123.84]) by smtp-relay.gmail.com with ESMTPS id d9443c01a7336-269802c63f0sm7978375ad.74.2025.09.21.23.15.18 (version=TLS1_2 cipher=ECDHE-ECDSA-AES128-GCM-SHA256 bits=128/128); Sun, 21 Sep 2025 23:15:18 -0700 (PDT) X-Relaying-Domain: iol.unh.edu Date: Sun, 21 Sep 2025 23:15:18 -0700 (PDT) Message-ID: <68d0e976.170a0220.32c9fb.44d7SMTPIN_ADDED_MISSING@mx.google.com> Received: from [172.21.0.2] (unknown [172.18.0.240]) by postal.iol.unh.edu (Postfix) with ESMTP id BF86F6051830; Mon, 22 Sep 2025 02:15:17 -0400 (EDT) Subject: |SUCCESS| [GIT MASTER] 3b43ce3f4a54468e7ef65760c2fd7b4d6ee6d9fc From: dpdklab@iol.unh.edu To: Test Report Cc: dpdk-test-reports@iol.unh.edu, Xueming Li , Christian Ehrhardt , Kevin Traynor , Luca Boccassi Content-Type: text/plain X-BeenThere: test-report@dpdk.org X-Mailman-Version: 2.1.29 Precedence: list List-Id: automatic DPDK test reports List-Unsubscribe: , List-Archive: List-Post: List-Help: List-Subscribe: , Errors-To: test-report-bounces@dpdk.org _Testing PASS_ Branch: tags/v22.11 3b43ce3f4a54468e7ef65760c2fd7b4d6ee6d9fc --> testing pass Upstream job id: Generic-DPDK-Compile-Meson#427371 Test environment and result as below: +-------------------------------+--------------------+-------------------------+----------------------+ | Environment | dpdk_meson_compile | dpdk_llvm_clang_compile | dpdk_mingw64_compile | +===============================+====================+=========================+======================+ | CentOS Stream 9 | PASS | SKIPPED | SKIPPED | +-------------------------------+--------------------+-------------------------+----------------------+ | CentOS Stream 10 | PASS | SKIPPED | SKIPPED | +-------------------------------+--------------------+-------------------------+----------------------+ | Fedora Linux 42 | PASS | SKIPPED | SKIPPED | +-------------------------------+--------------------+-------------------------+----------------------+ | Ubuntu 20.04 | PASS | SKIPPED | SKIPPED | +-------------------------------+--------------------+-------------------------+----------------------+ | Ubuntu 24.04 | PASS | SKIPPED | SKIPPED | +-------------------------------+--------------------+-------------------------+----------------------+ | Red Hat Enterprise Linux 9.5 | PASS | SKIPPED | SKIPPED | +-------------------------------+--------------------+-------------------------+----------------------+ | Debian GNU/Linux 12 | PASS | SKIPPED | SKIPPED | +-------------------------------+--------------------+-------------------------+----------------------+ | Red Hat Enterprise Linux 8.10 | PASS | SKIPPED | SKIPPED | +-------------------------------+--------------------+-------------------------+----------------------+ | openSUSE Leap 15.6 | PASS | SKIPPED | SKIPPED | +-------------------------------+--------------------+-------------------------+----------------------+ | FreeBSD 14.2 | PASS | SKIPPED | SKIPPED | +-------------------------------+--------------------+-------------------------+----------------------+ | Ubuntu 22.04 | PASS | SKIPPED | SKIPPED | +-------------------------------+--------------------+-------------------------+----------------------+ | Windows Server 2022 | SKIPPED | PASS | PASS | +-------------------------------+--------------------+-------------------------+----------------------+ CentOS Stream 9 Kernel: 5.15 Compiler: gcc gcc (GCC) 11.5.0 20240719 (Red Hat 11.5.0-11) CentOS Stream 10 Kernel: 5.15 Compiler: gcc gcc (GCC) 14.2.1 20250110 (Red Hat 14.2.1-8) Fedora Linux 42 Kernel: 5.15 Compiler: gcc gcc (GCC) 15.2.1 20250808 (Red Hat 15.2.1-1) Ubuntu 20.04 Kernel: 5.15 Compiler: gcc gcc (Ubuntu 9.4.0-1ubuntu1~20.04.2) 9.4.0 Ubuntu 24.04 Kernel: 5.15 Compiler: gcc gcc (Ubuntu 13.3.0-6ubuntu2~24.04) 13.3.0 Red Hat Enterprise Linux 9.5 Kernel: 5.15 Compiler: gcc gcc (GCC) 11.5.0 20240719 (Red Hat 11.5.0-2) Debian GNU/Linux 12 Kernel: 5.15 Compiler: gcc gcc (Debian 12.2.0-14+deb12u1) 12.2.0 Red Hat Enterprise Linux 8.10 Kernel: 5.15 Compiler: gcc gcc (GCC) 8.5.0 20210514 (Red Hat 8.5.0-22) openSUSE Leap 15.6 Kernel: 5.15 Compiler: gcc gcc (SUSE Linux) 7.5.0 FreeBSD 14.2 Kernel: 14.2-RELEASE Compiler: clang 18.1.6 Ubuntu 22.04 Kernel: 5.15 Compiler: gcc gcc (Ubuntu 11.4.0-1ubuntu1~22.04) 11.4.0 Windows Server 2022 Kernel: 10.0.20348.2031 Compiler: clang 15.0.7, gcc 14.1.0 (MinGW), and MSVC VS 19.39.33521 To view detailed results, visit: https://lab.dpdk.org/results/dashboard/tarballs/34956/ UNH-IOL DPDK Community Lab To manage your email subscriptions, visit: https://lab.dpdk.org/results/dashboard/preferences/subscriptions/