From mboxrd@z Thu Jan 1 00:00:00 1970 Return-Path: Received: from mails.dpdk.org (mails.dpdk.org [217.70.189.124]) by inbox.dpdk.org (Postfix) with ESMTP id D6BCE46F4A for ; Mon, 22 Sep 2025 08:53:31 +0200 (CEST) Received: from mails.dpdk.org (localhost [127.0.0.1]) by mails.dpdk.org (Postfix) with ESMTP id D296B402ED; Mon, 22 Sep 2025 08:53:31 +0200 (CEST) Received: from mail-oa1-f97.google.com (mail-oa1-f97.google.com [209.85.160.97]) by mails.dpdk.org (Postfix) with ESMTP id B4406402ED for ; Mon, 22 Sep 2025 08:53:30 +0200 (CEST) Received: by mail-oa1-f97.google.com with SMTP id 586e51a60fabf-30ccea8a199so2810872fac.2 for ; Sun, 21 Sep 2025 23:53:30 -0700 (PDT) DKIM-Signature: v=1; a=rsa-sha256; c=relaxed/relaxed; d=iol.unh.edu; s=unh-iol; t=1758524010; x=1759128810; darn=dpdk.org; h=cc:to:from:subject:message-id:date:from:to:cc:subject:date :message-id:reply-to; bh=u1Cn/IN07+SXAQK0ZZ14PUk8vjsGe1Yn59iAICVnymM=; b=i8n4F3v2nbJiyLMudqQrSC8A9sW9065UyrrrAiTI1jHMlnldYpOC4L7j2ttpODOy7L 82uFeYWj4/26e7whKkzYpYYc/G5FaAOR1HbU8OaSwDIFOxXolDPAJuazsBMKaiRo76fk 9knW3QaoCbdum4C1Ato25MM15/BPFcoLXhtRU= X-Google-DKIM-Signature: v=1; a=rsa-sha256; c=relaxed/relaxed; d=1e100.net; s=20230601; t=1758524010; x=1759128810; h=cc:to:from:subject:message-id:date:x-gm-message-state:from:to:cc :subject:date:message-id:reply-to; bh=u1Cn/IN07+SXAQK0ZZ14PUk8vjsGe1Yn59iAICVnymM=; b=CjnHfPr8Tkdr7sKGoE5xxSsmP2DzoVQHYArwLvfIAjNjWz88EFCoiAs/v8KZVVfgop QSnm82s0lE5MyLyOOlMmZpsYCpHRLWlGA2Zx5SXrUbCRKYNHf19dXPvpda112pHbnsnM xpB4t7VVzr020BwLmu0p1ieKCs0GJb7exi8Mz4JXKjS1ZI6l/mmLs7WN7zSfmIpf2HVl iYt1r4bF+P0nvYwF9gE3m8Xq7W9RE4o5YhjlVV/jzWoKp6dtvLGLOZ8zUVwo5BjY3cSR SgYPD15y0kXkK8FrNDSHeIC/9LOmQo7LC6ZyndoG4z9MheQLseXtm0KH6Ut07OdcE9Dt qLKg== X-Gm-Message-State: AOJu0Yzk2wqm1rpBua5mJhI+BN9Di2biY2ZV0Sgd4DfCEwvTPotll1I/ YKSXRYgziv/A+t9HmCeiJfvabAfINQrROFlJpmTpDaHm7z6nDHr+JU751+pmXaAc9F+3ONZxe9Z 8fY5bqPusbHP8iuUPbKyYeSuo0xIBHFgs0y2E X-Gm-Gg: ASbGnctAJE40PGGWidJ7pT06Bz9ZQm9kerH4/v24hZjvzYsDPjKE9by2JtkfoVYyA0h +Slyk3r/9SmeGr7G82e5dsa7iNUKnghvrOme+aNWGd4FiCn2j2v+fvDHLoDffIwY6ocx+HoKEw8 8Wz5FZX7dGBVflfrwKiWRxoBdtVpng2sr0jYow53juyPInUPGg8JnS9VnW2lLv4kviJZm+OI7p4 8LaDVW2DxsrtmuQCJ9jelFlGgnXAT35oJgrLg+DLpOOLnCvf1BUCoNBcWGgBdPo7fQjZSBBiy4u B11rsw9CuDvYcpLNILNLLk1EHG/o+WHz8rsrMjZIAv3xF3PIoADE03Jf4XhMQpwyiuuwiIn/ X-Google-Smtp-Source: AGHT+IExbujvigq/twv5OmsDzMqUYwbrv+VKWtCfR9obvze7TjPLeacN3xWy1ThPHKyTc8omB/Rfj5c0V36t X-Received: by 2002:a05:6870:3e08:b0:319:cad9:c6e5 with SMTP id 586e51a60fabf-33bb5a6f609mr6171225fac.25.1758524009971; Sun, 21 Sep 2025 23:53:29 -0700 (PDT) Received: from postal.iol.unh.edu (postal.iol.unh.edu. [132.177.123.84]) by smtp-relay.gmail.com with ESMTPS id 586e51a60fabf-336e6b96066sm1062704fac.24.2025.09.21.23.53.29 (version=TLS1_2 cipher=ECDHE-ECDSA-AES128-GCM-SHA256 bits=128/128); Sun, 21 Sep 2025 23:53:29 -0700 (PDT) X-Relaying-Domain: iol.unh.edu Date: Sun, 21 Sep 2025 23:53:29 -0700 (PDT) Message-ID: <68d0f269.050a0220.3c011d.37e5SMTPIN_ADDED_MISSING@mx.google.com> Received: from [172.21.0.3] (unknown [172.18.0.240]) by postal.iol.unh.edu (Postfix) with ESMTP id 802B36051830; Mon, 22 Sep 2025 02:53:29 -0400 (EDT) Subject: |SUCCESS| [GIT MASTER] 3b43ce3f4a54468e7ef65760c2fd7b4d6ee6d9fc From: dpdklab@iol.unh.edu To: Test Report Cc: dpdk-test-reports@iol.unh.edu, Xueming Li , Christian Ehrhardt , Kevin Traynor , Luca Boccassi Content-Type: text/plain X-BeenThere: test-report@dpdk.org X-Mailman-Version: 2.1.29 Precedence: list List-Id: automatic DPDK test reports List-Unsubscribe: , List-Archive: List-Post: List-Help: List-Subscribe: , Errors-To: test-report-bounces@dpdk.org _Testing PASS_ Branch: tags/v22.11 3b43ce3f4a54468e7ef65760c2fd7b4d6ee6d9fc --> testing pass Upstream job id: Generic-DPDK-Compile-Meson#427364 Test environment and result as below: +------------------------------+--------------------+ | Environment | dpdk_meson_compile | +==============================+====================+ | Ubuntu 20.04 | PASS | +------------------------------+--------------------+ | Ubuntu 24.04 | PASS | +------------------------------+--------------------+ | Red Hat Enterprise Linux 9.5 | PASS | +------------------------------+--------------------+ | Debian GNU/Linux 12 | PASS | +------------------------------+--------------------+ | Fedora Linux 42 | PASS | +------------------------------+--------------------+ | Ubuntu 22.04 | PASS | +------------------------------+--------------------+ | CentOS Stream 9 | PASS | +------------------------------+--------------------+ | CentOS Stream 10 | PASS | +------------------------------+--------------------+ Ubuntu 20.04 Kernel: 5.15 Compiler: aarch64-linux-gnu-gcc gcc (Ubuntu 9.4.0-1ubuntu1~20.04.2) 9.4.0 Ubuntu 24.04 Kernel: 5.4 Compiler: gcc gcc (Ubuntu 13.3.0-6ubuntu2~24.04) 13.3.0 Red Hat Enterprise Linux 9.5 Kernel: 5.4 Compiler: gcc gcc (GCC) 11.5.0 20240719 (Red Hat 11.5.0-2) Debian GNU/Linux 12 Kernel: 5.4 Compiler: gcc gcc (Debian 12.2.0-14+deb12u1) 12.2.0 Fedora Linux 42 Kernel: 5.4 Compiler: gcc gcc (GCC) 15.2.1 20250808 (Red Hat 15.2.1-1) Ubuntu 22.04 Kernel: 5.4 Compiler: gcc gcc (Ubuntu 11.4.0-1ubuntu1~22.04) 11.4.0 CentOS Stream 9 Kernel: 5.4 Compiler: gcc gcc (GCC) 11.5.0 20240719 (Red Hat 11.5.0-11) CentOS Stream 10 Kernel: 5.4 Compiler: gcc gcc (GCC) 14.2.1 20250110 (Red Hat 14.2.1-8) To view detailed results, visit: https://lab.dpdk.org/results/dashboard/tarballs/34956/ UNH-IOL DPDK Community Lab To manage your email subscriptions, visit: https://lab.dpdk.org/results/dashboard/preferences/subscriptions/