From mboxrd@z Thu Jan 1 00:00:00 1970 Return-Path: Received: from mails.dpdk.org (mails.dpdk.org [217.70.189.124]) by inbox.dpdk.org (Postfix) with ESMTP id 7F20346F4A for ; Mon, 22 Sep 2025 09:15:40 +0200 (CEST) Received: from mails.dpdk.org (localhost [127.0.0.1]) by mails.dpdk.org (Postfix) with ESMTP id 5FD66402ED; Mon, 22 Sep 2025 09:15:40 +0200 (CEST) Received: from mail-il1-f228.google.com (mail-il1-f228.google.com [209.85.166.228]) by mails.dpdk.org (Postfix) with ESMTP id 564CC402ED for ; Mon, 22 Sep 2025 09:15:38 +0200 (CEST) Received: by mail-il1-f228.google.com with SMTP id e9e14a558f8ab-4247d991161so19547435ab.3 for ; Mon, 22 Sep 2025 00:15:38 -0700 (PDT) DKIM-Signature: v=1; a=rsa-sha256; c=relaxed/relaxed; d=iol.unh.edu; s=unh-iol; t=1758525337; x=1759130137; darn=dpdk.org; h=cc:to:from:subject:message-id:date:from:to:cc:subject:date :message-id:reply-to; bh=F2pSJB8ukTPMaXTmsLQL05UADA/44Y0IzK7qQSXpIJY=; b=E0ZgW4gLN/7knf3AsBqDZOGArCkXd32FQOP1f89vToH9jzld1+n7gKayPb7R4w6UqZ zlhDf3t4Ta/bn9aMod2ZbYxO065h1iB57q6yAQeHKOU/afY91931Vo7bP3X9Yx6fvLnA pTudojPB87tH6LHhsotj0gqNGTqOqInW6GMLQ= X-Google-DKIM-Signature: v=1; a=rsa-sha256; c=relaxed/relaxed; d=1e100.net; s=20230601; t=1758525337; x=1759130137; h=cc:to:from:subject:message-id:date:x-gm-message-state:from:to:cc :subject:date:message-id:reply-to; bh=F2pSJB8ukTPMaXTmsLQL05UADA/44Y0IzK7qQSXpIJY=; b=oEgiL0t/PjIh0k+CCQmbykkeKe7xYhQdAV7DKAxaGBI8yfISwnwtxTY2R3magg/mMr 4T1hrqfu+Wpp3O0KkOX3civfdsy78FtCrV44/6QGB80BeGeyQNS/cL8HBe9ze4zCXQEK Spcq0uowQZ+OiMU+YtULLObJe6haR9E9bFDGOw0lJvfdOumwYkajSXndzb8lHKpujhs9 2SmCp/V9BxGmr+QzuLOZ/HVDUxWIZPsCyY4VF0GGkrDSZ/5R9rssOwlY+9gDAfaTokyC oamNFFUwYP7SG2/V3G1nFTAI0GxDNhwA2QvyohsagQrCZLXjxnRT7PRQqCw5o3nUWPcR q1gA== X-Gm-Message-State: AOJu0Yw/8LmURP6eZY2ZZNGzCmLjj1rtreY/lpqgUYZRP30WWKTw/TF0 tRq4tqTU5/8gB2ppXaOzHq7A5bYOU2O+2uPn5PIA7DSFvTev71Mtv0I8gYfpQ6RbCgMjJ9dmKre pKpIb7GuBQLkAZ1eM4w1Dx6LAQVWaM3N3Vr5a X-Gm-Gg: ASbGncs2ahrtcgOYHNMzmTsQA4FSS4vqZiUulkhAr/SSpw2ImUb6iGxSN7dVWMKJonX PyFescxkBOCbHpY/tW4pgZUZ9Q58mH5GsT1E6oZtWqvZegAHJdeDCyajbiYQrrgmseQaXRvA1Ls fKwIAzVrH8zoTy0I21N/aeHSrjhQxE3H+nkUOywF5ipAaNGR+gIqZg8HJXAUnosbmfjJfouWyGg XtYj/TQbRG8oOEzfY0bOGR5bmgAoTt7e0Rvkwn8gqR39Qvm7vhJ4cDtqD+giZA1eug1sV4vIOC/ 04qvmMwl3IcMSaOd7qBSMOEwLhEo3NN8yT3QM74pb8ytarMC49CIKxGBtpcQfoY1HuiHLKFu X-Google-Smtp-Source: AGHT+IGfR916eJ5buWnnOVm99Yfnt4J1AqB9LjI3cbQELr5ymmglAXte3VkP5X1+x5ewjksvJfe53RquP09t X-Received: by 2002:a05:6e02:1d9c:b0:425:7974:fe38 with SMTP id e9e14a558f8ab-42579750079mr33962005ab.20.1758525337652; Mon, 22 Sep 2025 00:15:37 -0700 (PDT) Received: from postal.iol.unh.edu (postal.iol.unh.edu. [132.177.123.84]) by smtp-relay.gmail.com with ESMTPS id e9e14a558f8ab-4244a3663e6sm7785955ab.4.2025.09.22.00.15.37 (version=TLS1_2 cipher=ECDHE-ECDSA-AES128-GCM-SHA256 bits=128/128); Mon, 22 Sep 2025 00:15:37 -0700 (PDT) X-Relaying-Domain: iol.unh.edu Date: Mon, 22 Sep 2025 00:15:37 -0700 (PDT) Message-ID: <68d0f799.050a0220.3f903.1230SMTPIN_ADDED_MISSING@mx.google.com> Received: from [172.21.0.2] (unknown [172.18.0.240]) by postal.iol.unh.edu (Postfix) with ESMTP id F37256051830; Mon, 22 Sep 2025 03:15:36 -0400 (EDT) Subject: |SUCCESS| [GIT MASTER] b287e404643aeab5bb5db084c142789df187844e From: dpdklab@iol.unh.edu To: Test Report Cc: dpdk-test-reports@iol.unh.edu, Xueming Li , Christian Ehrhardt , Kevin Traynor , Luca Boccassi Content-Type: text/plain X-BeenThere: test-report@dpdk.org X-Mailman-Version: 2.1.29 Precedence: list List-Id: automatic DPDK test reports List-Unsubscribe: , List-Archive: List-Post: List-Help: List-Subscribe: , Errors-To: test-report-bounces@dpdk.org _Testing PASS_ Branch: tags/v24.11 b287e404643aeab5bb5db084c142789df187844e --> testing pass Upstream job id: Generic-DPDK-Compile-Meson#427408 Test environment and result as below: +-------------------------------+--------------------+-------------------+------------------+-------------------+-------------------------+----------------------+ | Environment | dpdk_meson_compile | dpdk_compile_spdk | dpdk_compile_ovs | dpdk_msvc_compile | dpdk_llvm_clang_compile | dpdk_mingw64_compile | +===============================+====================+===================+==================+===================+=========================+======================+ | CentOS Stream 9 | PASS | PASS | SKIPPED | SKIPPED | SKIPPED | SKIPPED | +-------------------------------+--------------------+-------------------+------------------+-------------------+-------------------------+----------------------+ | CentOS Stream 10 | PASS | SKIPPED | SKIPPED | SKIPPED | SKIPPED | SKIPPED | +-------------------------------+--------------------+-------------------+------------------+-------------------+-------------------------+----------------------+ | Debian GNU/Linux 12 | PASS | PASS | SKIPPED | SKIPPED | SKIPPED | SKIPPED | +-------------------------------+--------------------+-------------------+------------------+-------------------+-------------------------+----------------------+ | Fedora Linux 42 | PASS | PASS | PASS | SKIPPED | SKIPPED | SKIPPED | +-------------------------------+--------------------+-------------------+------------------+-------------------+-------------------------+----------------------+ | Ubuntu 24.04 | PASS | PASS | PASS | SKIPPED | SKIPPED | SKIPPED | +-------------------------------+--------------------+-------------------+------------------+-------------------+-------------------------+----------------------+ | Red Hat Enterprise Linux 9.5 | PASS | SKIPPED | SKIPPED | SKIPPED | SKIPPED | SKIPPED | +-------------------------------+--------------------+-------------------+------------------+-------------------+-------------------------+----------------------+ | Ubuntu 20.04 | PASS | SKIPPED | SKIPPED | SKIPPED | SKIPPED | SKIPPED | +-------------------------------+--------------------+-------------------+------------------+-------------------+-------------------------+----------------------+ | Red Hat Enterprise Linux 8.10 | PASS | SKIPPED | SKIPPED | SKIPPED | SKIPPED | SKIPPED | +-------------------------------+--------------------+-------------------+------------------+-------------------+-------------------------+----------------------+ | openSUSE Leap 15.6 | PASS | SKIPPED | SKIPPED | SKIPPED | SKIPPED | SKIPPED | +-------------------------------+--------------------+-------------------+------------------+-------------------+-------------------------+----------------------+ | Ubuntu 22.04 | PASS | PASS | SKIPPED | SKIPPED | SKIPPED | SKIPPED | +-------------------------------+--------------------+-------------------+------------------+-------------------+-------------------------+----------------------+ | Alpine Linux 3.22.0 | PASS | SKIPPED | SKIPPED | SKIPPED | SKIPPED | SKIPPED | +-------------------------------+--------------------+-------------------+------------------+-------------------+-------------------------+----------------------+ | FreeBSD 14.2 | PASS | SKIPPED | SKIPPED | SKIPPED | SKIPPED | SKIPPED | +-------------------------------+--------------------+-------------------+------------------+-------------------+-------------------------+----------------------+ | Windows Server 2022 | SKIPPED | SKIPPED | SKIPPED | PASS | PASS | PASS | +-------------------------------+--------------------+-------------------+------------------+-------------------+-------------------------+----------------------+ CentOS Stream 9 Kernel: 5.15 Compiler: gcc gcc (GCC) 11.5.0 20240719 (Red Hat 11.5.0-11) CentOS Stream 10 Kernel: 5.15 Compiler: gcc gcc (GCC) 14.2.1 20250110 (Red Hat 14.2.1-8) Debian GNU/Linux 12 Kernel: 5.15 Compiler: gcc gcc (Debian 12.2.0-14+deb12u1) 12.2.0 Fedora Linux 42 Kernel: 5.15 Compiler: gcc gcc (GCC) 15.2.1 20250808 (Red Hat 15.2.1-1) Ubuntu 24.04 Kernel: 5.15 Compiler: gcc gcc (Ubuntu 13.3.0-6ubuntu2~24.04) 13.3.0 Red Hat Enterprise Linux 9.5 Kernel: 5.15 Compiler: gcc gcc (GCC) 11.5.0 20240719 (Red Hat 11.5.0-2) Ubuntu 20.04 Kernel: 5.15 Compiler: gcc gcc (Ubuntu 9.4.0-1ubuntu1~20.04.2) 9.4.0 Red Hat Enterprise Linux 8.10 Kernel: 5.15 Compiler: gcc gcc (GCC) 8.5.0 20210514 (Red Hat 8.5.0-22) openSUSE Leap 15.6 Kernel: 5.15 Compiler: gcc gcc (SUSE Linux) 7.5.0 Ubuntu 22.04 Kernel: 5.15 Compiler: gcc gcc (Ubuntu 11.4.0-1ubuntu1~22.04) 11.4.0 Alpine Linux 3.22.0 Kernel: 5.15 Compiler: gcc gcc (Alpine 14.2.0) 14.2.0 FreeBSD 14.2 Kernel: 14.2-RELEASE Compiler: clang 18.1.6 Windows Server 2022 Kernel: 10.0.20348.2031 Compiler: clang 15.0.7, gcc 14.1.0 (MinGW), and MSVC VS 19.39.33521 To view detailed results, visit: https://lab.dpdk.org/results/dashboard/tarballs/34957/ UNH-IOL DPDK Community Lab To manage your email subscriptions, visit: https://lab.dpdk.org/results/dashboard/preferences/subscriptions/