From mboxrd@z Thu Jan 1 00:00:00 1970 Return-Path: Received: from mails.dpdk.org (mails.dpdk.org [217.70.189.124]) by inbox.dpdk.org (Postfix) with ESMTP id 7866A46F4A for ; Mon, 22 Sep 2025 09:29:28 +0200 (CEST) Received: from mails.dpdk.org (localhost [127.0.0.1]) by mails.dpdk.org (Postfix) with ESMTP id 73ACF402EF; Mon, 22 Sep 2025 09:29:28 +0200 (CEST) Received: from mail-qk1-f225.google.com (mail-qk1-f225.google.com [209.85.222.225]) by mails.dpdk.org (Postfix) with ESMTP id D2B6E402EF for ; Mon, 22 Sep 2025 09:29:27 +0200 (CEST) Received: by mail-qk1-f225.google.com with SMTP id af79cd13be357-7f04816589bso433283585a.3 for ; Mon, 22 Sep 2025 00:29:27 -0700 (PDT) DKIM-Signature: v=1; a=rsa-sha256; c=relaxed/relaxed; d=iol.unh.edu; s=unh-iol; t=1758526167; x=1759130967; darn=dpdk.org; h=cc:to:from:subject:message-id:date:from:to:cc:subject:date :message-id:reply-to; bh=xXsnujzUbrXaxZ5qXYKbJgfTgVsYvi/YK/+s3eMWylg=; b=JwUvDAX7UuPxodaH0CMA23+APRCcwZkMpjtLYI9gFCKL90RSwnyBWB8qc3T+1HLUvA 4Py0zQTiYQXQSqDgmtiwp0xhKxbih5vK9bfePMVJ6nkO+4vJdtzHEYHH2eH5SpCWxSCE 3dKDVcs6AsdW8zrkn4gZyafGle54qhdP4jyh4= X-Google-DKIM-Signature: v=1; a=rsa-sha256; c=relaxed/relaxed; d=1e100.net; s=20230601; t=1758526167; x=1759130967; h=cc:to:from:subject:message-id:date:x-gm-message-state:from:to:cc :subject:date:message-id:reply-to; bh=xXsnujzUbrXaxZ5qXYKbJgfTgVsYvi/YK/+s3eMWylg=; b=BANcFWdUZdplhnfJI3UIkWxyNxUUNgsYZQWdWH7+XVc8BsVT/+3qOoWlOqkJo6iEn4 syC63g62nqTNQ5QyoxHulxzSq8tgxpGrkDcYQOFLsv/kw3SS3RypmaqxTwmlUsmuyGUt kk6IJ0z2xaAQnW71Pk1Trlob05lLkJFlQAmwgYmBtZZBz+LRm5wV4HcBBf5FjEo3VlFJ RGQLP5Pjri0t+IxyZXIfZ/jxLh+sf/9l2pplgTQkiT8hKBRgnnFVXS5gIXV5pjZo1Bjt Sgj9WqbPoQZqAZv6/brdkytwzsESoQr25yQO3VrU9V8iQmlDePRGafkp7SC3SxeKoNmY dpRQ== X-Gm-Message-State: AOJu0YyE1supR+Un+oTt3c/pyp1Hf8XjZv/9GA78RD+pLoHGuT/33STJ nxyoZe1DkEUlKxYil0KQTu9YKDZT/btWlGBiTwW0WO7+KsuYBoSWXevneFCbY+b4t7s4a7OeOsj iW04IJLwIo1Ih3PSUiJnIdlIb6MCw45RtlK8v3K4EpQ1NsPslY6yP X-Gm-Gg: ASbGncugDUDDh9Pn/4iRAU7Ppb/f91Hnnwb0ztcZ97oAECnzMbqALlB3p3vR8ZSrKYi sBc6N5Z7fzA81WLaqaiHBPx/Lsf6td5oOo0sCaY8LjxATwkJIQz1lk5Qde0KFciWkViLGbWfXTw gE4TLutw5xnomfaYZesCWLS7c9iulTcz6ZL69y2JTnUKEqvbkhGeDbNKSLxwYDMjNCMYmyrGV4f LOojNpSEzUjNLlq7UXzaAz4b3pJmXuEt7rpjKYb36TRhSjLXNTFcnr/KBRYQYCH902dP3t9FKT5 6VY2Ixv1JZqH2KXtJXzc1gcOaIFtiXNIHhk+THZiw0sDcbFxkQ== X-Google-Smtp-Source: AGHT+IE6bgi49n3t8dmv0kPSkVA9yGOYkngLYUTM6OjjLBc7lyyfeT882fTqKTxN0gc3CHdKmSF65fafjmsl X-Received: by 2002:a05:620a:4393:b0:815:87ab:37e0 with SMTP id af79cd13be357-83babdff5c6mr1262105085a.53.1758526167067; Mon, 22 Sep 2025 00:29:27 -0700 (PDT) Received: from postal.iol.unh.edu (postal.iol.unh.edu. [2606:4100:3880:1234::84]) by smtp-relay.gmail.com with ESMTPS id d75a77b69052e-4bda121a38bsm1568301cf.5.2025.09.22.00.29.26 (version=TLS1_2 cipher=ECDHE-ECDSA-AES128-GCM-SHA256 bits=128/128); Mon, 22 Sep 2025 00:29:27 -0700 (PDT) X-Relaying-Domain: iol.unh.edu Date: Mon, 22 Sep 2025 00:29:27 -0700 (PDT) Message-ID: <68d0fad7.050a0220.31e01a.97ecSMTPIN_ADDED_MISSING@mx.google.com> Received: from [172.21.0.2] (unknown [172.18.0.240]) by postal.iol.unh.edu (Postfix) with ESMTP id C518C6051830; Mon, 22 Sep 2025 03:29:26 -0400 (EDT) Subject: |SUCCESS| [GIT MASTER] b287e404643aeab5bb5db084c142789df187844e From: dpdklab@iol.unh.edu To: Test Report Cc: dpdk-test-reports@iol.unh.edu, Xueming Li , Christian Ehrhardt , Kevin Traynor , Luca Boccassi Content-Type: text/plain X-BeenThere: test-report@dpdk.org X-Mailman-Version: 2.1.29 Precedence: list List-Id: automatic DPDK test reports List-Unsubscribe: , List-Archive: List-Post: List-Help: List-Subscribe: , Errors-To: test-report-bounces@dpdk.org _Testing PASS_ Branch: tags/v24.11 b287e404643aeab5bb5db084c142789df187844e --> testing pass Upstream job id: Generic-Unit-Test-DPDK#373707 Test environment and result as below: +-------------------------------+----------------+ | Environment | dpdk_unit_test | +===============================+================+ | CentOS Stream 10 | PASS | +-------------------------------+----------------+ | CentOS Stream 9 | PASS | +-------------------------------+----------------+ | Debian GNU/Linux 12 | PASS | +-------------------------------+----------------+ | Fedora Linux 42 | PASS | +-------------------------------+----------------+ | Fedora Linux 41 | PASS | +-------------------------------+----------------+ | Red Hat Enterprise Linux 8.10 | PASS | +-------------------------------+----------------+ | Red Hat Enterprise Linux 9.5 | PASS | +-------------------------------+----------------+ | Fedora Linux 40 | PASS | +-------------------------------+----------------+ | Ubuntu 24.04 | PASS | +-------------------------------+----------------+ | Ubuntu 20.04 | PASS | +-------------------------------+----------------+ | Ubuntu 22.04 | PASS | +-------------------------------+----------------+ | Windows Server 2022 | PASS | +-------------------------------+----------------+ CentOS Stream 10 Kernel: 5.15 Compiler: gcc gcc (GCC) 14.2.1 20250110 (Red Hat 14.2.1-8) CentOS Stream 9 Kernel: 5.15 Compiler: gcc gcc (GCC) 11.5.0 20240719 (Red Hat 11.5.0-11) Debian GNU/Linux 12 Kernel: 5.15 Compiler: gcc gcc (Debian 12.2.0-14+deb12u1) 12.2.0 Fedora Linux 42 Kernel: 5.15 Compiler: gcc gcc (GCC) 15.2.1 20250808 (Red Hat 15.2.1-1) Fedora Linux 41 Kernel: 5.15 Compiler: gcc gcc (GCC) 14.3.1 20250523 (Red Hat 14.3.1-1) Red Hat Enterprise Linux 8.10 Kernel: 5.15 Compiler: gcc gcc (GCC) 8.5.0 20210514 (Red Hat 8.5.0-22) Red Hat Enterprise Linux 9.5 Kernel: 5.15 Compiler: gcc gcc (GCC) 11.5.0 20240719 (Red Hat 11.5.0-2) Fedora Linux 40 Kernel: 5.15 Compiler: gcc gcc (GCC) 14.2.1 20240912 (Red Hat 14.2.1-3) Ubuntu 24.04 Kernel: 5.15 Compiler: gcc gcc (Ubuntu 13.3.0-6ubuntu2~24.04) 13.3.0 Ubuntu 20.04 Kernel: 5.15 Compiler: gcc gcc (Ubuntu 9.4.0-1ubuntu1~20.04.2) 9.4.0 Ubuntu 22.04 Kernel: 5.15 Compiler: gcc gcc (Ubuntu 11.4.0-1ubuntu1~22.04) 11.4.0 Windows Server 2022 Kernel: 10.0.20348.2031 Compiler: clang 15.0.7, gcc 14.1.0 (MinGW), and MSVC VS 19.39.33521 To view detailed results, visit: https://lab.dpdk.org/results/dashboard/tarballs/34957/ UNH-IOL DPDK Community Lab To manage your email subscriptions, visit: https://lab.dpdk.org/results/dashboard/preferences/subscriptions/