From mboxrd@z Thu Jan 1 00:00:00 1970 Return-Path: Received: from mails.dpdk.org (mails.dpdk.org [217.70.189.124]) by inbox.dpdk.org (Postfix) with ESMTP id 0229546F4A for ; Mon, 22 Sep 2025 09:31:07 +0200 (CEST) Received: from mails.dpdk.org (localhost [127.0.0.1]) by mails.dpdk.org (Postfix) with ESMTP id F1E0A4065A; Mon, 22 Sep 2025 09:31:06 +0200 (CEST) Received: from mail-oa1-f100.google.com (mail-oa1-f100.google.com [209.85.160.100]) by mails.dpdk.org (Postfix) with ESMTP id E129E4065A for ; Mon, 22 Sep 2025 09:31:05 +0200 (CEST) Received: by mail-oa1-f100.google.com with SMTP id 586e51a60fabf-328466c2aedso4112997fac.2 for ; Mon, 22 Sep 2025 00:31:05 -0700 (PDT) DKIM-Signature: v=1; a=rsa-sha256; c=relaxed/relaxed; d=iol.unh.edu; s=unh-iol; t=1758526265; x=1759131065; darn=dpdk.org; h=cc:to:from:subject:message-id:date:from:to:cc:subject:date :message-id:reply-to; bh=as/2mbu7zN/V2Vu+d7B+T8fcNsbUrz7la0Uj7rV7l+w=; b=fDMG8Ko7RzwEq/yDDSFWq13QZMRMCAp+yjP7KZ2kmzk3IPbx0putI2hbulQcZ4nQ3e Br69LGrZ9SB67E30WejhRxc4Gc/pa4QoxpQF+5LbfUzFl7a/VhFJINqWcYEKMYQ0EjSU Ib4ul1Iwe4nrtLpUq+W1TqlQPiAMe/dBJ/17U= X-Google-DKIM-Signature: v=1; a=rsa-sha256; c=relaxed/relaxed; d=1e100.net; s=20230601; t=1758526265; x=1759131065; h=cc:to:from:subject:message-id:date:x-gm-message-state:from:to:cc :subject:date:message-id:reply-to; bh=as/2mbu7zN/V2Vu+d7B+T8fcNsbUrz7la0Uj7rV7l+w=; b=EyEyqFqPoAfs9jXgKeGHWjlH8zcKu9bWelwtlzZRpsgX2+I01PKcM5ldEynFg1pofw h55AayPDRih4RnP7RRwhAqXQPOwWYhkkaSSV36wg2LBzWpKYooI96HArhoxaP6xV1eGC 2zLNZdyot++51fnSQSFPXen4l7PodAS2cHr9LoMmLA2f3tbqJLWKf1P8OeJ5dhNnUH0s GS4F5XY1v7gEq0AwgV+vs3wvhaNyc/eFLuVo/S6SvlO/uc7GMLD+Q6Pux/kzxby02Iv2 3KHc+LKesvOzSd8gP6010Qx1MORo1MQTL4J/wizwFcNw/llytTcOEkaM3q12EKvIZgJv 8SBA== X-Gm-Message-State: AOJu0Yy8Xl83gPb7E+0m0Q3t8gSxLN8cejgQ5HV9C9vegcZvB14FNY16 1XfqwYhzyWSswCctwgtQJiJPS5jpl0Q5NTlDzHHFT/L692xyqA7/eT9Yb/XbHgEIWtXEHFE+cdJ T5bYQPBJnSFNvWCeepYFOgRZPY0y4IkLDxXMTiTMBxZ8qZ+XTPf4n X-Gm-Gg: ASbGncuORgBkO+BBUyc6vqa7dZ7rUo38YjIadbx3WullNJaCwHgPOMTsXGmEQZyelZH 2lCuT51G8YrPpukf4VK6J9LLBQQ7+7LJLg2LHX4JNxcmrfIqcLDQUI+M30k3YSz4FEXpKYJRb1D CYMkLMaX2tsXY9x6W4Y93zsYxIsoSYrVwnCvfXxYbnR/uyzt0lJRnh78NQYA4CHVyZgwpqnOyZT BbLOY7XTmtvsX7XZQl2BtfChVrmmp5aglLy/lPpt7/3hEGDJs6zRis3mUnZoX/egxOXGa2y51tL mYnbWTTZTt7gTqlxoBwTYgf8cfprvG8Pl+4L0pfI59itb+RE0w== X-Google-Smtp-Source: AGHT+IEnEYGULXH4YH8NfjHvMxpJvRtgZN4iaCehq3MJyxtzoFZIBq7R8FhfJPIrpExvYVGYXdGbAX7lhRTW X-Received: by 2002:a05:6871:860d:b0:322:5678:8245 with SMTP id 586e51a60fabf-33bb485e73dmr6445838fac.31.1758526265110; Mon, 22 Sep 2025 00:31:05 -0700 (PDT) Received: from postal.iol.unh.edu (postal.iol.unh.edu. [2606:4100:3880:1234::84]) by smtp-relay.gmail.com with ESMTPS id 586e51a60fabf-336e45522e2sm993067fac.4.2025.09.22.00.31.05 (version=TLS1_2 cipher=ECDHE-ECDSA-AES128-GCM-SHA256 bits=128/128); Mon, 22 Sep 2025 00:31:05 -0700 (PDT) X-Relaying-Domain: iol.unh.edu Date: Mon, 22 Sep 2025 00:31:05 -0700 (PDT) Message-ID: <68d0fb39.050a0220.38e3f.0fc6SMTPIN_ADDED_MISSING@mx.google.com> Received: from [172.21.0.2] (unknown [172.18.0.240]) by postal.iol.unh.edu (Postfix) with ESMTP id 9BEB46051830; Mon, 22 Sep 2025 03:31:04 -0400 (EDT) Subject: |SUCCESS| [GIT MASTER] b287e404643aeab5bb5db084c142789df187844e From: dpdklab@iol.unh.edu To: Test Report Cc: dpdk-test-reports@iol.unh.edu, Xueming Li , Christian Ehrhardt , Kevin Traynor , Luca Boccassi Content-Type: text/plain X-BeenThere: test-report@dpdk.org X-Mailman-Version: 2.1.29 Precedence: list List-Id: automatic DPDK test reports List-Unsubscribe: , List-Archive: List-Post: List-Help: List-Subscribe: , Errors-To: test-report-bounces@dpdk.org _Testing PASS_ Branch: tags/v24.11 b287e404643aeab5bb5db084c142789df187844e --> testing pass Upstream job id: Generic-Unit-Test-DPDK#373726 Test environment and result as below: +------------------------------+----------------+---------------------------+------------------------------+--------------+ | Environment | dpdk_unit_test | cryptodev_sw_zuc_autotest | cryptodev_sw_snow3g_autotest | lpm_autotest | +==============================+================+===========================+==============================+==============+ | CentOS Stream 10 | PASS | SKIPPED | SKIPPED | SKIPPED | +------------------------------+----------------+---------------------------+------------------------------+--------------+ | Fedora Linux 41 | PASS | SKIPPED | SKIPPED | SKIPPED | +------------------------------+----------------+---------------------------+------------------------------+--------------+ | CentOS Stream 9 | PASS | SKIPPED | SKIPPED | SKIPPED | +------------------------------+----------------+---------------------------+------------------------------+--------------+ | Fedora Linux 40 | PASS | SKIPPED | SKIPPED | SKIPPED | +------------------------------+----------------+---------------------------+------------------------------+--------------+ | Debian GNU/Linux 12 | PASS | SKIPPED | SKIPPED | SKIPPED | +------------------------------+----------------+---------------------------+------------------------------+--------------+ | Red Hat Enterprise Linux 9.5 | PASS | SKIPPED | SKIPPED | SKIPPED | +------------------------------+----------------+---------------------------+------------------------------+--------------+ | Ubuntu 20.04 | PASS | SKIPPED | SKIPPED | PASS | +------------------------------+----------------+---------------------------+------------------------------+--------------+ | Fedora Linux 42 | PASS | SKIPPED | SKIPPED | SKIPPED | +------------------------------+----------------+---------------------------+------------------------------+--------------+ | Ubuntu 24.04 | PASS | SKIPPED | SKIPPED | SKIPPED | +------------------------------+----------------+---------------------------+------------------------------+--------------+ | Ubuntu 22.04 | PASS | SKIPPED | SKIPPED | SKIPPED | +------------------------------+----------------+---------------------------+------------------------------+--------------+ | Debian 12 (arm) | SKIPPED | PASS | PASS | SKIPPED | +------------------------------+----------------+---------------------------+------------------------------+--------------+ CentOS Stream 10 Kernel: 5.4 Compiler: gcc gcc (GCC) 14.2.1 20250110 (Red Hat 14.2.1-8) Fedora Linux 41 Kernel: 5.4 Compiler: gcc gcc (GCC) 14.3.1 20250523 (Red Hat 14.3.1-1) CentOS Stream 9 Kernel: 5.4 Compiler: gcc gcc (GCC) 11.5.0 20240719 (Red Hat 11.5.0-11) Fedora Linux 40 Kernel: 5.4 Compiler: clang gcc (GCC) 14.2.1 20240912 (Red Hat 14.2.1-3) Debian GNU/Linux 12 Kernel: 5.4 Compiler: gcc gcc (Debian 12.2.0-14+deb12u1) 12.2.0 Red Hat Enterprise Linux 9.5 Kernel: 5.4 Compiler: gcc gcc (GCC) 11.5.0 20240719 (Red Hat 11.5.0-2) Ubuntu 20.04 Kernel: 5.4 Compiler: gcc gcc (Ubuntu 9.4.0-1ubuntu1~20.04.2) 9.4.0 Fedora Linux 42 Kernel: 5.4 Compiler: clang gcc (GCC) 15.2.1 20250808 (Red Hat 15.2.1-1) Ubuntu 24.04 Kernel: 5.4 Compiler: gcc gcc (Ubuntu 13.3.0-6ubuntu2~24.04) 13.3.0 Ubuntu 22.04 Kernel: 5.4 Compiler: gcc gcc (Ubuntu 11.4.0-1ubuntu1~22.04) 11.4.0 Debian 12 (arm) Kernel: Depends on container host Compiler: gcc (Debian 12.2.0-14) 12.2.0 To view detailed results, visit: https://lab.dpdk.org/results/dashboard/tarballs/34957/ UNH-IOL DPDK Community Lab To manage your email subscriptions, visit: https://lab.dpdk.org/results/dashboard/preferences/subscriptions/