From mboxrd@z Thu Jan 1 00:00:00 1970 Return-Path: Received: from mails.dpdk.org (mails.dpdk.org [217.70.189.124]) by inbox.dpdk.org (Postfix) with ESMTP id 18A8746F4A for ; Mon, 22 Sep 2025 09:47:23 +0200 (CEST) Received: from mails.dpdk.org (localhost [127.0.0.1]) by mails.dpdk.org (Postfix) with ESMTP id DEED74060A; Mon, 22 Sep 2025 09:47:22 +0200 (CEST) Received: from mail-qv1-f100.google.com (mail-qv1-f100.google.com [209.85.219.100]) by mails.dpdk.org (Postfix) with ESMTP id 21B9C40656 for ; Mon, 22 Sep 2025 09:47:22 +0200 (CEST) Received: by mail-qv1-f100.google.com with SMTP id 6a1803df08f44-78ea15d3489so39522596d6.3 for ; Mon, 22 Sep 2025 00:47:22 -0700 (PDT) DKIM-Signature: v=1; a=rsa-sha256; c=relaxed/relaxed; d=iol.unh.edu; s=unh-iol; t=1758527241; x=1759132041; darn=dpdk.org; h=references:in-reply-to:cc:to:from:subject:message-id:date:from:to :cc:subject:date:message-id:reply-to; bh=iZfvqPTIb7px21L8SGxTu1E1aoLiZXXDMcVpBE/XIto=; b=Uy5Wh6dgK+obEYcq0rdk/0rNmQhypkzP4LEqV1RnZDBdKhOhBk8W+hEWInp8FJKKlA NnfKxw/JeCvR4WHJjO/mbWUS7Ooa3jeD3RIVPdNpgB1yt6/7qqXvqEGPbRlajQNOQHeZ aTKfU/Sh5OXOoGKtfay5w+11s6TCB5a1JUqQw= X-Google-DKIM-Signature: v=1; a=rsa-sha256; c=relaxed/relaxed; d=1e100.net; s=20230601; t=1758527241; x=1759132041; h=references:in-reply-to:cc:to:from:subject:message-id:date :x-gm-message-state:from:to:cc:subject:date:message-id:reply-to; bh=iZfvqPTIb7px21L8SGxTu1E1aoLiZXXDMcVpBE/XIto=; b=QISHAWigVzk5jlm+5bL2r4McLrS4h8ic/vC5dR1dMQKOMsPcyhAtoPGt+CK2bUFIy7 6jsFZ74rHpWrlT0oUBloIJU8la9RwiCnENUar2ve3cmaVWeztGFBBj8ZwqNzKzF/5Aaf NoHZLf2WOXUepFUothpohAY5+1EGkjloW5txdx2ZjUA4ZrsgbmAN09Uq3LwhucS6Lkvj q11gfNwR3rzfsF4nCuQHkmiwBhDf+EoH+unyZ44fJk3n0FshwT7hZPOxGrLRBWnFTSJz Hnl17rnQpRH07bP5Tg0PTF1nn0ZAmWHCIc3+PgcATXet/d+WAUZXVD1ZsZQR34ZjBI5C 7a4Q== X-Gm-Message-State: AOJu0YxS1V+igi2aV/yqpQYPJ5acIrNw05S8ZdCU9snOQmU4sslGGBgn k5f2L+ktX/xVrsRazAJdUvaTYoFKoBvzkylWnC5U0/x1F+hrtTTRak+15fqc25e9ySgfIudDsxH LqV8SANm+EKZOW06UX1IHOsgeP0s1GZX8JUK5jaUAsCKE8gVzfXeG/Egw0nur X-Gm-Gg: ASbGncsXa5m5QPm8qglY8msXj3/lrY3e0+QSk9ZHzgdEAE7NrrlJpAenG7WKypTk26X 0t9Ok4CkPRoZNmyYCXxjLD3652rbwSGL2Kx5xOZUPsDfExQspj4VYXa1e1TW0rRbjLwNLagC206 CAo2MHnlSmUWYdfC4yNp+mKB9XnVHFulPxRajdCFPLtCziBBfn8Bk4JKhekLmcKTvepJT1vVDhk R70e3PGIRa2KVobPSnErz7qBFoARKGloUbKeqEAFxpSfHe4hfc8r3zqxEeWKQZgptR9Gm+NV4da 9LBr11uk4jQYmWfdw5gRUh2Dnkm8xlHbaiBkOpi6UyJd8gw4nw== X-Google-Smtp-Source: AGHT+IGsEB3lCXBlNIPlgAXLobuCU5fbMWlnQGltfDFhPFLIZaTiRTjDI8XjG3v2n1OWQoedXf14u7PW3QRq X-Received: by 2002:ad4:5d68:0:b0:786:50ca:73dd with SMTP id 6a1803df08f44-7991c5f0616mr136793966d6.46.1758527241466; Mon, 22 Sep 2025 00:47:21 -0700 (PDT) Received: from postal.iol.unh.edu (postal.iol.unh.edu. [2606:4100:3880:1234::84]) by smtp-relay.gmail.com with ESMTPS id 6a1803df08f44-79343ef2d82sm6958606d6.7.2025.09.22.00.47.21 (version=TLS1_2 cipher=ECDHE-ECDSA-AES128-GCM-SHA256 bits=128/128); Mon, 22 Sep 2025 00:47:21 -0700 (PDT) X-Relaying-Domain: iol.unh.edu Date: Mon, 22 Sep 2025 00:47:21 -0700 (PDT) Message-ID: <68d0ff09.d40a0220.b8ef7.d8c8SMTPIN_ADDED_MISSING@mx.google.com> Received: from [172.21.0.2] (unknown [172.18.0.240]) by postal.iol.unh.edu (Postfix) with ESMTP id 212FB6051830; Mon, 22 Sep 2025 03:47:21 -0400 (EDT) Subject: |WARNING| pw156798-156801 [PATCH] [4/4] net/cpfl: add cpchnl get vpo From: dpdklab@iol.unh.edu To: Test Report Cc: dpdk-test-reports@iol.unh.edu, Bruce Richardson In-Reply-To: <20250922094819.1350709-5-praveen.shetty@intel.com> References: <20250922094819.1350709-5-praveen.shetty@intel.com> Content-Type: text/plain X-BeenThere: test-report@dpdk.org X-Mailman-Version: 2.1.29 Precedence: list List-Id: automatic DPDK test reports List-Unsubscribe: , List-Archive: List-Post: List-Help: List-Subscribe: , Errors-To: test-report-bounces@dpdk.org Test-Label: iol-unit-arm64-testing Test-Status: WARNING http://dpdk.org/patch/156801 _Testing issues_ Submitter: Shetty, Praveen Date: Monday, September 22 2025 09:48:19 DPDK git baseline: Repo:dpdk-next-net-intel Branch: master CommitID:4159ea62922ce41566c7bab44655ad78bee85458 156798-156801 --> testing issues Upstream job id: Generic-Unit-Test-DPDK#373746 Test environment and result as below: +------------------------------+----------------+---------------------------+--------------+------------------------------+ | Environment | dpdk_unit_test | cryptodev_sw_zuc_autotest | lpm_autotest | cryptodev_sw_snow3g_autotest | +==============================+================+===========================+==============+==============================+ | Fedora Linux 42 | WARN | SKIPPED | SKIPPED | SKIPPED | +------------------------------+----------------+---------------------------+--------------+------------------------------+ | Fedora Linux 41 | WARN | SKIPPED | SKIPPED | SKIPPED | +------------------------------+----------------+---------------------------+--------------+------------------------------+ | CentOS Stream 10 | WARN | SKIPPED | SKIPPED | SKIPPED | +------------------------------+----------------+---------------------------+--------------+------------------------------+ | Fedora Linux 40 | WARN | SKIPPED | SKIPPED | SKIPPED | +------------------------------+----------------+---------------------------+--------------+------------------------------+ | Ubuntu 22.04 | WARN | SKIPPED | SKIPPED | SKIPPED | +------------------------------+----------------+---------------------------+--------------+------------------------------+ | Ubuntu 24.04 | WARN | SKIPPED | SKIPPED | SKIPPED | +------------------------------+----------------+---------------------------+--------------+------------------------------+ | Debian GNU/Linux 12 | WARN | SKIPPED | SKIPPED | SKIPPED | +------------------------------+----------------+---------------------------+--------------+------------------------------+ | CentOS Stream 9 | WARN | SKIPPED | SKIPPED | SKIPPED | +------------------------------+----------------+---------------------------+--------------+------------------------------+ | Ubuntu 20.04 | WARN | SKIPPED | PASS | SKIPPED | +------------------------------+----------------+---------------------------+--------------+------------------------------+ | Red Hat Enterprise Linux 9.5 | WARN | SKIPPED | SKIPPED | SKIPPED | +------------------------------+----------------+---------------------------+--------------+------------------------------+ | Debian 12 (arm) | SKIPPED | WARN | SKIPPED | WARN | +------------------------------+----------------+---------------------------+--------------+------------------------------+ ==== 20 line log output for Debian 12 (arm) (cryptodev_sw_snow3g_autotest): ==== In function 'cpfl_metadata_write16', inlined from 'cpfl_metadata_write_sourcevsi' at ../drivers/net/intel/cpfl/cpfl_flow_parser.c:2069:2: ../drivers/net/intel/cpfl/cpfl_flow_parser.h:303:9: error: 'vsi_id' may be used uninitialized [-Werror=maybe-uninitialized] 303 | memcpy(&meta->chunks[type].data[offset], &data, sizeof(uint16_t)); | ^~~~~~~~~~~~~~~~~~~~~~~~~~~~~~~~~~~~~~~~~~~~~~~~~~~~~~~~~~~~~~~~~ ../drivers/net/intel/cpfl/cpfl_ethdev.h: In function 'cpfl_metadata_write_sourcevsi': ../drivers/net/intel/cpfl/cpfl_ethdev.h:333:13: note: 'vsi_id' was declared here 333 | u16 vsi_id; | ^~~~~~ In function 'cpfl_metadata_write16', inlined from 'cpfl_metadata_write_vsi' at ../drivers/net/intel/cpfl/cpfl_flow_parser.c:2085:2: ../drivers/net/intel/cpfl/cpfl_flow_parser.h:303:9: error: 'vsi_id' may be used uninitialized [-Werror=maybe-uninitialized] 303 | memcpy(&meta->chunks[type].data[offset], &data, sizeof(uint16_t)); | ^~~~~~~~~~~~~~~~~~~~~~~~~~~~~~~~~~~~~~~~~~~~~~~~~~~~~~~~~~~~~~~~~ ../drivers/net/intel/cpfl/cpfl_ethdev.h: In function 'cpfl_metadata_write_vsi': ../drivers/net/intel/cpfl/cpfl_ethdev.h:333:13: note: 'vsi_id' was declared here 333 | u16 vsi_id; | ^~~~~~ cc1: all warnings being treated as errors ninja: build stopped: subcommand failed. ==== End log output ==== Fedora Linux 42 Kernel: 5.4 Compiler: gcc gcc (GCC) 15.2.1 20250808 (Red Hat 15.2.1-1) Fedora Linux 41 Kernel: 5.4 Compiler: gcc gcc (GCC) 14.3.1 20250523 (Red Hat 14.3.1-1) CentOS Stream 10 Kernel: 5.4 Compiler: gcc gcc (GCC) 14.2.1 20250110 (Red Hat 14.2.1-8) Fedora Linux 40 Kernel: 5.4 Compiler: clang gcc (GCC) 14.2.1 20240912 (Red Hat 14.2.1-3) Ubuntu 22.04 Kernel: 5.15 Compiler: gcc gcc (Ubuntu 11.4.0-1ubuntu1~22.04.2) 11.4.0 Ubuntu 24.04 Kernel: 5.4 Compiler: gcc gcc (Ubuntu 13.3.0-6ubuntu2~24.04) 13.3.0 Debian GNU/Linux 12 Kernel: 5.4 Compiler: gcc gcc (Debian 12.2.0-14+deb12u1) 12.2.0 CentOS Stream 9 Kernel: 5.4 Compiler: gcc gcc (GCC) 11.5.0 20240719 (Red Hat 11.5.0-11) Ubuntu 20.04 Kernel: 5.4 Compiler: gcc gcc (Ubuntu 9.4.0-1ubuntu1~20.04.2) 9.4.0 Red Hat Enterprise Linux 9.5 Kernel: 5.4 Compiler: gcc gcc (GCC) 11.5.0 20240719 (Red Hat 11.5.0-2) Debian 12 (arm) Kernel: Depends on container host Compiler: gcc (Debian 12.2.0-14) 12.2.0 To view detailed results, visit: https://lab.dpdk.org/results/dashboard/patchsets/34117/ UNH-IOL DPDK Community Lab To manage your email subscriptions, visit: https://lab.dpdk.org/results/dashboard/preferences/subscriptions/