From mboxrd@z Thu Jan 1 00:00:00 1970 Return-Path: Received: from mails.dpdk.org (mails.dpdk.org [217.70.189.124]) by inbox.dpdk.org (Postfix) with ESMTP id 3130C46F4D for ; Mon, 22 Sep 2025 10:04:03 +0200 (CEST) Received: from mails.dpdk.org (localhost [127.0.0.1]) by mails.dpdk.org (Postfix) with ESMTP id 1158A4060A; Mon, 22 Sep 2025 10:04:03 +0200 (CEST) Received: from mail-pl1-f228.google.com (mail-pl1-f228.google.com [209.85.214.228]) by mails.dpdk.org (Postfix) with ESMTP id 686BC4060A for ; Mon, 22 Sep 2025 10:04:01 +0200 (CEST) Received: by mail-pl1-f228.google.com with SMTP id d9443c01a7336-244582738b5so34511635ad.3 for ; Mon, 22 Sep 2025 01:04:01 -0700 (PDT) DKIM-Signature: v=1; a=rsa-sha256; c=relaxed/relaxed; d=iol.unh.edu; s=unh-iol; t=1758528240; x=1759133040; darn=dpdk.org; h=cc:to:from:subject:message-id:date:from:to:cc:subject:date :message-id:reply-to; bh=RjNO4ZNhx80pDqe2gUDTEYfHrkPcEpdke8RgMcR4lNI=; b=MaLviWc8NtXD9PfVrEBl92gXwcQoy2Y/Cty8JgQ31PEchVe+mTSPVOeXbff6lWdaaX UgfUHIUyZ9ofrwMMmLlnO/lzS5QiZ8uC9GRByx3vaRcoYiIImRqODSiNcyODY5Q5WoRy C4yNMGLctqvQwslCY1jAB47duyMAhLuwStPYw= X-Google-DKIM-Signature: v=1; a=rsa-sha256; c=relaxed/relaxed; d=1e100.net; s=20230601; t=1758528240; x=1759133040; h=cc:to:from:subject:message-id:date:x-gm-message-state:from:to:cc :subject:date:message-id:reply-to; bh=RjNO4ZNhx80pDqe2gUDTEYfHrkPcEpdke8RgMcR4lNI=; b=HzR/Oro3BFVmQqXobqdfsIAgBFyCBlM+fERZhVKHtMHE2h3q+IzP8Vj2SolFv3Sl1G 7N0QDvcd15qPMkkBFGmYH32HDgVPsSF8KPrJALBRiUY+nBiaYffNMG2o5VTbewz8FJmE dfBBx1Wm2mkYvDDdjZzD4R3Mmp8JyhcAr4va7EsGmkLWYHqUFQfsHZMtWnRfTvvuOff0 p+nhG2Sh4bXxtphw3FH3HzU2lxyl+qm01YDs3bC+yVbYbR3aUEp0GhGjE4n48BH0BynL 7+tMZ5IhcGBT603yGuTl4LEmUFE4aBKtW3rI8UxNnmLt+2Nar/+5F4qz1X9wbGGaUpuE sd9w== X-Gm-Message-State: AOJu0YwVM5YAh6jEX62D+bO10z0COQvYQl2ODQs3rmebJGf/irDuQ3ur 1JfbFeayB7wwXA8w6191R1JfY5DKHFZqyotpSk5v1AuEn5JH47hAaESkjofGgLfmtINk4oq18Q7 wsMLD6vahmTKH+3HpjAvzQO3bTvMMf5Hl4OYZNg+2fbBTJUJB7D0O X-Gm-Gg: ASbGncsl4bXsums4ScGJLhzIUp85IpXluyIuamF4Ns8QXYOO2q72geY8votbNZLVHPr 0aqp6vJN+Rhuu4NtLpV7Q83HKP6eIfXxLAmFJFG56U3Or3wJzj5ZORxQl4zIkoTyAcq+wrw8/sl emvlhAnvDbCmpru6cq2cqBLzwlsoJ0nyrBJzaZSk+6Xjq3fQQEjeMeqbKYCW0gZtKPT1Fn3r4p5 NdYzgxYlLvdmRooF/DQ9O8wVOvjfy+uxccwtb42B3QIEaD1QKAMyzcrRhsjWMNXNV27CnPYaUAE HBGk4Lhm8/0XtHRmEe9edaUyDiqASsQVGnCPyi+YURLiHeD5/A== X-Google-Smtp-Source: AGHT+IG2MCztdlRZU+47eArTyjqODEWzIx0tW2B8/k2rgDrkO9FdTH524Au8vGiJfcLkqCeQkztkiFkTQ7GR X-Received: by 2002:a17:903:1ace:b0:269:8fa3:c227 with SMTP id d9443c01a7336-269ba3f5f6bmr140973405ad.8.1758528240505; Mon, 22 Sep 2025 01:04:00 -0700 (PDT) Received: from postal.iol.unh.edu (postal.iol.unh.edu. [2606:4100:3880:1234::84]) by smtp-relay.gmail.com with ESMTPS id d9443c01a7336-2698029dfcfsm7533495ad.56.2025.09.22.01.04.00 (version=TLS1_2 cipher=ECDHE-ECDSA-AES128-GCM-SHA256 bits=128/128); Mon, 22 Sep 2025 01:04:00 -0700 (PDT) X-Relaying-Domain: iol.unh.edu Date: Mon, 22 Sep 2025 01:04:00 -0700 (PDT) Message-ID: <68d102f0.170a0220.27779.fdd6SMTPIN_ADDED_MISSING@mx.google.com> Received: from [172.21.0.2] (unknown [172.18.0.240]) by postal.iol.unh.edu (Postfix) with ESMTP id E53E06051830; Mon, 22 Sep 2025 04:03:59 -0400 (EDT) Subject: |SUCCESS| [GIT MASTER] b287e404643aeab5bb5db084c142789df187844e From: dpdklab@iol.unh.edu To: Test Report Cc: dpdk-test-reports@iol.unh.edu, Xueming Li , Christian Ehrhardt , Kevin Traynor , Luca Boccassi Content-Type: text/plain X-BeenThere: test-report@dpdk.org X-Mailman-Version: 2.1.29 Precedence: list List-Id: automatic DPDK test reports List-Unsubscribe: , List-Archive: List-Post: List-Help: List-Subscribe: , Errors-To: test-report-bounces@dpdk.org _Testing PASS_ Branch: tags/v24.11 b287e404643aeab5bb5db084c142789df187844e --> testing pass Upstream job id: Generic-DPDK-Compile-Meson#427424 Test environment and result as below: +------------------------------+--------------------+ | Environment | dpdk_meson_compile | +==============================+====================+ | Ubuntu 22.04 | PASS | +------------------------------+--------------------+ | Ubuntu 20.04 | PASS | +------------------------------+--------------------+ | Debian GNU/Linux 12 | PASS | +------------------------------+--------------------+ | Red Hat Enterprise Linux 9.5 | PASS | +------------------------------+--------------------+ | Fedora Linux 42 | PASS | +------------------------------+--------------------+ | CentOS Stream 9 | PASS | +------------------------------+--------------------+ | Ubuntu 24.04 | PASS | +------------------------------+--------------------+ | CentOS Stream 10 | PASS | +------------------------------+--------------------+ Ubuntu 22.04 Kernel: 5.4 Compiler: gcc gcc (Ubuntu 11.4.0-1ubuntu1~22.04) 11.4.0 Ubuntu 20.04 Kernel: 5.4 Compiler: gcc gcc (Ubuntu 9.4.0-1ubuntu1~20.04.2) 9.4.0 Debian GNU/Linux 12 Kernel: 5.4 Compiler: gcc gcc (Debian 12.2.0-14+deb12u1) 12.2.0 Red Hat Enterprise Linux 9.5 Kernel: 5.4 Compiler: gcc gcc (GCC) 11.5.0 20240719 (Red Hat 11.5.0-2) Fedora Linux 42 Kernel: 5.4 Compiler: gcc gcc (GCC) 15.2.1 20250808 (Red Hat 15.2.1-1) CentOS Stream 9 Kernel: 5.4 Compiler: gcc gcc (GCC) 11.5.0 20240719 (Red Hat 11.5.0-11) Ubuntu 24.04 Kernel: 5.4 Compiler: gcc gcc (Ubuntu 13.3.0-6ubuntu2~24.04) 13.3.0 CentOS Stream 10 Kernel: 5.4 Compiler: gcc gcc (GCC) 14.2.1 20250110 (Red Hat 14.2.1-8) To view detailed results, visit: https://lab.dpdk.org/results/dashboard/tarballs/34957/ UNH-IOL DPDK Community Lab To manage your email subscriptions, visit: https://lab.dpdk.org/results/dashboard/preferences/subscriptions/