From mboxrd@z Thu Jan 1 00:00:00 1970 Return-Path: Received: from mails.dpdk.org (mails.dpdk.org [217.70.189.124]) by inbox.dpdk.org (Postfix) with ESMTP id 9A78146E5B for ; Mon, 22 Sep 2025 17:26:36 +0200 (CEST) Received: from mails.dpdk.org (localhost [127.0.0.1]) by mails.dpdk.org (Postfix) with ESMTP id 93FEA402A9; Mon, 22 Sep 2025 17:26:36 +0200 (CEST) Received: from mail-il1-f228.google.com (mail-il1-f228.google.com [209.85.166.228]) by mails.dpdk.org (Postfix) with ESMTP id D7FDB402A9 for ; Mon, 22 Sep 2025 17:26:34 +0200 (CEST) Received: by mail-il1-f228.google.com with SMTP id e9e14a558f8ab-4256ef4eeebso15930125ab.2 for ; Mon, 22 Sep 2025 08:26:34 -0700 (PDT) DKIM-Signature: v=1; a=rsa-sha256; c=relaxed/relaxed; d=iol.unh.edu; s=unh-iol; t=1758554794; x=1759159594; darn=dpdk.org; h=references:in-reply-to:cc:to:from:subject:message-id:date:from:to :cc:subject:date:message-id:reply-to; bh=IX+MjHnRWQ0KE75VX+WzrqeNhQ1Nh61w+z8tblLpP7E=; b=jN1OfnvrpyJq78Dw2E9LRF1oCS9Ie5g0cvboBrlkmxkLmV61XfBMUpuJagpl9WOI75 rTXiSeM4tBt+lmmCEFa0m3BuxHOoHFeGB7D6sUWmaMd4H+/4iHPNwOu7iAYh0z0HlKor 1mzQnyWCFKNICYQxB4JhkOXOFOv2IOjSVPSik= X-Google-DKIM-Signature: v=1; a=rsa-sha256; c=relaxed/relaxed; d=1e100.net; s=20230601; t=1758554794; x=1759159594; h=references:in-reply-to:cc:to:from:subject:message-id:date :x-gm-message-state:from:to:cc:subject:date:message-id:reply-to; bh=IX+MjHnRWQ0KE75VX+WzrqeNhQ1Nh61w+z8tblLpP7E=; b=RfKEjcSewVRauWNxrjn+6RkdvyzcDmgnAnZIgklxKlU70nW/FgKJcPTbp1q5gam9Pp D1gBaw74Ms1uzg48uydVpmu9myFULAH1rk/DlSotneVC7oLmFDP2n1HNr2Z2DkCOXgYw 6bCh7Bjlnscs5ovsV9RrAv7M7TnpwTwYAtgkziB8dujv0J2sGp1Bxm+VYw/jn9bVgK94 IB9HMSIetqEOSqDbsvzFW7mnCGqtmbIMU2Neu/Z6BLVo9VDGWM4hRqpoewcfAUcdoe6J eZW0xz0u/lAGJpXN1X9fwHNYiWehXz/Ym9TSSSZNBovQZiZaEKfT+GV/FgV9XNgxFWmX /LPg== X-Gm-Message-State: AOJu0YyjmF/ewnJ11uAC41dUZpeWX8xB3d+Hy48lh/EXhlu1v1L7xg8Y oyqVFOAdShjioTIwGXMOejA1gdxbRRinIHbLlcO39XTrfmWoZZV8JtId9ptFS2E8O8H3/qt0XFC Sq+8aONCygCl1EW9uMP+r/gR6oewvPonwPnRG8ciemM71 X-Gm-Gg: ASbGncvgKL5pDT4EfqQkxwQoJFDlAwHIWXIGCQN9mG1ZTJ5MAC0SKr+fMEy00GA57xA wQZdOQWIU7jD9Oolv9awS8i9bovT4qUJRR6KXL4WHh5fVcMkhxqp28+qZw9M/RiJyvICs+ZuCRp f738ZXKKxfQdwP/Siyp7bBocDZxYElKvfUh6PEYAcqUNFoy9cOQTe+2u8zjRkLFFjGMDIisukka +b5G56/NaptnvLLRlL53r/4hZczTOeSj97KFhndD7vTh+5pHUpM8Rur3hHDZ2rvyF+FzQqynUBI uqyyMEgrIqqOOubK8r2q8DrHdKExVH3vfMa9UVsHrAplZqsy7gBAlx9m5HNT21IHhmZ5k4vK X-Google-Smtp-Source: AGHT+IHGdFjyKQOWyhoef0Pxj7aHv/JCVlZAgLWnh9vJe/m+yGtnWx7shGsPx0cMOm9MK19b17BMywZZpuds X-Received: by 2002:a05:6e02:1d9d:b0:410:cae9:a089 with SMTP id e9e14a558f8ab-42481922e1cmr196150575ab.2.1758554794077; Mon, 22 Sep 2025 08:26:34 -0700 (PDT) Received: from postal.iol.unh.edu (postal.iol.unh.edu. [132.177.123.84]) by smtp-relay.gmail.com with ESMTPS id e9e14a558f8ab-4244a48afdcsm7774985ab.15.2025.09.22.08.26.33 (version=TLS1_2 cipher=ECDHE-ECDSA-AES128-GCM-SHA256 bits=128/128); Mon, 22 Sep 2025 08:26:34 -0700 (PDT) X-Relaying-Domain: iol.unh.edu Date: Mon, 22 Sep 2025 08:26:34 -0700 (PDT) Message-ID: <68d16aaa.050a0220.24e2e2.2170SMTPIN_ADDED_MISSING@mx.google.com> Received: from [172.21.0.2] (unknown [172.18.0.240]) by postal.iol.unh.edu (Postfix) with ESMTP id 9AB366050A61; Mon, 22 Sep 2025 11:26:33 -0400 (EDT) Subject: |SUCCESS| pw156808-156811 [PATCH] [v2,4/4] net/cpfl: add cpchnl get From: dpdklab@iol.unh.edu To: Test Report Cc: dpdk-test-reports@iol.unh.edu, Bruce Richardson In-Reply-To: <20250922141058.1390212-5-praveen.shetty@intel.com> References: <20250922141058.1390212-5-praveen.shetty@intel.com> Content-Type: text/plain X-BeenThere: test-report@dpdk.org X-Mailman-Version: 2.1.29 Precedence: list List-Id: automatic DPDK test reports List-Unsubscribe: , List-Archive: List-Post: List-Help: List-Subscribe: , Errors-To: test-report-bounces@dpdk.org Test-Label: iol-unit-amd64-testing Test-Status: SUCCESS http://dpdk.org/patch/156811 _Testing PASS_ Submitter: Shetty, Praveen Date: Monday, September 22 2025 14:10:58 DPDK git baseline: Repo:dpdk-next-net-intel Branch: master CommitID:4159ea62922ce41566c7bab44655ad78bee85458 156808-156811 --> testing pass Upstream job id: Generic-VM-Unit-Test-DPDK#31294 Test environment and result as below: +-------------------------------+----------------+ | Environment | dpdk_unit_test | +===============================+================+ | Fedora Linux 40 | PASS | +-------------------------------+----------------+ | Fedora Linux 41 | PASS | +-------------------------------+----------------+ | Ubuntu 22.04 | PASS | +-------------------------------+----------------+ | Fedora Linux 42 | PASS | +-------------------------------+----------------+ | CentOS Stream 9 | PASS | +-------------------------------+----------------+ | Ubuntu 24.04 | PASS | +-------------------------------+----------------+ | Red Hat Enterprise Linux 8.10 | PASS | +-------------------------------+----------------+ | CentOS Stream 10 | PASS | +-------------------------------+----------------+ | Debian GNU/Linux 12 | PASS | +-------------------------------+----------------+ | Red Hat Enterprise Linux 9.5 | PASS | +-------------------------------+----------------+ | Ubuntu 20.04 | PASS | +-------------------------------+----------------+ | Windows Server 2022 | PASS | +-------------------------------+----------------+ Fedora Linux 40 Kernel: 5.15 Compiler: clang gcc (GCC) 14.2.1 20240912 (Red Hat 14.2.1-3) Fedora Linux 41 Kernel: 5.15 Compiler: gcc gcc (GCC) 14.3.1 20250523 (Red Hat 14.3.1-1) Ubuntu 22.04 Kernel: 5.15 Compiler: gcc gcc (Ubuntu 11.4.0-1ubuntu1~22.04) 11.4.0 Fedora Linux 42 Kernel: 5.15 Compiler: clang gcc (GCC) 15.2.1 20250808 (Red Hat 15.2.1-1) CentOS Stream 9 Kernel: 5.15 Compiler: gcc gcc (GCC) 11.5.0 20240719 (Red Hat 11.5.0-11) Ubuntu 24.04 Kernel: 5.15 Compiler: gcc gcc (Ubuntu 13.3.0-6ubuntu2~24.04) 13.3.0 Red Hat Enterprise Linux 8.10 Kernel: 5.15 Compiler: gcc gcc (GCC) 8.5.0 20210514 (Red Hat 8.5.0-22) CentOS Stream 10 Kernel: 5.15 Compiler: gcc gcc (GCC) 14.2.1 20250110 (Red Hat 14.2.1-8) Debian GNU/Linux 12 Kernel: 5.15 Compiler: gcc gcc (Debian 12.2.0-14+deb12u1) 12.2.0 Red Hat Enterprise Linux 9.5 Kernel: 5.15 Compiler: gcc gcc (GCC) 11.5.0 20240719 (Red Hat 11.5.0-2) Ubuntu 20.04 Kernel: 5.15 Compiler: gcc gcc (Ubuntu 9.4.0-1ubuntu1~20.04.2) 9.4.0 Windows Server 2022 Kernel: 10.0.20348.2031 Compiler: clang 15.0.7, gcc 14.1.0 (MinGW), and MSVC VS 19.39.33521 To view detailed results, visit: https://lab.dpdk.org/results/dashboard/patchsets/34118/ UNH-IOL DPDK Community Lab To manage your email subscriptions, visit: https://lab.dpdk.org/results/dashboard/preferences/subscriptions/