From mboxrd@z Thu Jan 1 00:00:00 1970 Return-Path: Received: from mails.dpdk.org (mails.dpdk.org [217.70.189.124]) by inbox.dpdk.org (Postfix) with ESMTP id BC46D46F4E for ; Mon, 22 Sep 2025 17:27:53 +0200 (CEST) Received: from mails.dpdk.org (localhost [127.0.0.1]) by mails.dpdk.org (Postfix) with ESMTP id B5DE4402A9; Mon, 22 Sep 2025 17:27:53 +0200 (CEST) Received: from mail-pl1-f225.google.com (mail-pl1-f225.google.com [209.85.214.225]) by mails.dpdk.org (Postfix) with ESMTP id 4DA7A402A9 for ; Mon, 22 Sep 2025 17:27:53 +0200 (CEST) Received: by mail-pl1-f225.google.com with SMTP id d9443c01a7336-25669596955so40812105ad.0 for ; Mon, 22 Sep 2025 08:27:53 -0700 (PDT) DKIM-Signature: v=1; a=rsa-sha256; c=relaxed/relaxed; d=iol.unh.edu; s=unh-iol; t=1758554872; x=1759159672; darn=dpdk.org; h=references:in-reply-to:cc:to:from:subject:message-id:date:from:to :cc:subject:date:message-id:reply-to; bh=1ncRuSZaIRwQ0bch3ZdjeEQ8bwz+++CdPPObNqXkf0U=; b=NXsc/821bY/MbHLwuA76nkCDG7H/VKfvH2DIDkAN265h3WGZEa2SdXky8M5asjVWzc zdpzH4mJbIaiF6WJlA7w3u2YPEIQgYd9SL3A9xBIIFDMexGdFJf37XKvJqs3dAvApnNK 1EprJyhlD+x02qGp7cqyEOfHYD9lSEvGz2STU= X-Google-DKIM-Signature: v=1; a=rsa-sha256; c=relaxed/relaxed; d=1e100.net; s=20230601; t=1758554872; x=1759159672; h=references:in-reply-to:cc:to:from:subject:message-id:date :x-gm-message-state:from:to:cc:subject:date:message-id:reply-to; bh=1ncRuSZaIRwQ0bch3ZdjeEQ8bwz+++CdPPObNqXkf0U=; b=hj5rWfaZa16CIzBcUeYv5z193T8PJ2M/rpBdAOQIzvzozCFpt2v6+1Q+5GK7dBNevs oMqDpvOiu55vUpWUalxTy0CHMsmBQQk/PDfxTXwF3JtWvECeIsMDIICtVyvNvO9cMREb J97a9u3LrarzwR7sO0Wh9JAOnyOUjGqYOUkWRfHyTchBVhhc9Y93D4V1otlmcff71L3s AAkBwXewHT0ULTnuggwpkL2KgnLVuk1xDW/frAyC19qEJoLViSr+ASml5RDIyY15Hc+U Hx59C9OmzdVYtXn36+0X74n7ES2abciDYaLkHHCJY9ibqgIzS3xrEDBQxPSUz/gxvvoT puwA== X-Gm-Message-State: AOJu0YyMBR1B22yO1b/cgs17P/sJelr0PMhu9xZk7kUxYHKQO1yFqC4s SZRUnHk0TJtNfYfFpKgZ9GPQy9f4FxuXFGw5LYzbRLDd3rO5mH+lrD4KUmnZ8CQqHKgw2JcaLSW itgiYlMtzfFQWrg81kjhOcAmERjfHd2gH0277uBwIGRUTmcQs6PSTwfVMXUMF X-Gm-Gg: ASbGnctWqRkCgXWsdG8Sz8miJDtugGDynBU6t4OIBbm7wvKKHEyiE+N2pKuOyDqoCsj syO3v2quSZnJIa6Dhjxcr1WkybJ5cDT+IyJLPjTgicBN6KKkbQpoTmFfQ36mhS2b32cbynEc9x4 B4cQ0Pg/HRMxcC8Jc9qA4frI1ABXqQyNzm/xKQ4BhHUlAfIybD99sb1gxu4M269pqhPfNTCcIfg xBxMGdO6/K/Z0q3gEeOpAk+NN5UV4Q9ts5V0FkrV7Su9g1SnJYNsZMTL28DT2tUWYEpNGU7Qma/ 2E7zlN577cdYW1ziVRGWIH/8wgEY3NFkX8nm3hlQpIbY4Q+eIw== X-Google-Smtp-Source: AGHT+IEDzFDpzx5UxsWS5S8MvZ6njNg3T0e+A/6moowElLZHPwCrxY4i1wwEI+hm6NuNmphR+ok7DHkF51xA X-Received: by 2002:a17:902:d54c:b0:269:87a3:43b8 with SMTP id d9443c01a7336-269ba40ac1emr154431795ad.4.1758554872267; Mon, 22 Sep 2025 08:27:52 -0700 (PDT) Received: from postal.iol.unh.edu (postal.iol.unh.edu. [2606:4100:3880:1234::84]) by smtp-relay.gmail.com with ESMTPS id d9443c01a7336-269802bbe62sm8273585ad.66.2025.09.22.08.27.52 (version=TLS1_2 cipher=ECDHE-ECDSA-AES128-GCM-SHA256 bits=128/128); Mon, 22 Sep 2025 08:27:52 -0700 (PDT) X-Relaying-Domain: iol.unh.edu Date: Mon, 22 Sep 2025 08:27:52 -0700 (PDT) Message-ID: <68d16af8.170a0220.310b5f.527aSMTPIN_ADDED_MISSING@mx.google.com> Received: from [172.21.0.2] (unknown [172.18.0.240]) by postal.iol.unh.edu (Postfix) with ESMTP id 836C66050A61; Mon, 22 Sep 2025 11:27:51 -0400 (EDT) Subject: |SUCCESS| pw156808-156811 [PATCH] [v2,4/4] net/cpfl: add cpchnl get From: dpdklab@iol.unh.edu To: Test Report Cc: dpdk-test-reports@iol.unh.edu, Bruce Richardson In-Reply-To: <20250922141058.1390212-5-praveen.shetty@intel.com> References: <20250922141058.1390212-5-praveen.shetty@intel.com> Content-Type: text/plain X-BeenThere: test-report@dpdk.org X-Mailman-Version: 2.1.29 Precedence: list List-Id: automatic DPDK test reports List-Unsubscribe: , List-Archive: List-Post: List-Help: List-Subscribe: , Errors-To: test-report-bounces@dpdk.org Test-Label: iol-compile-amd64-testing Test-Status: SUCCESS http://dpdk.org/patch/156811 _Testing PASS_ Submitter: Shetty, Praveen Date: Monday, September 22 2025 14:10:58 DPDK git baseline: Repo:dpdk-next-net-intel Branch: master CommitID:4159ea62922ce41566c7bab44655ad78bee85458 156808-156811 --> testing pass Upstream job id: Windows-Compile-DPDK-Native#31124 Test environment and result as below: +-------------------------------+--------------------+------------------+-------------------+-------------------------+-------------------+----------------------+ | Environment | dpdk_meson_compile | dpdk_compile_ovs | dpdk_compile_spdk | dpdk_llvm_clang_compile | dpdk_msvc_compile | dpdk_mingw64_compile | +===============================+====================+==================+===================+=========================+===================+======================+ | Red Hat Enterprise Linux 8.10 | PASS | SKIPPED | SKIPPED | SKIPPED | SKIPPED | SKIPPED | +-------------------------------+--------------------+------------------+-------------------+-------------------------+-------------------+----------------------+ | Ubuntu 20.04 | PASS | SKIPPED | SKIPPED | SKIPPED | SKIPPED | SKIPPED | +-------------------------------+--------------------+------------------+-------------------+-------------------------+-------------------+----------------------+ | Fedora Linux 42 | PASS | PASS | PASS | SKIPPED | SKIPPED | SKIPPED | +-------------------------------+--------------------+------------------+-------------------+-------------------------+-------------------+----------------------+ | Debian GNU/Linux 12 | PASS | SKIPPED | PASS | SKIPPED | SKIPPED | SKIPPED | +-------------------------------+--------------------+------------------+-------------------+-------------------------+-------------------+----------------------+ | CentOS Stream 9 | PASS | SKIPPED | PASS | SKIPPED | SKIPPED | SKIPPED | +-------------------------------+--------------------+------------------+-------------------+-------------------------+-------------------+----------------------+ | openSUSE Leap 15.6 | PASS | SKIPPED | SKIPPED | SKIPPED | SKIPPED | SKIPPED | +-------------------------------+--------------------+------------------+-------------------+-------------------------+-------------------+----------------------+ | Ubuntu 22.04 | PASS | SKIPPED | PASS | SKIPPED | SKIPPED | SKIPPED | +-------------------------------+--------------------+------------------+-------------------+-------------------------+-------------------+----------------------+ | Red Hat Enterprise Linux 9.5 | PASS | SKIPPED | SKIPPED | SKIPPED | SKIPPED | SKIPPED | +-------------------------------+--------------------+------------------+-------------------+-------------------------+-------------------+----------------------+ | Ubuntu 24.04 | PASS | PASS | PASS | SKIPPED | SKIPPED | SKIPPED | +-------------------------------+--------------------+------------------+-------------------+-------------------------+-------------------+----------------------+ | FreeBSD 14.2 | PASS | SKIPPED | SKIPPED | SKIPPED | SKIPPED | SKIPPED | +-------------------------------+--------------------+------------------+-------------------+-------------------------+-------------------+----------------------+ | Alpine Linux 3.22.0 | PASS | SKIPPED | SKIPPED | SKIPPED | SKIPPED | SKIPPED | +-------------------------------+--------------------+------------------+-------------------+-------------------------+-------------------+----------------------+ | CentOS Stream 10 | PASS | SKIPPED | SKIPPED | SKIPPED | SKIPPED | SKIPPED | +-------------------------------+--------------------+------------------+-------------------+-------------------------+-------------------+----------------------+ | Windows Server 2022 | SKIPPED | SKIPPED | SKIPPED | PASS | PASS | PASS | +-------------------------------+--------------------+------------------+-------------------+-------------------------+-------------------+----------------------+ Red Hat Enterprise Linux 8.10 Kernel: 5.15 Compiler: gcc gcc (GCC) 8.5.0 20210514 (Red Hat 8.5.0-22) Ubuntu 20.04 Kernel: 4.19 Compiler: gcc gcc (Ubuntu 9.4.0-1ubuntu1~20.04.2) 9.4.0 Fedora Linux 42 Kernel: 5.15 Compiler: gcc gcc (GCC) 15.2.1 20250808 (Red Hat 15.2.1-1) Debian GNU/Linux 12 Kernel: 5.15 Compiler: gcc gcc (Debian 12.2.0-14+deb12u1) 12.2.0 CentOS Stream 9 Kernel: 5.15 Compiler: gcc gcc (GCC) 11.5.0 20240719 (Red Hat 11.5.0-11) openSUSE Leap 15.6 Kernel: 5.15 Compiler: gcc gcc (SUSE Linux) 7.5.0 Ubuntu 22.04 Kernel: 5.15 Compiler: gcc gcc (Ubuntu 11.4.0-1ubuntu1~22.04) 11.4.0 Red Hat Enterprise Linux 9.5 Kernel: 5.15 Compiler: gcc gcc (GCC) 11.5.0 20240719 (Red Hat 11.5.0-2) Ubuntu 24.04 Kernel: 5.15 Compiler: gcc gcc (Ubuntu 13.3.0-6ubuntu2~24.04) 13.3.0 FreeBSD 14.2 Kernel: 14.2-RELEASE Compiler: clang 18.1.6 Alpine Linux 3.22.0 Kernel: 5.15 Compiler: gcc gcc (Alpine 14.2.0) 14.2.0 CentOS Stream 10 Kernel: 5.15 Compiler: gcc gcc (GCC) 14.2.1 20250110 (Red Hat 14.2.1-8) Windows Server 2022 Kernel: 10.0.20348.2031 Compiler: clang 15.0.7, gcc 14.1.0 (MinGW), and MSVC VS 19.39.33521 To view detailed results, visit: https://lab.dpdk.org/results/dashboard/patchsets/34118/ UNH-IOL DPDK Community Lab To manage your email subscriptions, visit: https://lab.dpdk.org/results/dashboard/preferences/subscriptions/