From mboxrd@z Thu Jan 1 00:00:00 1970 Return-Path: Received: from mails.dpdk.org (mails.dpdk.org [217.70.189.124]) by inbox.dpdk.org (Postfix) with ESMTP id 5395746F4E for ; Mon, 22 Sep 2025 17:33:08 +0200 (CEST) Received: from mails.dpdk.org (localhost [127.0.0.1]) by mails.dpdk.org (Postfix) with ESMTP id 2F2DB402A9; Mon, 22 Sep 2025 17:33:08 +0200 (CEST) Received: from mail-il1-f226.google.com (mail-il1-f226.google.com [209.85.166.226]) by mails.dpdk.org (Postfix) with ESMTP id 53D40402A9 for ; Mon, 22 Sep 2025 17:33:07 +0200 (CEST) Received: by mail-il1-f226.google.com with SMTP id e9e14a558f8ab-4240784860bso18561405ab.1 for ; Mon, 22 Sep 2025 08:33:07 -0700 (PDT) DKIM-Signature: v=1; a=rsa-sha256; c=relaxed/relaxed; d=iol.unh.edu; s=unh-iol; t=1758555186; x=1759159986; darn=dpdk.org; h=references:in-reply-to:cc:to:from:subject:message-id:date:from:to :cc:subject:date:message-id:reply-to; bh=l8Us06R61wjl1uj0sriu4/bi1IHJ8Kil2Z4PC+F4L7E=; b=P9isT044fUQR+nx6nr8jDmPYUEmMjPjHyV12cMpcP9qWv93tBXX0zzIFiE/1uWQjrp EIHpD21Lf+AmAm7Lz/LzNuJQYFi7uRAbodNiIxdEBiYz/qjdMEHF/mXV2Qu63MI/9Anv TeKGuAJygIiDmaLou1V+e0SJ+br3plTcrnE8k= X-Google-DKIM-Signature: v=1; a=rsa-sha256; c=relaxed/relaxed; d=1e100.net; s=20230601; t=1758555186; x=1759159986; h=references:in-reply-to:cc:to:from:subject:message-id:date :x-gm-message-state:from:to:cc:subject:date:message-id:reply-to; bh=l8Us06R61wjl1uj0sriu4/bi1IHJ8Kil2Z4PC+F4L7E=; b=n4gmsv4GkQtrqZhP1ipWrZK0LLqIAGNX5AP5fboHUcK6X4ssO/9VuT6f0YNJ2Yg20b A5qbW2KBGB01RslTNgU1SMOO1Bh0ptCXYxv0lJWZsjqxSWw/VD9sAZ8iJ/nuKZaT/HyQ T8Ieu9TyP5Qjs+9CI3WRegKEcheQdD6Ofs8+w24tpHsp7JEgN5RUdPkh7xI2BsruDc5r thxt9dju7JCJ//TEBPWcduEbtrHPXsikMB0umd1rW9fp7S2+kv6yYRFSh4ADotMdAWN5 mcw7+dRhSZ2JTC8gXAiYJrNZcTkMz0aG3VIyvyiER1l8iK1u7wC5dJ2zknqcoUIpe2zt lCpg== X-Gm-Message-State: AOJu0YyP/HFRLQIP9uNodohOVuPq/F4hVYWxMiAZYPSYOeG5ELdpRyJL Z9dQjYrv+Pl5NkwXBAlFlMvcZDin2IOB5TCBSVeXidlEwNoXKnL7OJnU77O8JvXrcfS3cmWLCtK AdcN3PlfmSf07fsO3x+YyxtxUuDH/LOTnKkIpXLL8iP0JdJ9LuyyKZqVr+1Qd X-Gm-Gg: ASbGncvPCW4lVyEDDU6tbyFnainCPqENbgVmYaqRMFuXUiACS/YlNrY5+f6k7JTXAdH fjWDaQbc8yrzd2H3XYfSGasvVetUoAEbKfp2/fF2BPMWsHtLtmsv99nDTob0zDxhOOwp1eKLZff E1alY53F7cwBMoRKD0SFD6IsJegAKDvAoPRzjX9UCgS/L6zvoWeF6kgnBs0PIACptY+cwT7PfU6 VVvVhYg2A9dhDNTTOTayStGD2JWQpwDZQaViWHe6OkJFh1SWd61vJmALfHkrPnT4B/gDwgaDbz2 9iwEvL+tZmV62usX8VulajSH9ZmEFsbmg52r251fFsS3Ut2jFw== X-Google-Smtp-Source: AGHT+IHa2/xydpUZebbmdsOvWxCWqltzz1/zYYeE+qd6fjLwL6bQZWnvI2G9itckNqh2UwAbZITNq/4+OHru X-Received: by 2002:a05:6e02:1a64:b0:424:7d50:a511 with SMTP id e9e14a558f8ab-4248191d779mr194464345ab.11.1758555186589; Mon, 22 Sep 2025 08:33:06 -0700 (PDT) Received: from postal.iol.unh.edu (postal.iol.unh.edu. [2606:4100:3880:1234::84]) by smtp-relay.gmail.com with ESMTPS id e9e14a558f8ab-4244a36728bsm8052185ab.9.2025.09.22.08.33.06 (version=TLS1_2 cipher=ECDHE-ECDSA-AES128-GCM-SHA256 bits=128/128); Mon, 22 Sep 2025 08:33:06 -0700 (PDT) X-Relaying-Domain: iol.unh.edu Date: Mon, 22 Sep 2025 08:33:06 -0700 (PDT) Message-ID: <68d16c32.050a0220.2fd01.375bSMTPIN_ADDED_MISSING@mx.google.com> Received: from [172.21.0.2] (unknown [172.18.0.240]) by postal.iol.unh.edu (Postfix) with ESMTP id 1BF466050A61; Mon, 22 Sep 2025 11:33:06 -0400 (EDT) Subject: |SUCCESS| pw156808-156811 [PATCH] [v2,4/4] net/cpfl: add cpchnl get From: dpdklab@iol.unh.edu To: Test Report Cc: dpdk-test-reports@iol.unh.edu, Bruce Richardson In-Reply-To: <20250922141058.1390212-5-praveen.shetty@intel.com> References: <20250922141058.1390212-5-praveen.shetty@intel.com> Content-Type: text/plain X-BeenThere: test-report@dpdk.org X-Mailman-Version: 2.1.29 Precedence: list List-Id: automatic DPDK test reports List-Unsubscribe: , List-Archive: List-Post: List-Help: List-Subscribe: , Errors-To: test-report-bounces@dpdk.org Test-Label: iol-unit-amd64-testing Test-Status: SUCCESS http://dpdk.org/patch/156811 _Testing PASS_ Submitter: Shetty, Praveen Date: Monday, September 22 2025 14:10:58 DPDK git baseline: Repo:dpdk-next-net-intel Branch: master CommitID:4159ea62922ce41566c7bab44655ad78bee85458 156808-156811 --> testing pass Upstream job id: Generic-VM-Unit-Test-DPDK#31295 Test environment and result as below: +-------------------------------+----------------+ | Environment | dpdk_unit_test | +===============================+================+ | Fedora Linux 40 | PASS | +-------------------------------+----------------+ | Fedora Linux 41 | PASS | +-------------------------------+----------------+ | Ubuntu 22.04 | PASS | +-------------------------------+----------------+ | Fedora Linux 42 | PASS | +-------------------------------+----------------+ | CentOS Stream 9 | PASS | +-------------------------------+----------------+ | Ubuntu 24.04 | PASS | +-------------------------------+----------------+ | Red Hat Enterprise Linux 8.10 | PASS | +-------------------------------+----------------+ | CentOS Stream 10 | PASS | +-------------------------------+----------------+ | Debian GNU/Linux 12 | PASS | +-------------------------------+----------------+ | Red Hat Enterprise Linux 9.5 | PASS | +-------------------------------+----------------+ | Ubuntu 20.04 | PASS | +-------------------------------+----------------+ | Windows Server 2022 | PASS | +-------------------------------+----------------+ Fedora Linux 40 Kernel: 5.15 Compiler: clang gcc (GCC) 14.2.1 20240912 (Red Hat 14.2.1-3) Fedora Linux 41 Kernel: 5.15 Compiler: gcc gcc (GCC) 14.3.1 20250523 (Red Hat 14.3.1-1) Ubuntu 22.04 Kernel: 5.15 Compiler: gcc gcc (Ubuntu 11.4.0-1ubuntu1~22.04) 11.4.0 Fedora Linux 42 Kernel: 5.15 Compiler: clang gcc (GCC) 15.2.1 20250808 (Red Hat 15.2.1-1) CentOS Stream 9 Kernel: 5.15 Compiler: gcc gcc (GCC) 11.5.0 20240719 (Red Hat 11.5.0-11) Ubuntu 24.04 Kernel: 5.15 Compiler: gcc gcc (Ubuntu 13.3.0-6ubuntu2~24.04) 13.3.0 Red Hat Enterprise Linux 8.10 Kernel: 5.15 Compiler: gcc gcc (GCC) 8.5.0 20210514 (Red Hat 8.5.0-22) CentOS Stream 10 Kernel: 5.15 Compiler: gcc gcc (GCC) 14.2.1 20250110 (Red Hat 14.2.1-8) Debian GNU/Linux 12 Kernel: 5.15 Compiler: gcc gcc (Debian 12.2.0-14+deb12u1) 12.2.0 Red Hat Enterprise Linux 9.5 Kernel: 5.15 Compiler: gcc gcc (GCC) 11.5.0 20240719 (Red Hat 11.5.0-2) Ubuntu 20.04 Kernel: 5.15 Compiler: gcc gcc (Ubuntu 9.4.0-1ubuntu1~20.04.2) 9.4.0 Windows Server 2022 Kernel: 10.0.20348.2031 Compiler: clang 15.0.7, gcc 14.1.0 (MinGW), and MSVC VS 19.39.33521 To view detailed results, visit: https://lab.dpdk.org/results/dashboard/patchsets/34118/ UNH-IOL DPDK Community Lab To manage your email subscriptions, visit: https://lab.dpdk.org/results/dashboard/preferences/subscriptions/