From mboxrd@z Thu Jan 1 00:00:00 1970 Return-Path: Received: from mails.dpdk.org (mails.dpdk.org [217.70.189.124]) by inbox.dpdk.org (Postfix) with ESMTP id 5EACB46F51 for ; Mon, 22 Sep 2025 19:14:27 +0200 (CEST) Received: from mails.dpdk.org (localhost [127.0.0.1]) by mails.dpdk.org (Postfix) with ESMTP id 57F7E40430; Mon, 22 Sep 2025 19:14:27 +0200 (CEST) Received: from mail-pl1-f227.google.com (mail-pl1-f227.google.com [209.85.214.227]) by mails.dpdk.org (Postfix) with ESMTP id ABF5940430 for ; Mon, 22 Sep 2025 19:14:26 +0200 (CEST) Received: by mail-pl1-f227.google.com with SMTP id d9443c01a7336-2698d47e776so33835705ad.1 for ; Mon, 22 Sep 2025 10:14:26 -0700 (PDT) DKIM-Signature: v=1; a=rsa-sha256; c=relaxed/relaxed; d=iol.unh.edu; s=unh-iol; t=1758561266; x=1759166066; darn=dpdk.org; h=cc:to:from:subject:message-id:date:from:to:cc:subject:date :message-id:reply-to; bh=o6JU2LfyEhFv5YrLiKNO9sNTqd1UDZRTDY7YazCgiEo=; b=jfiNxoJMqGiI9JEWT93IUiLMAmRDYtaxIKV2vzHw/JLcuXxPU2uo5jyXGJT+6BcWOm b4V1zsYmkUUeiZro5UqC6SGZElG8yGSBTiIFLNIDLwYhjNbiBX8xy/1H5EEh15wqrEZm Lohecu2ApRgZmyQaZnk4a1WoNqmSGhodIxEp4= X-Google-DKIM-Signature: v=1; a=rsa-sha256; c=relaxed/relaxed; d=1e100.net; s=20230601; t=1758561266; x=1759166066; h=cc:to:from:subject:message-id:date:x-gm-message-state:from:to:cc :subject:date:message-id:reply-to; bh=o6JU2LfyEhFv5YrLiKNO9sNTqd1UDZRTDY7YazCgiEo=; b=gOXJ9ifG3O1WC9V0iSza25zDPatdqaCn9EW22imXPYnkYOpef6oirKgYIlkBFlridL MbVo0LuYXxgOEP5i57bzBOxOdTzYOAAxISeeqW39+yE5ikACy8gwyhbW/rGStSXSGoNn xaH92HjWjGFDDt+IMQ/pJ3Tu18aebP2Lhq6rZlMBQBa0nTOPisLwebNCZTvQChBSsAuU +nLUvFHwxbs9N4qVi4M9rjbAsT0PU9YPOeVthht/zKyWc/VJ+iw3PpZVHudo21UTNT/K 5TZEMwuX1J4XAZOGS6qmdZu58wv3idxNkCp3GBGU1qGi11f9roZqg38c5erlx73g/IfX D5aA== X-Gm-Message-State: AOJu0Yxtiq3eTZK9OfdoiU6NXXpyvUZFf6m3Pv4t55kgsNDmrBmyIf3u I1mo3DQGwb9QwFhGi4puKz27FStFkfSoOL8YvrEsizif/1eFu+yjjc9GlixFNiveB4+v3rDaEHV vkaju8ikvm/idNueDkigzKAJcbMlesqMZSP/iTY46H5A0 X-Gm-Gg: ASbGncvSpru5OEHl1TAjyF4zh1xAILROPG8KoQ1kO/+BASjkrEjPmx5onjqDuRPCejZ MhkwKM+8+UTCaDP1ZcdWsxT2AN/hDxHkuWM/h6KEBnXidHnMmvRT/KkCNEr+FMbAvbLjrSWpWdF +3Qe5CnVQjENN5RvHewcWHAu5UlC2jkvx96PZz/UkoaU3uwx+pz+eCylMbvLdXfwMqChq3usrVo +s2+HnJU7O6KLrQdiHCMzV6Uq+whiIiE4lpTbugrg6BHjw2Vmpw0+7c+XeH4th1GUSka38Tm7ro RpAhViXj3U0m7cjyyyeQ1rOF89VFfjJyNxMqpd/c4SMUNY6wvucvcyhYknH6C2q9FaAEjTH1 X-Google-Smtp-Source: AGHT+IFRfsov8RYY3qq/UfdAV93XDdxCFkvNLv4klXY4rl9qAyC+21AI6uDCVoAs6FNxgo0/EM6bygIgzpZz X-Received: by 2002:a17:903:3b8c:b0:25c:8745:4a58 with SMTP id d9443c01a7336-269ba3cbfccmr153872555ad.3.1758561265834; Mon, 22 Sep 2025 10:14:25 -0700 (PDT) Received: from postal.iol.unh.edu (postal.iol.unh.edu. [132.177.123.84]) by smtp-relay.gmail.com with ESMTPS id d9443c01a7336-26980045da2sm9063995ad.15.2025.09.22.10.14.25 (version=TLS1_2 cipher=ECDHE-ECDSA-AES128-GCM-SHA256 bits=128/128); Mon, 22 Sep 2025 10:14:25 -0700 (PDT) X-Relaying-Domain: iol.unh.edu Date: Mon, 22 Sep 2025 10:14:25 -0700 (PDT) Message-ID: <68d183f1.170a0220.c55d3.b833SMTPIN_ADDED_MISSING@mx.google.com> Received: from [172.21.0.2] (unknown [172.18.0.240]) by postal.iol.unh.edu (Postfix) with ESMTP id 1A0D8604D420; Mon, 22 Sep 2025 13:14:25 -0400 (EDT) Subject: |SUCCESS| [GIT MASTER] 9e36adf88c49b437c4c5ffa46158e53d96bef82c From: dpdklab@iol.unh.edu To: Test Report Cc: dpdk-test-reports@iol.unh.edu, Jerin Jacob Content-Type: text/plain X-BeenThere: test-report@dpdk.org X-Mailman-Version: 2.1.29 Precedence: list List-Id: automatic DPDK test reports List-Unsubscribe: , List-Archive: List-Post: List-Help: List-Subscribe: , Errors-To: test-report-bounces@dpdk.org _Testing PASS_ Branch: dpdk-next-eventdev 9e36adf88c49b437c4c5ffa46158e53d96bef82c --> testing pass Upstream job id: Windows-Compile-DPDK-Native#31128 Test environment and result as below: +-------------------------------+--------------------+------------------+-------------------+-------------------------+-------------------+----------------------+ | Environment | dpdk_meson_compile | dpdk_compile_ovs | dpdk_compile_spdk | dpdk_llvm_clang_compile | dpdk_msvc_compile | dpdk_mingw64_compile | +===============================+====================+==================+===================+=========================+===================+======================+ | FreeBSD 14.2 | PASS | SKIPPED | SKIPPED | SKIPPED | SKIPPED | SKIPPED | +-------------------------------+--------------------+------------------+-------------------+-------------------------+-------------------+----------------------+ | CentOS Stream 10 | PASS | SKIPPED | SKIPPED | SKIPPED | SKIPPED | SKIPPED | +-------------------------------+--------------------+------------------+-------------------+-------------------------+-------------------+----------------------+ | Fedora Linux 42 | PASS | PASS | PASS | SKIPPED | SKIPPED | SKIPPED | +-------------------------------+--------------------+------------------+-------------------+-------------------------+-------------------+----------------------+ | Ubuntu 20.04 | PASS | SKIPPED | SKIPPED | SKIPPED | SKIPPED | SKIPPED | +-------------------------------+--------------------+------------------+-------------------+-------------------------+-------------------+----------------------+ | CentOS Stream 9 | PASS | SKIPPED | PASS | SKIPPED | SKIPPED | SKIPPED | +-------------------------------+--------------------+------------------+-------------------+-------------------------+-------------------+----------------------+ | Red Hat Enterprise Linux 9.5 | PASS | SKIPPED | SKIPPED | SKIPPED | SKIPPED | SKIPPED | +-------------------------------+--------------------+------------------+-------------------+-------------------------+-------------------+----------------------+ | Debian GNU/Linux 12 | PASS | SKIPPED | PASS | SKIPPED | SKIPPED | SKIPPED | +-------------------------------+--------------------+------------------+-------------------+-------------------------+-------------------+----------------------+ | Ubuntu 24.04 | PASS | PASS | PASS | SKIPPED | SKIPPED | SKIPPED | +-------------------------------+--------------------+------------------+-------------------+-------------------------+-------------------+----------------------+ | openSUSE Leap 15.6 | PASS | SKIPPED | SKIPPED | SKIPPED | SKIPPED | SKIPPED | +-------------------------------+--------------------+------------------+-------------------+-------------------------+-------------------+----------------------+ | Red Hat Enterprise Linux 8.10 | PASS | SKIPPED | SKIPPED | SKIPPED | SKIPPED | SKIPPED | +-------------------------------+--------------------+------------------+-------------------+-------------------------+-------------------+----------------------+ | Ubuntu 22.04 | PASS | SKIPPED | PASS | SKIPPED | SKIPPED | SKIPPED | +-------------------------------+--------------------+------------------+-------------------+-------------------------+-------------------+----------------------+ | Alpine Linux 3.22.0 | PASS | SKIPPED | SKIPPED | SKIPPED | SKIPPED | SKIPPED | +-------------------------------+--------------------+------------------+-------------------+-------------------------+-------------------+----------------------+ | Windows Server 2022 | SKIPPED | SKIPPED | SKIPPED | PASS | PASS | PASS | +-------------------------------+--------------------+------------------+-------------------+-------------------------+-------------------+----------------------+ FreeBSD 14.2 Kernel: 14.2-RELEASE Compiler: clang 18.1.6 CentOS Stream 10 Kernel: 5.15 Compiler: gcc gcc (GCC) 14.2.1 20250110 (Red Hat 14.2.1-8) Fedora Linux 42 Kernel: 5.15 Compiler: gcc gcc (GCC) 15.2.1 20250808 (Red Hat 15.2.1-1) Ubuntu 20.04 Kernel: 4.19 Compiler: gcc gcc (Ubuntu 9.4.0-1ubuntu1~20.04.2) 9.4.0 CentOS Stream 9 Kernel: 5.15 Compiler: gcc gcc (GCC) 11.5.0 20240719 (Red Hat 11.5.0-11) Red Hat Enterprise Linux 9.5 Kernel: 5.15 Compiler: gcc gcc (GCC) 11.5.0 20240719 (Red Hat 11.5.0-2) Debian GNU/Linux 12 Kernel: 5.15 Compiler: gcc gcc (Debian 12.2.0-14+deb12u1) 12.2.0 Ubuntu 24.04 Kernel: 5.15 Compiler: gcc gcc (Ubuntu 13.3.0-6ubuntu2~24.04) 13.3.0 openSUSE Leap 15.6 Kernel: 5.15 Compiler: gcc gcc (SUSE Linux) 7.5.0 Red Hat Enterprise Linux 8.10 Kernel: 5.15 Compiler: gcc gcc (GCC) 8.5.0 20210514 (Red Hat 8.5.0-22) Ubuntu 22.04 Kernel: 5.15 Compiler: gcc gcc (Ubuntu 11.4.0-1ubuntu1~22.04) 11.4.0 Alpine Linux 3.22.0 Kernel: 5.15 Compiler: gcc gcc (Alpine 14.2.0) 14.2.0 Windows Server 2022 Kernel: 10.0.20348.2031 Compiler: clang 15.0.7, gcc 14.1.0 (MinGW), and MSVC VS 19.39.33521 To view detailed results, visit: https://lab.dpdk.org/results/dashboard/tarballs/34961/ UNH-IOL DPDK Community Lab To manage your email subscriptions, visit: https://lab.dpdk.org/results/dashboard/preferences/subscriptions/