From mboxrd@z Thu Jan 1 00:00:00 1970 Return-Path: Received: from mails.dpdk.org (mails.dpdk.org [217.70.189.124]) by inbox.dpdk.org (Postfix) with ESMTP id 3C15646F51 for ; Mon, 22 Sep 2025 19:23:48 +0200 (CEST) Received: from mails.dpdk.org (localhost [127.0.0.1]) by mails.dpdk.org (Postfix) with ESMTP id 2974140430; Mon, 22 Sep 2025 19:23:48 +0200 (CEST) Received: from mail-yw1-f228.google.com (mail-yw1-f228.google.com [209.85.128.228]) by mails.dpdk.org (Postfix) with ESMTP id D2B8740430 for ; Mon, 22 Sep 2025 19:23:46 +0200 (CEST) Received: by mail-yw1-f228.google.com with SMTP id 00721157ae682-749399349ddso16065807b3.3 for ; Mon, 22 Sep 2025 10:23:46 -0700 (PDT) DKIM-Signature: v=1; a=rsa-sha256; c=relaxed/relaxed; d=iol.unh.edu; s=unh-iol; t=1758561826; x=1759166626; darn=dpdk.org; h=cc:to:from:subject:message-id:date:from:to:cc:subject:date :message-id:reply-to; bh=OAOWt0pCPXFBZwJdQSOHRvyyQ3t9EcIyi1MWsZNaPtQ=; b=F6PWpIWyZSBOBjDvAyKJgElaX8lflPK4vblEGRReUusXBhCYPsI6RPG67xLmvLgGNf x8tAPiN89wkQcOQszCgIg64wqOX3XxTX4MGnnOJWcIVyIUrOo/5cxY+uECPPjWE1sa8A SokBnDqtn3houwc/+HjBcIo/75/xZRniT5Zr0= X-Google-DKIM-Signature: v=1; a=rsa-sha256; c=relaxed/relaxed; d=1e100.net; s=20230601; t=1758561826; x=1759166626; h=cc:to:from:subject:message-id:date:x-gm-message-state:from:to:cc :subject:date:message-id:reply-to; bh=OAOWt0pCPXFBZwJdQSOHRvyyQ3t9EcIyi1MWsZNaPtQ=; b=lTxk3RKRGxtOXiIsRa9LQ2KHg+MqIuSFshD5vjrUFcXp+WqfX0duVGBeawPAIzM9pB u1TOXDMrKm0g5fL5LDxhoxgbP94JSxgdUyw+fWMacZ863z2F+abzI5EPi6Ok2brbWXdg gFTq2fFcYSkrFoINiOVllj+46X+616NplDAJR42obVUVv/PisivbqsbcWzneV9j6RbEt 1jCzh+8VhngRAW/+hXH4PLyLavZyD0HmYYYUxy+lDp3CPxeyW9JyK2V3b94KBvYE8Igf i0kOh1x6EzX9ClsgvPWDa5EOdfrzoHlgirF4Mr9xLmz+XXqv6ZHXLOV+ZlpAbHapVq0n DuJA== X-Gm-Message-State: AOJu0YwVX5BFMXUI0a1cNi2BdsjmtAYC/KbCe9CUwz/fNGnqUVfyfqiI LooCH7XFv4p9qtowGz0SYHQAL9wR/cCQI28yIr1Gr/lGbsuEyEyV6z9d51jlAFsyJPEnKgP21WT CngKox7Hv7glh33+W9umdUKj+A24pTSkJFwJtHX+YxmiSPEq1NfAyuVhNzLg6 X-Gm-Gg: ASbGncsYQp7IuqSzgUzYKctLiCjJG6JjwhyMAAAULV+WCJs/hYWq0KbcUhLsOFRsSfd OJgdktvBdv6g+YVekGlmfLR1QJwgAEWENjIIGu/XvgikcQEy0+NzXsn6zSONCr5fEUFLTO+7l2G pTJJSQ+hiJeS+bXdmYK2F6xZ37vfB+FKxfEMK/L9pzCJTXYW/oA9PYleNmEdXxmHN7Y2QmnMSHM yX+0mcSaLYXQNVYP84YZaNH0DnruzRsKeLvbrXdviRhFxE3+rdqfLDFPf1RkxIg9jr/o5NLNxc9 ykSsJ7KrCEpnh9+oIjB7pk9C1P/0BTAQULDBzib652J54TuUtg== X-Google-Smtp-Source: AGHT+IHBkgiHKdXOtg2ZZN03rG51OoVOiih6uz4j018Z1wpoCVYSsUEPOstIEm6hDlUN5R4K2C2W75o7ri38 X-Received: by 2002:a05:690c:7343:b0:723:97ed:b2d6 with SMTP id 00721157ae682-73d376159e1mr117835397b3.24.1758561825922; Mon, 22 Sep 2025 10:23:45 -0700 (PDT) Received: from postal.iol.unh.edu (postal.iol.unh.edu. [2606:4100:3880:1234::84]) by smtp-relay.gmail.com with ESMTPS id 00721157ae682-73971982ce4sm5164847b3.38.2025.09.22.10.23.45 (version=TLS1_2 cipher=ECDHE-ECDSA-AES128-GCM-SHA256 bits=128/128); Mon, 22 Sep 2025 10:23:45 -0700 (PDT) X-Relaying-Domain: iol.unh.edu Date: Mon, 22 Sep 2025 10:23:45 -0700 (PDT) Message-ID: <68d18621.050a0220.b03ec.1df3SMTPIN_ADDED_MISSING@mx.google.com> Received: from [172.21.0.2] (unknown [172.18.0.240]) by postal.iol.unh.edu (Postfix) with ESMTP id 9126B6051830; Mon, 22 Sep 2025 13:23:45 -0400 (EDT) Subject: |SUCCESS| [GIT MASTER] 9e36adf88c49b437c4c5ffa46158e53d96bef82c From: dpdklab@iol.unh.edu To: Test Report Cc: dpdk-test-reports@iol.unh.edu, Jerin Jacob Content-Type: text/plain X-BeenThere: test-report@dpdk.org X-Mailman-Version: 2.1.29 Precedence: list List-Id: automatic DPDK test reports List-Unsubscribe: , List-Archive: List-Post: List-Help: List-Subscribe: , Errors-To: test-report-bounces@dpdk.org _Testing PASS_ Branch: dpdk-next-eventdev 9e36adf88c49b437c4c5ffa46158e53d96bef82c --> testing pass Upstream job id: Generic-VM-Unit-Test-DPDK#31296 Test environment and result as below: +-------------------------------+----------------+ | Environment | dpdk_unit_test | +===============================+================+ | Fedora Linux 40 | PASS | +-------------------------------+----------------+ | Ubuntu 22.04 | PASS | +-------------------------------+----------------+ | Ubuntu 20.04 | PASS | +-------------------------------+----------------+ | Fedora Linux 41 | PASS | +-------------------------------+----------------+ | Fedora Linux 42 | PASS | +-------------------------------+----------------+ | CentOS Stream 9 | PASS | +-------------------------------+----------------+ | CentOS Stream 10 | PASS | +-------------------------------+----------------+ | Red Hat Enterprise Linux 9.5 | PASS | +-------------------------------+----------------+ | Ubuntu 24.04 | PASS | +-------------------------------+----------------+ | Red Hat Enterprise Linux 8.10 | PASS | +-------------------------------+----------------+ | Debian GNU/Linux 12 | PASS | +-------------------------------+----------------+ | Windows Server 2022 | PASS | +-------------------------------+----------------+ Fedora Linux 40 Kernel: 5.15 Compiler: gcc gcc (GCC) 14.2.1 20240912 (Red Hat 14.2.1-3) Ubuntu 22.04 Kernel: 5.15 Compiler: gcc gcc (Ubuntu 11.4.0-1ubuntu1~22.04) 11.4.0 Ubuntu 20.04 Kernel: 5.15 Compiler: gcc gcc (Ubuntu 9.4.0-1ubuntu1~20.04.2) 9.4.0 Fedora Linux 41 Kernel: 5.15 Compiler: gcc gcc (GCC) 14.3.1 20250523 (Red Hat 14.3.1-1) Fedora Linux 42 Kernel: 5.15 Compiler: clang gcc (GCC) 15.2.1 20250808 (Red Hat 15.2.1-1) CentOS Stream 9 Kernel: 5.15 Compiler: gcc gcc (GCC) 11.5.0 20240719 (Red Hat 11.5.0-11) CentOS Stream 10 Kernel: 5.15 Compiler: gcc gcc (GCC) 14.2.1 20250110 (Red Hat 14.2.1-8) Red Hat Enterprise Linux 9.5 Kernel: 5.15 Compiler: gcc gcc (GCC) 11.5.0 20240719 (Red Hat 11.5.0-2) Ubuntu 24.04 Kernel: 5.15 Compiler: gcc gcc (Ubuntu 13.3.0-6ubuntu2~24.04) 13.3.0 Red Hat Enterprise Linux 8.10 Kernel: 5.15 Compiler: gcc gcc (GCC) 8.5.0 20210514 (Red Hat 8.5.0-22) Debian GNU/Linux 12 Kernel: 5.15 Compiler: gcc gcc (Debian 12.2.0-14+deb12u1) 12.2.0 Windows Server 2022 Kernel: 10.0.20348.2031 Compiler: clang 15.0.7, gcc 14.1.0 (MinGW), and MSVC VS 19.39.33521 To view detailed results, visit: https://lab.dpdk.org/results/dashboard/tarballs/34961/ UNH-IOL DPDK Community Lab To manage your email subscriptions, visit: https://lab.dpdk.org/results/dashboard/preferences/subscriptions/