automatic DPDK test reports
 help / color / mirror / Atom feed
From: dpdklab@iol.unh.edu
To: Test Report <test-report@dpdk.org>
Cc: dpdk-test-reports@iol.unh.edu, Jerin Jacob <jerinj@marvell.com>
Subject: |SUCCESS| [GIT MASTER] 9e36adf88c49b437c4c5ffa46158e53d96bef82c
Date: Mon, 22 Sep 2025 10:28:17 -0700 (PDT)	[thread overview]
Message-ID: <68d18731.050a0220.10c0b1.b902SMTPIN_ADDED_MISSING@mx.google.com> (raw)

_Testing PASS_

Branch: dpdk-next-eventdev

9e36adf88c49b437c4c5ffa46158e53d96bef82c --> testing pass

Upstream job id: Generic-VM-Unit-Test-DPDK#31297

Test environment and result as below:

+-------------------------------+----------------+
|          Environment          | dpdk_unit_test |
+===============================+================+
| Fedora Linux 40               | PASS           |
+-------------------------------+----------------+
| Ubuntu 22.04                  | PASS           |
+-------------------------------+----------------+
| Ubuntu 20.04                  | PASS           |
+-------------------------------+----------------+
| Fedora Linux 41               | PASS           |
+-------------------------------+----------------+
| Fedora Linux 42               | PASS           |
+-------------------------------+----------------+
| CentOS Stream 9               | PASS           |
+-------------------------------+----------------+
| CentOS Stream 10              | PASS           |
+-------------------------------+----------------+
| Red Hat Enterprise Linux 9.5  | PASS           |
+-------------------------------+----------------+
| Ubuntu 24.04                  | PASS           |
+-------------------------------+----------------+
| Red Hat Enterprise Linux 8.10 | PASS           |
+-------------------------------+----------------+
| Debian GNU/Linux 12           | PASS           |
+-------------------------------+----------------+
| Windows Server 2022           | PASS           |
+-------------------------------+----------------+


Fedora Linux 40
	Kernel: 5.15
	Compiler: gcc gcc (GCC) 14.2.1 20240912 (Red Hat 14.2.1-3)

Ubuntu 22.04
	Kernel: 5.15
	Compiler: gcc gcc (Ubuntu 11.4.0-1ubuntu1~22.04) 11.4.0

Ubuntu 20.04
	Kernel: 5.15
	Compiler: gcc gcc (Ubuntu 9.4.0-1ubuntu1~20.04.2) 9.4.0

Fedora Linux 41
	Kernel: 5.15
	Compiler: gcc gcc (GCC) 14.3.1 20250523 (Red Hat 14.3.1-1)

Fedora Linux 42
	Kernel: 5.15
	Compiler: clang gcc (GCC) 15.2.1 20250808 (Red Hat 15.2.1-1)

CentOS Stream 9
	Kernel: 5.15
	Compiler: gcc gcc (GCC) 11.5.0 20240719 (Red Hat 11.5.0-11)

CentOS Stream 10
	Kernel: 5.15
	Compiler: gcc gcc (GCC) 14.2.1 20250110 (Red Hat 14.2.1-8)

Red Hat Enterprise Linux 9.5
	Kernel: 5.15
	Compiler: gcc gcc (GCC) 11.5.0 20240719 (Red Hat 11.5.0-2)

Ubuntu 24.04
	Kernel: 5.15
	Compiler: gcc gcc (Ubuntu 13.3.0-6ubuntu2~24.04) 13.3.0

Red Hat Enterprise Linux 8.10
	Kernel: 5.15
	Compiler: gcc gcc (GCC) 8.5.0 20210514 (Red Hat 8.5.0-22)

Debian GNU/Linux 12
	Kernel: 5.15
	Compiler: gcc gcc (Debian 12.2.0-14+deb12u1) 12.2.0

Windows Server 2022
	Kernel: 10.0.20348.2031
	Compiler: clang 15.0.7, gcc 14.1.0 (MinGW), and MSVC VS 19.39.33521

To view detailed results, visit:
https://lab.dpdk.org/results/dashboard/tarballs/34961/

UNH-IOL DPDK Community Lab

To manage your email subscriptions, visit: 
https://lab.dpdk.org/results/dashboard/preferences/subscriptions/

             reply	other threads:[~2025-09-22 17:28 UTC|newest]

Thread overview: 50+ messages / expand[flat|nested]  mbox.gz  Atom feed  top
2025-09-22 17:28 dpdklab [this message]
  -- strict thread matches above, loose matches on Subject: below --
2025-10-02 20:31 dpdklab
2025-09-28 18:10 dpdklab
2025-09-28 18:10 dpdklab
2025-09-28 17:58 dpdklab
2025-09-28 17:25 dpdklab
2025-09-28 17:21 dpdklab
2025-09-28 17:03 dpdklab
2025-09-28 17:03 dpdklab
2025-09-28 17:01 dpdklab
2025-09-28 16:51 dpdklab
2025-09-28 16:50 dpdklab
2025-09-22 19:56 dpdklab
2025-09-22 18:20 dpdklab
2025-09-22 17:25 dpdklab
2025-09-22 17:23 dpdklab
2025-09-22 17:20 dpdklab
2025-09-22 17:14 dpdklab
2025-09-22 17:13 dpdklab
2025-09-22 17:03 dpdklab
2025-09-22 17:03 dpdklab
2025-09-22 17:02 dpdklab
2025-09-22 17:01 dpdklab
2025-09-22 16:51 dpdklab
2025-09-22 16:50 dpdklab
2025-09-22  3:23 dpdklab
2025-09-22  1:58 dpdklab
2025-09-22  1:02 dpdklab
2025-09-22  0:57 dpdklab
2025-09-22  0:54 dpdklab
2025-09-22  0:36 dpdklab
2025-09-22  0:36 dpdklab
2025-09-22  0:36 dpdklab
2025-09-22  0:34 dpdklab
2025-09-22  0:24 dpdklab
2025-09-22  0:23 dpdklab
2025-09-20  7:06 dpdklab
2025-09-20  3:25 dpdklab
2025-09-20  1:02 dpdklab
2025-09-20  0:58 dpdklab
2025-09-20  0:56 dpdklab
2025-09-20  0:55 dpdklab
2025-09-20  0:53 dpdklab
2025-09-20  0:39 dpdklab
2025-09-20  0:36 dpdklab
2025-09-20  0:36 dpdklab
2025-09-20  0:36 dpdklab
2025-09-20  0:33 dpdklab
2025-09-20  0:25 dpdklab
2025-09-20  0:23 dpdklab

Reply instructions:

You may reply publicly to this message via plain-text email
using any one of the following methods:

* Save the following mbox file, import it into your mail client,
  and reply-to-all from there: mbox

  Avoid top-posting and favor interleaved quoting:
  https://en.wikipedia.org/wiki/Posting_style#Interleaved_style

* Reply using the --to, --cc, and --in-reply-to
  switches of git-send-email(1):

  git send-email \
    --in-reply-to=68d18731.050a0220.10c0b1.b902SMTPIN_ADDED_MISSING@mx.google.com \
    --to=dpdklab@iol.unh.edu \
    --cc=dpdk-test-reports@iol.unh.edu \
    --cc=jerinj@marvell.com \
    --cc=test-report@dpdk.org \
    /path/to/YOUR_REPLY

  https://kernel.org/pub/software/scm/git/docs/git-send-email.html

* If your mail client supports setting the In-Reply-To header
  via mailto: links, try the mailto: link
Be sure your reply has a Subject: header at the top and a blank line before the message body.
This is a public inbox, see mirroring instructions
for how to clone and mirror all data and code used for this inbox;
as well as URLs for NNTP newsgroup(s).